Workbook

Sheet Rekapitulácia
A2: Rekapitulácia rozpočtu | F2: Sadzby DPH
F3: A | G3: B
F4: 0.23 | G4: 0
A6: Názov objektu | B6: ZRN | C6: VRN | D6: HZS | E6: Kompl.čin. | F6: Ostatné náklady stavby | G6: Cena
A7: SO 01 - HLAVNÝ OBJEKT - ASR | B7: ='SO 01 - HLAVNÝ OBJEKT - A17188'!I330-Rekapitulácia!D7 -> 0 | C7: ='SO 01 - HLAVNÝ OBJEKT - A17188'!P25 -> 0 | D7: ='SO 01 - HLAVNÝ OBJEKT - A17188'!P17 -> 0 | E7: ='SO 01 - HLAVNÝ OBJEKT - A17188'!P16 -> 0 | F7: ='SO 01 - HLAVNÝ OBJEKT - A17188'!P14 -> 0 | G7: =B7+C7+D7+E7+F7 -> 0 | K7: ='SO 01 - HLAVNÝ OBJEKT - A17188'!K330 -> 0 | Q7: 30.126
A8: SO 01 - HLAVNÝ OBJEKT - Bleskozvod | B8: ='SO 01 - HLAVNÝ OBJEKT - B17189'!I119-Rekapitulácia!D8 -> 0 | C8: ='SO 01 - HLAVNÝ OBJEKT - B17189'!P25 -> 0 | D8: ='SO 01 - HLAVNÝ OBJEKT - B17189'!P17 -> 0 | E8: ='SO 01 - HLAVNÝ OBJEKT - B17189'!P16 -> 0 | F8: ='SO 01 - HLAVNÝ OBJEKT - B17189'!P14 -> 0 | G8: =B8+C8+D8+E8+F8 -> 0 | K8: ='SO 01 - HLAVNÝ OBJEKT - B17189'!K119 -> 0 | Q8: 30.126
A9: SO 01 - HLAVNÝ OBJEKT - Elektroinštalácia | B9: ='SO 01 - HLAVNÝ OBJEKT - E17190'!I174-Rekapitulácia!D9 -> 0 | C9: ='SO 01 - HLAVNÝ OBJEKT - E17190'!P25 -> 0 | D9: ='SO 01 - HLAVNÝ OBJEKT - E17190'!P17 -> 0 | E9: ='SO 01 - HLAVNÝ OBJEKT - E17190'!P16 -> 0 | F9: ='SO 01 - HLAVNÝ OBJEKT - E17190'!P14 -> 0 | G9: =B9+C9+D9+E9+F9 -> 0 | K9: ='SO 01 - HLAVNÝ OBJEKT - E17190'!K174 -> 0 | Q9: 30.126
A10: SO 01 - HLAVNÝ OBJEKT - VZT | B10: ='SO 01 - HLAVNÝ OBJEKT - 17191'!I80-Rekapitulácia!D10 -> 0 | C10: ='SO 01 - HLAVNÝ OBJEKT - 17191'!P25 -> 0 | D10: ='SO 01 - HLAVNÝ OBJEKT - 17191'!P17 -> 0 | E10: ='SO 01 - HLAVNÝ OBJEKT - 17191'!P16 -> 0 | F10: ='SO 01 - HLAVNÝ OBJEKT - 17191'!P14 -> 0 | G10: =B10+C10+D10+E10+F10 -> 0 | K10: ='SO 01 - HLAVNÝ OBJEKT - 17191'!K80 -> 0 | Q10: 30.126
A11: SO 01 - HLAVNÝ OBJEKT - ZTI - Zdravotechnika | B11: ='SO 01 - HLAVNÝ OBJEKT - Z17192'!I240-Rekapitulácia!D11 -> 0 | C11: ='SO 01 - HLAVNÝ OBJEKT - Z17192'!P25 -> 0 | D11: ='SO 01 - HLAVNÝ OBJEKT - Z17192'!P17 -> 0 | E11: ='SO 01 - HLAVNÝ OBJEKT - Z17192'!P16 -> 0 | F11: ='SO 01 - HLAVNÝ OBJEKT - Z17192'!P14 -> 0 | G11: =B11+C11+D11+E11+F11 -> 0 | K11: ='SO 01 - HLAVNÝ OBJEKT - Z17192'!K240 -> 0 | Q11: 30.126
A12: SO 01 - HLAVNÝ OBJEKT - ZTI - Rozvody vody, kanál. a techn. potrubia v zákaldoch | B12: ='SO 01 - HLAVNÝ OBJEKT - Z17193'!I160-Rekapitulácia!D12 -> 0 | C12: ='SO 01 - HLAVNÝ OBJEKT - Z17193'!P25 -> 0 | D12: ='SO 01 - HLAVNÝ OBJEKT - Z17193'!P17 -> 0 | E12: ='SO 01 - HLAVNÝ OBJEKT - Z17193'!P16 -> 0 | F12: ='SO 01 - HLAVNÝ OBJEKT - Z17193'!P14 -> 0 | G12: =B12+C12+D12+E12+F12 -> 0 | K12: ='SO 01 - HLAVNÝ OBJEKT - Z17193'!K160 -> 0 | Q12: 30.126
A13: SO 02 - SPEVNENÁ A ODSTAVNÁ PLOCHA | B13: ='SO 02 - SPEVNENÁ A ODSTAV17194'!I138-Rekapitulácia!D13 -> 0 | C13: ='SO 02 - SPEVNENÁ A ODSTAV17194'!P25 -> 0 | D13: ='SO 02 - SPEVNENÁ A ODSTAV17194'!P17 -> 0 | E13: ='SO 02 - SPEVNENÁ A ODSTAV17194'!P16 -> 0 | F13: ='SO 02 - SPEVNENÁ A ODSTAV17194'!P14 -> 0 | G13: =B13+C13+D13+E13+F13 -> 0 | K13: ='SO 02 - SPEVNENÁ A ODSTAV17194'!K138 -> 0 | Q13: 30.126
A14: SO 03 - VODOVODNÁ PRÍPOJKA A PROTIPOŽIARNÉ ZABEZPEČENIE | B14: ='SO 03 - VODOVODNÁ PRÍPOJK17195'!I138-Rekapitulácia!D14 -> 0 | C14: ='SO 03 - VODOVODNÁ PRÍPOJK17195'!P25 -> 0 | D14: ='SO 03 - VODOVODNÁ PRÍPOJK17195'!P17 -> 0 | E14: ='SO 03 - VODOVODNÁ PRÍPOJK17195'!P16 -> 0 | F14: ='SO 03 - VODOVODNÁ PRÍPOJK17195'!P14 -> 0 | G14: =B14+C14+D14+E14+F14 -> 0 | K14: ='SO 03 - VODOVODNÁ PRÍPOJK17195'!K138 -> 0 | Q14: 30.126
A15: SO 04 - KANALIZAČNÁ PRÍPOJKA | B15: ='SO 04 - KANALIZAČNÁ PRÍPO17196'!I132-Rekapitulácia!D15 -> 0 | C15: ='SO 04 - KANALIZAČNÁ PRÍPO17196'!P25 -> 0 | D15: ='SO 04 - KANALIZAČNÁ PRÍPO17196'!P17 -> 0 | E15: ='SO 04 - KANALIZAČNÁ PRÍPO17196'!P16 -> 0 | F15: ='SO 04 - KANALIZAČNÁ PRÍPO17196'!P14 -> 0 | G15: =B15+C15+D15+E15+F15 -> 0 | K15: ='SO 04 - KANALIZAČNÁ PRÍPO17196'!K132 -> 0 | Q15: 30.126
A16: SO 05 - OEZ (ODBERNÉ ELEKTRICKÉ ZARIADENIE) | B16: ='SO 05 - OEZ (ODBERNÉ ELEK17197'!I100-Rekapitulácia!D16 -> 0 | C16: ='SO 05 - OEZ (ODBERNÉ ELEK17197'!P25 -> 0 | D16: ='SO 05 - OEZ (ODBERNÉ ELEK17197'!P17 -> 0 | E16: ='SO 05 - OEZ (ODBERNÉ ELEK17197'!P16 -> 0 | F16: ='SO 05 - OEZ (ODBERNÉ ELEK17197'!P14 -> 0 | G16: =B16+C16+D16+E16+F16 -> 0 | K16: ='SO 05 - OEZ (ODBERNÉ ELEK17197'!K100 -> 0 | Q16: 30.126
A17: Celkom bez DPH | B17: =SUM(B7:B16) -> 0 | C17: =SUM(C7:C16) -> 0 | D17: =SUM(D7:D16) -> 0 | E17: =SUM(E7:E16) -> 0 | F17: =SUM(F7:F16) -> 0 | G17: =SUM(G7:G16)-SUM(Z7:Z16) -> 0
A18: DPH 23% z | B18: =G17-SUM(Rekapitulácia!K7:'Rekapitulácia'!K16)*1 -> 0 | G18: =ROUND(((ROUND(B18,2)*23)/100),2)*1 -> 0
A19: DPH 0% z | B19: =(G17-B18) -> 0 | G19: =ROUND(((ROUND(B19,2)*0)/100),2) -> 0
A20: Celkom v EUR | G20: =SUM(G17:G19) -> 0

Sheet Krycí list stavby
W1: 30.126
B2: Krycí list stavby
B3: Stavba Centrum služieb pre zlepšenie fyzickej a pohybovej zdatnosti obyvateľov
F4: Miesto:
F5: Ks:
B6: Zákazka: | D6: Spracoval: Ing. Ján Halgaš | F6: Dňa | G6: 21. 1. 2025
B7: Odberateľ: Športový klub Miko fit-box
B8: IČO: 42383625 | F8: DIČ:
B9: Projektant: D. D. - ARCH s. r. o.
B10: IČO: | F10: DIČ:
B11: Dodávateľ: ...
B12: IČO: | F12: DIČ:
B14: ZRN | C14: Montáž | D14: Materiál | E14: ZRN spolu | F14: Ostatné náklady stavby | I14: ='SO 01 - HLAVNÝ OBJEKT - A17188'!P14+'SO 01 - HLAVNÝ OBJEKT - B17189'!P14+'SO 01 - HLAVNÝ OBJEKT - E17190'!P14+'SO 01 - HLAVNÝ OBJEKT - 17191'!P14+'SO 01 - HLAVNÝ OBJEKT - Z17192'!P14+'SO 01 - HLAVNÝ OBJEKT - Z17193'!P14+'SO 02 - SPEVNENÁ A ODSTAV17194'!P14+'SO 03 - VODOVODNÁ PRÍPOJK17195'!P14+'SO 04 - KANALIZAČNÁ PRÍPO17196'!P14+'SO 05 - OEZ (ODBERNÉ ELEK17197'!P14 -> 0
B15: HSV | C15: ='SO 01 - HLAVNÝ OBJEKT - A17188'!C15+'SO 01 - HLAVNÝ OBJEKT - B17189'!C15+'SO 01 - HLAVNÝ OBJEKT - E17190'!C15+'SO 01 - HLAVNÝ OBJEKT - 17191'!C15+'SO 01 - HLAVNÝ OBJEKT - Z17192'!C15+'SO 01 - HLAVNÝ OBJEKT - Z17193'!C15+'SO 02 - SPEVNENÁ A ODSTAV17194'!C15+'SO 03 - VODOVODNÁ PRÍPOJK17195'!C15+'SO 04 - KANALIZAČNÁ PRÍPO17196'!C15+'SO 05 - OEZ (ODBERNÉ ELEK17197'!C15 -> 0 | D15: ='SO 01 - HLAVNÝ OBJEKT - A17188'!D15+'SO 01 - HLAVNÝ OBJEKT - B17189'!D15+'SO 01 - HLAVNÝ OBJEKT - E17190'!D15+'SO 01 - HLAVNÝ OBJEKT - 17191'!D15+'SO 01 - HLAVNÝ OBJEKT - Z17192'!D15+'SO 01 - HLAVNÝ OBJEKT - Z17193'!D15+'SO 02 - SPEVNENÁ A ODSTAV17194'!D15+'SO 03 - VODOVODNÁ PRÍPOJK17195'!D15+'SO 04 - KANALIZAČNÁ PRÍPO17196'!D15+'SO 05 - OEZ (ODBERNÉ ELEK17197'!D15 -> 0 | E15: ='SO 01 - HLAVNÝ OBJEKT - A17188'!E15+'SO 01 - HLAVNÝ OBJEKT - B17189'!E15+'SO 01 - HLAVNÝ OBJEKT - E17190'!E15+'SO 01 - HLAVNÝ OBJEKT - 17191'!E15+'SO 01 - HLAVNÝ OBJEKT - Z17192'!E15+'SO 01 - HLAVNÝ OBJEKT - Z17193'!E15+'SO 02 - SPEVNENÁ A ODSTAV17194'!E15+'SO 03 - VODOVODNÁ PRÍPOJK17195'!E15+'SO 04 - KANALIZAČNÁ PRÍPO17196'!E15+'SO 05 - OEZ (ODBERNÉ ELEK17197'!E15 -> 0
B16: PSV | C16: ='SO 01 - HLAVNÝ OBJEKT - A17188'!C16+'SO 01 - HLAVNÝ OBJEKT - B17189'!C16+'SO 01 - HLAVNÝ OBJEKT - E17190'!C16+'SO 01 - HLAVNÝ OBJEKT - 17191'!C16+'SO 01 - HLAVNÝ OBJEKT - Z17192'!C16+'SO 01 - HLAVNÝ OBJEKT - Z17193'!C16+'SO 02 - SPEVNENÁ A ODSTAV17194'!C16+'SO 03 - VODOVODNÁ PRÍPOJK17195'!C16+'SO 04 - KANALIZAČNÁ PRÍPO17196'!C16+'SO 05 - OEZ (ODBERNÉ ELEK17197'!C16 -> 0 | D16: ='SO 01 - HLAVNÝ OBJEKT - A17188'!D16+'SO 01 - HLAVNÝ OBJEKT - B17189'!D16+'SO 01 - HLAVNÝ OBJEKT - E17190'!D16+'SO 01 - HLAVNÝ OBJEKT - 17191'!D16+'SO 01 - HLAVNÝ OBJEKT - Z17192'!D16+'SO 01 - HLAVNÝ OBJEKT - Z17193'!D16+'SO 02 - SPEVNENÁ A ODSTAV17194'!D16+'SO 03 - VODOVODNÁ PRÍPOJK17195'!D16+'SO 04 - KANALIZAČNÁ PRÍPO17196'!D16+'SO 05 - OEZ (ODBERNÉ ELEK17197'!D16 -> 0 | E16: ='SO 01 - HLAVNÝ OBJEKT - A17188'!E16+'SO 01 - HLAVNÝ OBJEKT - B17189'!E16+'SO 01 - HLAVNÝ OBJEKT - E17190'!E16+'SO 01 - HLAVNÝ OBJEKT - 17191'!E16+'SO 01 - HLAVNÝ OBJEKT - Z17192'!E16+'SO 01 - HLAVNÝ OBJEKT - Z17193'!E16+'SO 02 - SPEVNENÁ A ODSTAV17194'!E16+'SO 03 - VODOVODNÁ PRÍPOJK17195'!E16+'SO 04 - KANALIZAČNÁ PRÍPO17196'!E16+'SO 05 - OEZ (ODBERNÉ ELEK17197'!E16 -> 0 | F16: Komplet. činnosť | I16: =Rekapitulácia!E17 -> 0
B17: MONT | C17: ='SO 01 - HLAVNÝ OBJEKT - A17188'!C17+'SO 01 - HLAVNÝ OBJEKT - B17189'!C17+'SO 01 - HLAVNÝ OBJEKT - E17190'!C17+'SO 01 - HLAVNÝ OBJEKT - 17191'!C17+'SO 01 - HLAVNÝ OBJEKT - Z17192'!C17+'SO 01 - HLAVNÝ OBJEKT - Z17193'!C17+'SO 02 - SPEVNENÁ A ODSTAV17194'!C17+'SO 03 - VODOVODNÁ PRÍPOJK17195'!C17+'SO 04 - KANALIZAČNÁ PRÍPO17196'!C17+'SO 05 - OEZ (ODBERNÉ ELEK17197'!C17 -> 0 | D17: ='SO 01 - HLAVNÝ OBJEKT - A17188'!D17+'SO 01 - HLAVNÝ OBJEKT - B17189'!D17+'SO 01 - HLAVNÝ OBJEKT - E17190'!D17+'SO 01 - HLAVNÝ OBJEKT - 17191'!D17+'SO 01 - HLAVNÝ OBJEKT - Z17192'!D17+'SO 01 - HLAVNÝ OBJEKT - Z17193'!D17+'SO 02 - SPEVNENÁ A ODSTAV17194'!D17+'SO 03 - VODOVODNÁ PRÍPOJK17195'!D17+'SO 04 - KANALIZAČNÁ PRÍPO17196'!D17+'SO 05 - OEZ (ODBERNÉ ELEK17197'!D17 -> 0 | E17: ='SO 01 - HLAVNÝ OBJEKT - A17188'!E17+'SO 01 - HLAVNÝ OBJEKT - B17189'!E17+'SO 01 - HLAVNÝ OBJEKT - E17190'!E17+'SO 01 - HLAVNÝ OBJEKT - 17191'!E17+'SO 01 - HLAVNÝ OBJEKT - Z17192'!E17+'SO 01 - HLAVNÝ OBJEKT - Z17193'!E17+'SO 02 - SPEVNENÁ A ODSTAV17194'!E17+'SO 03 - VODOVODNÁ PRÍPOJK17195'!E17+'SO 04 - KANALIZAČNÁ PRÍPO17196'!E17+'SO 05 - OEZ (ODBERNÉ ELEK17197'!E17 -> 0 | F17: HZS | I17: =Rekapitulácia!D17 -> 0
B18: OST | C18: ='SO 01 - HLAVNÝ OBJEKT - A17188'!C18+'SO 01 - HLAVNÝ OBJEKT - B17189'!C18+'SO 01 - HLAVNÝ OBJEKT - E17190'!C18+'SO 01 - HLAVNÝ OBJEKT - 17191'!C18+'SO 01 - HLAVNÝ OBJEKT - Z17192'!C18+'SO 01 - HLAVNÝ OBJEKT - Z17193'!C18+'SO 02 - SPEVNENÁ A ODSTAV17194'!C18+'SO 03 - VODOVODNÁ PRÍPOJK17195'!C18+'SO 04 - KANALIZAČNÁ PRÍPO17196'!C18+'SO 05 - OEZ (ODBERNÉ ELEK17197'!C18 -> 0 | D18: ='SO 01 - HLAVNÝ OBJEKT - A17188'!D18+'SO 01 - HLAVNÝ OBJEKT - B17189'!D18+'SO 01 - HLAVNÝ OBJEKT - E17190'!D18+'SO 01 - HLAVNÝ OBJEKT - 17191'!D18+'SO 01 - HLAVNÝ OBJEKT - Z17192'!D18+'SO 01 - HLAVNÝ OBJEKT - Z17193'!D18+'SO 02 - SPEVNENÁ A ODSTAV17194'!D18+'SO 03 - VODOVODNÁ PRÍPOJK17195'!D18+'SO 04 - KANALIZAČNÁ PRÍPO17196'!D18+'SO 05 - OEZ (ODBERNÉ ELEK17197'!D18 -> 0 | E18: ='SO 01 - HLAVNÝ OBJEKT - A17188'!E18+'SO 01 - HLAVNÝ OBJEKT - B17189'!E18+'SO 01 - HLAVNÝ OBJEKT - E17190'!E18+'SO 01 - HLAVNÝ OBJEKT - 17191'!E18+'SO 01 - HLAVNÝ OBJEKT - Z17192'!E18+'SO 01 - HLAVNÝ OBJEKT - Z17193'!E18+'SO 02 - SPEVNENÁ A ODSTAV17194'!E18+'SO 03 - VODOVODNÁ PRÍPOJK17195'!E18+'SO 04 - KANALIZAČNÁ PRÍPO17196'!E18+'SO 05 - OEZ (ODBERNÉ ELEK17197'!E18 -> 0
B19: VN | C19: ='SO 01 - HLAVNÝ OBJEKT - A17188'!C19+'SO 01 - HLAVNÝ OBJEKT - B17189'!C19+'SO 01 - HLAVNÝ OBJEKT - E17190'!C19+'SO 01 - HLAVNÝ OBJEKT - 17191'!C19+'SO 01 - HLAVNÝ OBJEKT - Z17192'!C19+'SO 01 - HLAVNÝ OBJEKT - Z17193'!C19+'SO 02 - SPEVNENÁ A ODSTAV17194'!C19+'SO 03 - VODOVODNÁ PRÍPOJK17195'!C19+'SO 04 - KANALIZAČNÁ PRÍPO17196'!C19+'SO 05 - OEZ (ODBERNÉ ELEK17197'!C19 -> 0 | D19: ='SO 01 - HLAVNÝ OBJEKT - A17188'!D19+'SO 01 - HLAVNÝ OBJEKT - B17189'!D19+'SO 01 - HLAVNÝ OBJEKT - E17190'!D19+'SO 01 - HLAVNÝ OBJEKT - 17191'!D19+'SO 01 - HLAVNÝ OBJEKT - Z17192'!D19+'SO 01 - HLAVNÝ OBJEKT - Z17193'!D19+'SO 02 - SPEVNENÁ A ODSTAV17194'!D19+'SO 03 - VODOVODNÁ PRÍPOJK17195'!D19+'SO 04 - KANALIZAČNÁ PRÍPO17196'!D19+'SO 05 - OEZ (ODBERNÉ ELEK17197'!D19 -> 0 | E19: ='SO 01 - HLAVNÝ OBJEKT - A17188'!E19+'SO 01 - HLAVNÝ OBJEKT - B17189'!E19+'SO 01 - HLAVNÝ OBJEKT - E17190'!E19+'SO 01 - HLAVNÝ OBJEKT - 17191'!E19+'SO 01 - HLAVNÝ OBJEKT - Z17192'!E19+'SO 01 - HLAVNÝ OBJEKT - Z17193'!E19+'SO 02 - SPEVNENÁ A ODSTAV17194'!E19+'SO 03 - VODOVODNÁ PRÍPOJK17195'!E19+'SO 04 - KANALIZAČNÁ PRÍPO17196'!E19+'SO 05 - OEZ (ODBERNÉ ELEK17197'!E19 -> 0
B20: Spolu | E20: =SUM(E15:E19) -> 0 | F20: Spolu | I20: =SUM(I14:I18) -> 0
B21: VRN | F21: VRN
B22: Zariadenie staveniska | E22: ='SO 01 - HLAVNÝ OBJEKT - A17188'!E21+'SO 01 - HLAVNÝ OBJEKT - B17189'!E21+'SO 01 - HLAVNÝ OBJEKT - E17190'!E21+'SO 01 - HLAVNÝ OBJEKT - 17191'!E21+'SO 01 - HLAVNÝ OBJEKT - Z17192'!E21+'SO 01 - HLAVNÝ OBJEKT - Z17193'!E21+'SO 02 - SPEVNENÁ A ODSTAV17194'!E21+'SO 03 - VODOVODNÁ PRÍPOJK17195'!E21+'SO 04 - KANALIZAČNÁ PRÍPO17196'!E21+'SO 05 - OEZ (ODBERNÉ ELEK17197'!E21 -> 0 | F22: Sťažené podmienky dopravy | I22: ='SO 01 - HLAVNÝ OBJEKT - A17188'!P21+'SO 01 - HLAVNÝ OBJEKT - B17189'!P21+'SO 01 - HLAVNÝ OBJEKT - E17190'!P21+'SO 01 - HLAVNÝ OBJEKT - 17191'!P21+'SO 01 - HLAVNÝ OBJEKT - Z17192'!P21+'SO 01 - HLAVNÝ OBJEKT - Z17193'!P21+'SO 02 - SPEVNENÁ A ODSTAV17194'!P21+'SO 03 - VODOVODNÁ PRÍPOJK17195'!P21+'SO 04 - KANALIZAČNÁ PRÍPO17196'!P21+'SO 05 - OEZ (ODBERNÉ ELEK17197'!P21 -> 0
B23: Sťažené výrobné podmienky | E23: ='SO 01 - HLAVNÝ OBJEKT - A17188'!E22+'SO 01 - HLAVNÝ OBJEKT - B17189'!E22+'SO 01 - HLAVNÝ OBJEKT - E17190'!E22+'SO 01 - HLAVNÝ OBJEKT - 17191'!E22+'SO 01 - HLAVNÝ OBJEKT - Z17192'!E22+'SO 01 - HLAVNÝ OBJEKT - Z17193'!E22+'SO 02 - SPEVNENÁ A ODSTAV17194'!E22+'SO 03 - VODOVODNÁ PRÍPOJK17195'!E22+'SO 04 - KANALIZAČNÁ PRÍPO17196'!E22+'SO 05 - OEZ (ODBERNÉ ELEK17197'!E22 -> 0 | F23: Horské oblasti | I23: ='SO 01 - HLAVNÝ OBJEKT - A17188'!P22+'SO 01 - HLAVNÝ OBJEKT - B17189'!P22+'SO 01 - HLAVNÝ OBJEKT - E17190'!P22+'SO 01 - HLAVNÝ OBJEKT - 17191'!P22+'SO 01 - HLAVNÝ OBJEKT - Z17192'!P22+'SO 01 - HLAVNÝ OBJEKT - Z17193'!P22+'SO 02 - SPEVNENÁ A ODSTAV17194'!P22+'SO 03 - VODOVODNÁ PRÍPOJK17195'!P22+'SO 04 - KANALIZAČNÁ PRÍPO17196'!P22+'SO 05 - OEZ (ODBERNÉ ELEK17197'!P22 -> 0
B24: Prevádzkové vplyvy | E24: ='SO 01 - HLAVNÝ OBJEKT - A17188'!E23+'SO 01 - HLAVNÝ OBJEKT - B17189'!E23+'SO 01 - HLAVNÝ OBJEKT - E17190'!E23+'SO 01 - HLAVNÝ OBJEKT - 17191'!E23+'SO 01 - HLAVNÝ OBJEKT - Z17192'!E23+'SO 01 - HLAVNÝ OBJEKT - Z17193'!E23+'SO 02 - SPEVNENÁ A ODSTAV17194'!E23+'SO 03 - VODOVODNÁ PRÍPOJK17195'!E23+'SO 04 - KANALIZAČNÁ PRÍPO17196'!E23+'SO 05 - OEZ (ODBERNÉ ELEK17197'!E23 -> 0 | F24: Mimostavenisková doprava | I24: ='SO 01 - HLAVNÝ OBJEKT - A17188'!P23+'SO 01 - HLAVNÝ OBJEKT - B17189'!P23+'SO 01 - HLAVNÝ OBJEKT - E17190'!P23+'SO 01 - HLAVNÝ OBJEKT - 17191'!P23+'SO 01 - HLAVNÝ OBJEKT - Z17192'!P23+'SO 01 - HLAVNÝ OBJEKT - Z17193'!P23+'SO 02 - SPEVNENÁ A ODSTAV17194'!P23+'SO 03 - VODOVODNÁ PRÍPOJK17195'!P23+'SO 04 - KANALIZAČNÁ PRÍPO17196'!P23+'SO 05 - OEZ (ODBERNÉ ELEK17197'!P23 -> 0
F25: Spolu | I25: =SUM(E21:E24)+SUM(I21:I24) -> 0
B26: Projektant,rozpočtár | F26: Celkové náklady
F27: Celkové náklady bez DPH | I27: =E20+I20+I25 -> 0
F28: DPH 23% z | H28: =Rekapitulácia!B18 -> 0 | I28: =ROUND(((ROUND(H28,2)*23)/100),2)*1 -> 0
F29: DPH 0% z | H29: =Rekapitulácia!B19 -> 0 | I29: =ROUND(((ROUND(H29,2)*0)/100),2) -> 0
F30: Spolu v EUR | I30: =SUM(I27:I29) -> 0
B32: Odberateľ | E32: Dodávateľ

Sheet SO 01 - HLAVNÝ OBJEKT - A17188
B1: Krycí list rozpočtu | E1: Rekapitulácia rozpočtu | H1: Rozpočet | W1: 30.126
B2: Krycí list rozpočtu
B3: Stavba Centrum služieb pre zlepšenie fyzickej a pohybovej zdatnosti obyvateľov
B4: Objekt SO 01 - HLAVNÝ OBJEKT - ASR | F4: Miesto:
F5: Ks:
B6: Zákazka: | D6: Spracoval: Ing. Ján Halgaš | F6: Dňa | G6: 21. 1. 2025
B7: Odberateľ: Športový klub Miko fit-box
B8: IČO: 42383625 | F8: DIČ:
B9: Projektant: D. D. - ARCH s. r. o.
B10: IČO: | F10: DIČ:
B11: Dodávateľ: ...
B12: IČO: | F12: DIČ:
B14: ZRN | C14: Montáž | D14: Materiál | E14: ZRN spolu | F14: Ostatné náklady | P14: 0
B15: HSV | C15: ='SO 01 - HLAVNÝ OBJEKT - A17188'!E63 -> 0 | D15: ='SO 01 - HLAVNÝ OBJEKT - A17188'!F63 -> 0 | E15: ='SO 01 - HLAVNÝ OBJEKT - A17188'!G63 -> 0
B16: PSV | C16: ='SO 01 - HLAVNÝ OBJEKT - A17188'!E79 -> 0 | D16: ='SO 01 - HLAVNÝ OBJEKT - A17188'!F79 -> 0 | E16: ='SO 01 - HLAVNÝ OBJEKT - A17188'!G79 -> 0 | F16: Komplet. činnosť | P16: =(SUM(Z100:Z329)) -> 0
B17: MNT | C17: ='SO 01 - HLAVNÝ OBJEKT - A17188'!E83 -> 0 | D17: ='SO 01 - HLAVNÝ OBJEKT - A17188'!F83 -> 0 | E17: ='SO 01 - HLAVNÝ OBJEKT - A17188'!G83 -> 0 | F17: HZS | P17: 0
B18: OST
B19: VN
B20: Spolu | E20: =SUM(E15:E19) -> 0 | F20: Spolu | P20: =SUM(P14:P19) -> 0
B21: Zariadenie staveniska 0% | E21: =((E15*U22*0)+(E16*V22*0)+(E17*W22*0))/100 -> 0 | F21: Sťažené podmienky dopravy 0% | P21: =((E15*X22*0)+(E16*Y22*0)+(E17*Z22*0))/100 -> 0
B22: Sťažené výrobné podmienky 0% | E22: =((E15*U23*0)+(E16*V23*0)+(E17*W23*0))/100 -> 0 | F22: Horské oblasti 0% | P22: =((E15*X23*0)+(E16*Y23*0)+(E17*Z23*0))/100 -> 0 | U22: 1 | V22: 1 | W22: 1 | X22: 1 | Y22: 1 | Z22: 1
B23: Prevádzkové vplyvy 0% | E23: =((E15*U24*0)+(E16*V24*0)+(E17*W24*0))/100 -> 0 | F23: Mimostavenisková doprava 0% | P23: =((E15*X24*0)+(E16*Y24*0)+(E17*Z24*0))/100 -> 0 | U23: 1 | V23: 1 | W23: 0 | X23: 1 | Y23: 1 | Z23: 1
U24: 1 | V24: 1 | W24: 1 | X24: 1 | Y24: 1 | Z24: 0
F25: Spolu | P25: =SUM(E21:E24)+SUM(P21:P24) -> 0
B26: Projektant,rozpočtár | F26: Celkové náklady
F27: Celkové náklady bez DPH | P27: =E20+P20+E25+P25 -> 0
F28: DPH 23% z | H28: =P27-SUM('SO 01 - HLAVNÝ OBJEKT - A17188'!K100:'SO 01 - HLAVNÝ OBJEKT - A17188'!K329) -> 0 | P28: =ROUND(((ROUND(H28,2)*23)*1/100),2) -> 0
F29: DPH 0% z | H29: =SUM('SO 01 - HLAVNÝ OBJEKT - A17188'!K100:'SO 01 - HLAVNÝ OBJEKT - A17188'!K329) -> 0 | P29: =ROUND(((ROUND(H29,2)*0)/100),2) -> 0
F30: Spolu v EUR | P30: =SUM(P27:P29) -> 0
B32: Odberateľ | E32: Dodávateľ
B44: Rekapitulácia rozpočtu
B46: Odberateľ: Športový klub Miko fit-box | F46: Spracoval: Ing. Ján Halgaš
B47: Projektant: D. D. - ARCH s. r. o. | F47: Ks:
B48: Dodávateľ: ... | F48: Dátum: 21. 1. 2025
B49: Stavba Centrum služieb pre zlepšenie fyzickej a pohybovej zdatnosti obyvateľov
B50: Objekt SO 01 - HLAVNÝ OBJEKT - ASR
B53: Prehľad rozpočtových nákladov
E54: Montáž | F54: Materiál | G54: Spolu | H54: Hmotnosť (T) | I54: Sutina (T)
B55: Práce HSV
B56: ZEMNÉ PRÁCE | E56: ='SO 01 - HLAVNÝ OBJEKT - A17188'!L114 -> 0 | F56: ='SO 01 - HLAVNÝ OBJEKT - A17188'!M114 -> 0 | G56: ='SO 01 - HLAVNÝ OBJEKT - A17188'!I114 -> 0 | H56: ='SO 01 - HLAVNÝ OBJEKT - A17188'!S114 -> 0 | I56: ='SO 01 - HLAVNÝ OBJEKT - A17188'!V114 -> 0
...

Sheet SO 01 - HLAVNÝ OBJEKT - B17189
B1: Krycí list rozpočtu | E1: Rekapitulácia rozpočtu | H1: Rozpočet | W1: 30.126
B2: Krycí list rozpočtu
B3: Stavba Centrum služieb pre zlepšenie fyzickej a pohybovej zdatnosti obyvateľov
B4: Objekt SO 01 - HLAVNÝ OBJEKT - Bleskozvod | F4: Miesto:
F5: Ks:
B6: Zákazka: | D6: Spracoval: Ing. Ján Halgaš | F6: Dňa | G6: 21. 1. 2025
B7: Odberateľ: Športový klub Miko fit-box
B8: IČO: 42383625 | F8: DIČ:
B9: Projektant: D. D. - ARCH s. r. o.
B10: IČO: | F10: DIČ:
B11: Dodávateľ: ...
B12: IČO: | F12: DIČ:
B14: ZRN | C14: Montáž | D14: Materiál | E14: ZRN spolu | F14: Ostatné náklady | P14: 0
B15: HSV
B16: PSV | F16: Komplet. činnosť | P16: =(SUM(Z75:Z118)) -> 0
B17: MNT | C17: ='SO 01 - HLAVNÝ OBJEKT - B17189'!E58 -> 0 | D17: ='SO 01 - HLAVNÝ OBJEKT - B17189'!F58 -> 0 | E17: ='SO 01 - HLAVNÝ OBJEKT - B17189'!G58 -> 0 | F17: HZS | P17: 0
B18: OST
B19: VN
B20: Spolu | E20: =SUM(E15:E19) -> 0 | F20: Spolu | P20: =SUM(P14:P19) -> 0
B21: Zariadenie staveniska 0% | E21: =((E15*U22*0)+(E16*V22*0)+(E17*W22*0))/100 -> 0 | F21: Sťažené podmienky dopravy 0% | P21: =((E15*X22*0)+(E16*Y22*0)+(E17*Z22*0))/100 -> 0
B22: Sťažené výrobné podmienky 0% | E22: =((E15*U23*0)+(E16*V23*0)+(E17*W23*0))/100 -> 0 | F22: Horské oblasti 0% | P22: =((E15*X23*0)+(E16*Y23*0)+(E17*Z23*0))/100 -> 0 | U22: 1 | V22: 1 | W22: 1 | X22: 1 | Y22: 1 | Z22: 1
B23: Prevádzkové vplyvy 0% | E23: =((E15*U24*0)+(E16*V24*0)+(E17*W24*0))/100 -> 0 | F23: Mimostavenisková doprava 0% | P23: =((E15*X24*0)+(E16*Y24*0)+(E17*Z24*0))/100 -> 0 | U23: 1 | V23: 1 | W23: 0 | X23: 1 | Y23: 1 | Z23: 1
U24: 1 | V24: 1 | W24: 1 | X24: 1 | Y24: 1 | Z24: 0
F25: Spolu | P25: =SUM(E21:E24)+SUM(P21:P24) -> 0
B26: Projektant,rozpočtár | F26: Celkové náklady
F27: Celkové náklady bez DPH | P27: =E20+P20+E25+P25 -> 0
F28: DPH 23% z | H28: =P27-SUM('SO 01 - HLAVNÝ OBJEKT - B17189'!K75:'SO 01 - HLAVNÝ OBJEKT - B17189'!K118) -> 0 | P28: =ROUND(((ROUND(H28,2)*23)*1/100),2) -> 0
F29: DPH 0% z | H29: =SUM('SO 01 - HLAVNÝ OBJEKT - B17189'!K75:'SO 01 - HLAVNÝ OBJEKT - B17189'!K118) -> 0 | P29: =ROUND(((ROUND(H29,2)*0)/100),2) -> 0
F30: Spolu v EUR | P30: =SUM(P27:P29) -> 0
B32: Odberateľ | E32: Dodávateľ
B44: Rekapitulácia rozpočtu
B46: Odberateľ: Športový klub Miko fit-box | F46: Spracoval: Ing. Ján Halgaš
B47: Projektant: D. D. - ARCH s. r. o. | F47: Ks:
B48: Dodávateľ: ... | F48: Dátum: 21. 1. 2025
B49: Stavba Centrum služieb pre zlepšenie fyzickej a pohybovej zdatnosti obyvateľov
B50: Objekt SO 01 - HLAVNÝ OBJEKT - Bleskozvod
B53: Prehľad rozpočtových nákladov
E54: Montáž | F54: Materiál | G54: Spolu | H54: Hmotnosť (T) | I54: Sutina (T)
B55: Montážne práce
B56: M-21 ELEKTROMONTÁŽE | E56: ='SO 01 - HLAVNÝ OBJEKT - B17189'!L110 -> 0 | F56: ='SO 01 - HLAVNÝ OBJEKT - B17189'!M110 -> 0 | G56: ='SO 01 - HLAVNÝ OBJEKT - B17189'!I110 -> 0 | H56: ='SO 01 - HLAVNÝ OBJEKT - B17189'!S110 -> 0 | I56: ='SO 01 - HLAVNÝ OBJEKT - B17189'!V110 -> 0
...

Sheet SO 01 - HLAVNÝ OBJEKT - E17190
B1: Krycí list rozpočtu | E1: Rekapitulácia rozpočtu | H1: Rozpočet | W1: 30.126
B2: Krycí list rozpočtu
B3: Stavba Centrum služieb pre zlepšenie fyzickej a pohybovej zdatnosti obyvateľov
B4: Objekt SO 01 - HLAVNÝ OBJEKT - Elektroinštalácia | F4: Miesto:
F5: Ks:
B6: Zákazka: | D6: Spracoval: Ing. Ján Halgaš | F6: Dňa | G6: 21. 1. 2025
B7: Odberateľ: Športový klub Miko fit-box
B8: IČO: 42383625 | F8: DIČ:
B9: Projektant: D. D. - ARCH s. r. o.
B10: IČO: | F10: DIČ:
B11: Dodávateľ: ...
B12: IČO: | F12: DIČ:
B14: ZRN | C14: Montáž | D14: Materiál | E14: ZRN spolu | F14: Ostatné náklady | P14: 0
B15: HSV
B16: PSV | F16: Komplet. činnosť | P16: =(SUM(Z75:Z173)) -> 0
B17: MNT | C17: ='SO 01 - HLAVNÝ OBJEKT - E17190'!E58 -> 0 | D17: ='SO 01 - HLAVNÝ OBJEKT - E17190'!F58 -> 0 | E17: ='SO 01 - HLAVNÝ OBJEKT - E17190'!G58 -> 0 | F17: HZS | P17: 0
B18: OST
B19: VN
B20: Spolu | E20: =SUM(E15:E19) -> 0 | F20: Spolu | P20: =SUM(P14:P19) -> 0
B21: Zariadenie staveniska 0% | E21: =((E15*U22*0)+(E16*V22*0)+(E17*W22*0))/100 -> 0 | F21: Sťažené podmienky dopravy 0% | P21: =((E15*X22*0)+(E16*Y22*0)+(E17*Z22*0))/100 -> 0
B22: Sťažené výrobné podmienky 0% | E22: =((E15*U23*0)+(E16*V23*0)+(E17*W23*0))/100 -> 0 | F22: Horské oblasti 0% | P22: =((E15*X23*0)+(E16*Y23*0)+(E17*Z23*0))/100 -> 0 | U22: 1 | V22: 1 | W22: 1 | X22: 1 | Y22: 1 | Z22: 1
B23: Prevádzkové vplyvy 0% | E23: =((E15*U24*0)+(E16*V24*0)+(E17*W24*0))/100 -> 0 | F23: Mimostavenisková doprava 0% | P23: =((E15*X24*0)+(E16*Y24*0)+(E17*Z24*0))/100 -> 0 | U23: 1 | V23: 1 | W23: 0 | X23: 1 | Y23: 1 | Z23: 1
U24: 1 | V24: 1 | W24: 1 | X24: 1 | Y24: 1 | Z24: 0
F25: Spolu | P25: =SUM(E21:E24)+SUM(P21:P24) -> 0
B26: Projektant,rozpočtár | F26: Celkové náklady
F27: Celkové náklady bez DPH | P27: =E20+P20+E25+P25 -> 0
F28: DPH 23% z | H28: =P27-SUM('SO 01 - HLAVNÝ OBJEKT - E17190'!K75:'SO 01 - HLAVNÝ OBJEKT - E17190'!K173) -> 0 | P28: =ROUND(((ROUND(H28,2)*23)*1/100),2) -> 0
F29: DPH 0% z | H29: =SUM('SO 01 - HLAVNÝ OBJEKT - E17190'!K75:'SO 01 - HLAVNÝ OBJEKT - E17190'!K173) -> 0 | P29: =ROUND(((ROUND(H29,2)*0)/100),2) -> 0
F30: Spolu v EUR | P30: =SUM(P27:P29) -> 0
B32: Odberateľ | E32: Dodávateľ
B44: Rekapitulácia rozpočtu
B46: Odberateľ: Športový klub Miko fit-box | F46: Spracoval: Ing. Ján Halgaš
B47: Projektant: D. D. - ARCH s. r. o. | F47: Ks:
B48: Dodávateľ: ... | F48: Dátum: 21. 1. 2025
B49: Stavba Centrum služieb pre zlepšenie fyzickej a pohybovej zdatnosti obyvateľov
B50: Objekt SO 01 - HLAVNÝ OBJEKT - Elektroinštalácia
B53: Prehľad rozpočtových nákladov
E54: Montáž | F54: Materiál | G54: Spolu | H54: Hmotnosť (T) | I54: Sutina (T)
B55: Montážne práce
B56: M-21 ELEKTROMONTÁŽE | E56: ='SO 01 - HLAVNÝ OBJEKT - E17190'!L164 -> 0 | F56: ='SO 01 - HLAVNÝ OBJEKT - E17190'!M164 -> 0 | G56: ='SO 01 - HLAVNÝ OBJEKT - E17190'!I164 -> 0 | H56: ='SO 01 - HLAVNÝ OBJEKT - E17190'!S164 -> 0 | I56: ='SO 01 - HLAVNÝ OBJEKT - E17190'!V164 -> 0
...

Sheet SO 01 - HLAVNÝ OBJEKT  - 17191
B1: Krycí list rozpočtu | E1: Rekapitulácia rozpočtu | H1: Rozpočet | W1: 30.126
B2: Krycí list rozpočtu
B3: Stavba Centrum služieb pre zlepšenie fyzickej a pohybovej zdatnosti obyvateľov
B4: Objekt SO 01 - HLAVNÝ OBJEKT - VZT | F4: Miesto:
F5: Ks:
B6: Zákazka: | D6: Spracoval: Ing. Ján Halgaš | F6: Dňa | G6: 21. 1. 2025
B7: Odberateľ: Športový klub Miko fit-box
B8: IČO: 42383625 | F8: DIČ:
B9: Projektant: D. D. - ARCH s. r. o.
B10: IČO: | F10: DIČ:
B11: Dodávateľ: ...
B12: IČO: | F12: DIČ:
B14: ZRN | C14: Montáž | D14: Materiál | E14: ZRN spolu | F14: Ostatné náklady | P14: 0
B15: HSV
B16: PSV | F16: Komplet. činnosť | P16: =(SUM(Z74:Z79)) -> 0
B17: MNT | C17: ='SO 01 - HLAVNÝ OBJEKT - 17191'!E57 -> 0 | D17: ='SO 01 - HLAVNÝ OBJEKT - 17191'!F57 -> 0 | E17: ='SO 01 - HLAVNÝ OBJEKT - 17191'!G57 -> 0 | F17: HZS | P17: 0
B18: OST
B19: VN
B20: Spolu | E20: =SUM(E15:E19) -> 0 | F20: Spolu | P20: =SUM(P14:P19) -> 0
B21: Zariadenie staveniska 0% | E21: =((E15*U22*0)+(E16*V22*0)+(E17*W22*0))/100 -> 0 | F21: Sťažené podmienky dopravy 0% | P21: =((E15*X22*0)+(E16*Y22*0)+(E17*Z22*0))/100 -> 0
B22: Sťažené výrobné podmienky 0% | E22: =((E15*U23*0)+(E16*V23*0)+(E17*W23*0))/100 -> 0 | F22: Horské oblasti 0% | P22: =((E15*X23*0)+(E16*Y23*0)+(E17*Z23*0))/100 -> 0 | U22: 1 | V22: 1 | W22: 1 | X22: 1 | Y22: 1 | Z22: 1
B23: Prevádzkové vplyvy 0% | E23: =((E15*U24*0)+(E16*V24*0)+(E17*W24*0))/100 -> 0 | F23: Mimostavenisková doprava 0% | P23: =((E15*X24*0)+(E16*Y24*0)+(E17*Z24*0))/100 -> 0 | U23: 1 | V23: 1 | W23: 0 | X23: 1 | Y23: 1 | Z23: 1
U24: 1 | V24: 1 | W24: 1 | X24: 1 | Y24: 1 | Z24: 0
F25: Spolu | P25: =SUM(E21:E24)+SUM(P21:P24) -> 0
B26: Projektant,rozpočtár | F26: Celkové náklady
F27: Celkové náklady bez DPH | P27: =E20+P20+E25+P25 -> 0
F28: DPH 23% z | H28: =P27-SUM('SO 01 - HLAVNÝ OBJEKT - 17191'!K74:'SO 01 - HLAVNÝ OBJEKT - 17191'!K79) -> 0 | P28: =ROUND(((ROUND(H28,2)*23)*1/100),2) -> 0
F29: DPH 0% z | H29: =SUM('SO 01 - HLAVNÝ OBJEKT - 17191'!K74:'SO 01 - HLAVNÝ OBJEKT - 17191'!K79) -> 0 | P29: =ROUND(((ROUND(H29,2)*0)/100),2) -> 0
F30: Spolu v EUR | P30: =SUM(P27:P29) -> 0
B32: Odberateľ | E32: Dodávateľ
B44: Rekapitulácia rozpočtu
B46: Odberateľ: Športový klub Miko fit-box | F46: Spracoval: Ing. Ján Halgaš
B47: Projektant: D. D. - ARCH s. r. o. | F47: Ks:
B48: Dodávateľ: ... | F48: Dátum: 21. 1. 2025
B49: Stavba Centrum služieb pre zlepšenie fyzickej a pohybovej zdatnosti obyvateľov
B50: Objekt SO 01 - HLAVNÝ OBJEKT - VZT
B53: Prehľad rozpočtových nákladov
E54: Montáž | F54: Materiál | G54: Spolu | H54: Hmotnosť (T) | I54: Sutina (T)
B55: Montážne práce
B56: M-24 MONTÁŽ VZDUCHOTECHNICKÝCH ZARIADENÍ | E56: ='SO 01 - HLAVNÝ OBJEKT - 17191'!L77 -> 0 | F56: ='SO 01 - HLAVNÝ OBJEKT - 17191'!M77 -> 0 | G56: ='SO 01 - HLAVNÝ OBJEKT - 17191'!I77 -> 0 | H56: ='SO 01 - HLAVNÝ OBJEKT - 17191'!S77 -> 0 | I56: ='SO 01 - HLAVNÝ OBJEKT - 17191'!V77 -> 0
...

Sheet SO 01 - HLAVNÝ OBJEKT - Z17192
B1: Krycí list rozpočtu | E1: Rekapitulácia rozpočtu | H1: Rozpočet | W1: 30.126
B2: Krycí list rozpočtu
B3: Stavba Centrum služieb pre zlepšenie fyzickej a pohybovej zdatnosti obyvateľov
B4: Objekt SO 01 - HLAVNÝ OBJEKT - ZTI - Zdravotechnika | F4: Miesto:
F5: Ks:
B6: Zákazka: | D6: Spracoval: Ing. Ján Halgaš | F6: Dňa | G6: 21. 1. 2025
B7: Odberateľ: Športový klub Miko fit-box
B8: IČO: 42383625 | F8: DIČ:
B9: Projektant: D. D. - ARCH s. r. o.
B10: IČO: | F10: DIČ:
B11: Dodávateľ: ...
B12: IČO: | F12: DIČ:
B14: ZRN | C14: Montáž | D14: Materiál | E14: ZRN spolu | F14: Ostatné náklady | P14: 0
B15: HSV | C15: ='SO 01 - HLAVNÝ OBJEKT - Z17192'!E58 -> 0 | D15: ='SO 01 - HLAVNÝ OBJEKT - Z17192'!F58 -> 0 | E15: ='SO 01 - HLAVNÝ OBJEKT - Z17192'!G58 -> 0
B16: PSV | C16: ='SO 01 - HLAVNÝ OBJEKT - Z17192'!E68 -> 0 | D16: ='SO 01 - HLAVNÝ OBJEKT - Z17192'!F68 -> 0 | E16: ='SO 01 - HLAVNÝ OBJEKT - Z17192'!G68 -> 0 | F16: Komplet. činnosť | P16: =(SUM(Z85:Z239)) -> 0
B17: MNT | F17: HZS | P17: 0
B18: OST
B19: VN
B20: Spolu | E20: =SUM(E15:E19) -> 0 | F20: Spolu | P20: =SUM(P14:P19) -> 0
B21: Zariadenie staveniska 0% | E21: =((E15*U22*0)+(E16*V22*0)+(E17*W22*0))/100 -> 0 | F21: Sťažené podmienky dopravy 0% | P21: =((E15*X22*0)+(E16*Y22*0)+(E17*Z22*0))/100 -> 0
B22: Sťažené výrobné podmienky 0% | E22: =((E15*U23*0)+(E16*V23*0)+(E17*W23*0))/100 -> 0 | F22: Horské oblasti 0% | P22: =((E15*X23*0)+(E16*Y23*0)+(E17*Z23*0))/100 -> 0 | U22: 1 | V22: 1 | W22: 1 | X22: 1 | Y22: 1 | Z22: 1
B23: Prevádzkové vplyvy 0% | E23: =((E15*U24*0)+(E16*V24*0)+(E17*W24*0))/100 -> 0 | F23: Mimostavenisková doprava 0% | P23: =((E15*X24*0)+(E16*Y24*0)+(E17*Z24*0))/100 -> 0 | U23: 1 | V23: 1 | W23: 0 | X23: 1 | Y23: 1 | Z23: 1
U24: 1 | V24: 1 | W24: 1 | X24: 1 | Y24: 1 | Z24: 0
F25: Spolu | P25: =SUM(E21:E24)+SUM(P21:P24) -> 0
B26: Projektant,rozpočtár | F26: Celkové náklady
F27: Celkové náklady bez DPH | P27: =E20+P20+E25+P25 -> 0
F28: DPH 23% z | H28: =P27-SUM('SO 01 - HLAVNÝ OBJEKT - Z17192'!K85:'SO 01 - HLAVNÝ OBJEKT - Z17192'!K239) -> 0 | P28: =ROUND(((ROUND(H28,2)*23)*1/100),2) -> 0
F29: DPH 0% z | H29: =SUM('SO 01 - HLAVNÝ OBJEKT - Z17192'!K85:'SO 01 - HLAVNÝ OBJEKT - Z17192'!K239) -> 0 | P29: =ROUND(((ROUND(H29,2)*0)/100),2) -> 0
F30: Spolu v EUR | P30: =SUM(P27:P29) -> 0
B32: Odberateľ | E32: Dodávateľ
B44: Rekapitulácia rozpočtu
B46: Odberateľ: Športový klub Miko fit-box | F46: Spracoval: Ing. Ján Halgaš
B47: Projektant: D. D. - ARCH s. r. o. | F47: Ks:
B48: Dodávateľ: ... | F48: Dátum: 21. 1. 2025
B49: Stavba Centrum služieb pre zlepšenie fyzickej a pohybovej zdatnosti obyvateľov
B50: Objekt SO 01 - HLAVNÝ OBJEKT - ZTI - Zdravotechnika
B53: Prehľad rozpočtových nákladov
E54: Montáž | F54: Materiál | G54: Spolu | H54: Hmotnosť (T) | I54: Sutina (T)
B55: Práce HSV
B56: POVRCHOVÉ ÚPRAVY | E56: ='SO 01 - HLAVNÝ OBJEKT - Z17192'!L88 -> 0 | F56: ='SO 01 - HLAVNÝ OBJEKT - Z17192'!M88 -> 0 | G56: ='SO 01 - HLAVNÝ OBJEKT - Z17192'!I88 -> 0 | H56: ='SO 01 - HLAVNÝ OBJEKT - Z17192'!S88 -> 0.19 | I56: ='SO 01 - HLAVNÝ OBJEKT - Z17192'!V88 -> 0
...

Sheet SO 01 - HLAVNÝ OBJEKT - Z17193
B1: Krycí list rozpočtu | E1: Rekapitulácia rozpočtu | H1: Rozpočet | W1: 30.126
B2: Krycí list rozpočtu
B3: Stavba Centrum služieb pre zlepšenie fyzickej a pohybovej zdatnosti obyvateľov
B4: Objekt SO 01 - HLAVNÝ OBJEKT - ZTI - Rozvody vody, kanál. a techn. potrubia v zákaldoch | F4: Miesto:
F5: Ks:
B6: Zákazka: | D6: Spracoval: Ing. Ján Halgaš | F6: Dňa | G6: 21. 1. 2025
B7: Odberateľ: Športový klub Miko fit-box
B8: IČO: 42383625 | F8: DIČ:
B9: Projektant: D. D. - ARCH s. r. o.
B10: IČO: | F10: DIČ:
B11: Dodávateľ: ...
B12: IČO: | F12: DIČ:
B14: ZRN | C14: Montáž | D14: Materiál | E14: ZRN spolu | F14: Ostatné náklady | P14: 0
B15: HSV | C15: ='SO 01 - HLAVNÝ OBJEKT - Z17193'!E60 -> 0 | D15: ='SO 01 - HLAVNÝ OBJEKT - Z17193'!F60 -> 0 | E15: ='SO 01 - HLAVNÝ OBJEKT - Z17193'!G60 -> 0
B16: PSV | C16: ='SO 01 - HLAVNÝ OBJEKT - Z17193'!E65 -> 0 | D16: ='SO 01 - HLAVNÝ OBJEKT - Z17193'!F65 -> 0 | E16: ='SO 01 - HLAVNÝ OBJEKT - Z17193'!G65 -> 0 | F16: Komplet. činnosť | P16: =(SUM(Z86:Z159)) -> 0
B17: MNT | C17: ='SO 01 - HLAVNÝ OBJEKT - Z17193'!E69 -> 0 | D17: ='SO 01 - HLAVNÝ OBJEKT - Z17193'!F69 -> 0 | E17: ='SO 01 - HLAVNÝ OBJEKT - Z17193'!G69 -> 0 | F17: HZS | P17: 0
B18: OST
B19: VN
B20: Spolu | E20: =SUM(E15:E19) -> 0 | F20: Spolu | P20: =SUM(P14:P19) -> 0
B21: Zariadenie staveniska 0% | E21: =((E15*U22*0)+(E16*V22*0)+(E17*W22*0))/100 -> 0 | F21: Sťažené podmienky dopravy 0% | P21: =((E15*X22*0)+(E16*Y22*0)+(E17*Z22*0))/100 -> 0
B22: Sťažené výrobné podmienky 0% | E22: =((E15*U23*0)+(E16*V23*0)+(E17*W23*0))/100 -> 0 | F22: Horské oblasti 0% | P22: =((E15*X23*0)+(E16*Y23*0)+(E17*Z23*0))/100 -> 0 | U22: 1 | V22: 1 | W22: 1 | X22: 1 | Y22: 1 | Z22: 1
B23: Prevádzkové vplyvy 0% | E23: =((E15*U24*0)+(E16*V24*0)+(E17*W24*0))/100 -> 0 | F23: Mimostavenisková doprava 0% | P23: =((E15*X24*0)+(E16*Y24*0)+(E17*Z24*0))/100 -> 0 | U23: 1 | V23: 1 | W23: 0 | X23: 1 | Y23: 1 | Z23: 1
U24: 1 | V24: 1 | W24: 1 | X24: 1 | Y24: 1 | Z24: 0
F25: Spolu | P25: =SUM(E21:E24)+SUM(P21:P24) -> 0
B26: Projektant,rozpočtár | F26: Celkové náklady
F27: Celkové náklady bez DPH | P27: =E20+P20+E25+P25 -> 0
F28: DPH 23% z | H28: =P27-SUM('SO 01 - HLAVNÝ OBJEKT - Z17193'!K86:'SO 01 - HLAVNÝ OBJEKT - Z17193'!K159) -> 0 | P28: =ROUND(((ROUND(H28,2)*23)*1/100),2) -> 0
F29: DPH 0% z | H29: =SUM('SO 01 - HLAVNÝ OBJEKT - Z17193'!K86:'SO 01 - HLAVNÝ OBJEKT - Z17193'!K159) -> 0 | P29: =ROUND(((ROUND(H29,2)*0)/100),2) -> 0
F30: Spolu v EUR | P30: =SUM(P27:P29) -> 0
B32: Odberateľ | E32: Dodávateľ
B44: Rekapitulácia rozpočtu
B46: Odberateľ: Športový klub Miko fit-box | F46: Spracoval: Ing. Ján Halgaš
B47: Projektant: D. D. - ARCH s. r. o. | F47: Ks:
B48: Dodávateľ: ... | F48: Dátum: 21. 1. 2025
B49: Stavba Centrum služieb pre zlepšenie fyzickej a pohybovej zdatnosti obyvateľov
B50: Objekt SO 01 - HLAVNÝ OBJEKT - ZTI - Rozvody vody, kanál. a techn. potrubia v zákaldoch
B53: Prehľad rozpočtových nákladov
E54: Montáž | F54: Materiál | G54: Spolu | H54: Hmotnosť (T) | I54: Sutina (T)
B55: Práce HSV
B56: ZEMNÉ PRÁCE | E56: ='SO 01 - HLAVNÝ OBJEKT - Z17193'!L100 -> 0 | F56: ='SO 01 - HLAVNÝ OBJEKT - Z17193'!M100 -> 0 | G56: ='SO 01 - HLAVNÝ OBJEKT - Z17193'!I100 -> 0 | H56: ='SO 01 - HLAVNÝ OBJEKT - Z17193'!S100 -> 0 | I56: ='SO 01 - HLAVNÝ OBJEKT - Z17193'!V100 -> 0
...

Sheet SO 02 - SPEVNENÁ A ODSTAV17194
B1: Krycí list rozpočtu | E1: Rekapitulácia rozpočtu | H1: Rozpočet | W1: 30.126
B2: Krycí list rozpočtu
B3: Stavba Centrum služieb pre zlepšenie fyzickej a pohybovej zdatnosti obyvateľov
B4: Objekt SO 02 - SPEVNENÁ A ODSTAVNÁ PLOCHA | F4: Miesto:
F5: Ks:
B6: Zákazka: | D6: Spracoval: Ing. Ján Halgaš | F6: Dňa | G6: 21. 1. 2025
B7: Odberateľ: Športový klub Miko fit-box
B8: IČO: 42383625 | F8: DIČ:
B9: Projektant: D. D. - ARCH s. r. o.
B10: IČO: | F10: DIČ:
B11: Dodávateľ: ...
B12: IČO: | F12: DIČ:
B14: ZRN | C14: Montáž | D14: Materiál | E14: ZRN spolu | F14: Ostatné náklady | P14: 0
B15: HSV | C15: ='SO 02 - SPEVNENÁ A ODSTAV17194'!E61 -> 0 | D15: ='SO 02 - SPEVNENÁ A ODSTAV17194'!F61 -> 0 | E15: ='SO 02 - SPEVNENÁ A ODSTAV17194'!G61 -> 0
B16: PSV | F16: Komplet. činnosť | P16: =(SUM(Z78:Z137)) -> 0
B17: MNT | F17: HZS | P17: 0
B18: OST
B19: VN
B20: Spolu | E20: =SUM(E15:E19) -> 0 | F20: Spolu | P20: =SUM(P14:P19) -> 0
B21: Zariadenie staveniska 0% | E21: =((E15*U22*0)+(E16*V22*0)+(E17*W22*0))/100 -> 0 | F21: Sťažené podmienky dopravy 0% | P21: =((E15*X22*0)+(E16*Y22*0)+(E17*Z22*0))/100 -> 0
B22: Sťažené výrobné podmienky 0% | E22: =((E15*U23*0)+(E16*V23*0)+(E17*W23*0))/100 -> 0 | F22: Horské oblasti 0% | P22: =((E15*X23*0)+(E16*Y23*0)+(E17*Z23*0))/100 -> 0 | U22: 1 | V22: 1 | W22: 1 | X22: 1 | Y22: 1 | Z22: 1
B23: Prevádzkové vplyvy 0% | E23: =((E15*U24*0)+(E16*V24*0)+(E17*W24*0))/100 -> 0 | F23: Mimostavenisková doprava 0% | P23: =((E15*X24*0)+(E16*Y24*0)+(E17*Z24*0))/100 -> 0 | U23: 1 | V23: 1 | W23: 0 | X23: 1 | Y23: 1 | Z23: 1
U24: 1 | V24: 1 | W24: 1 | X24: 1 | Y24: 1 | Z24: 0
F25: Spolu | P25: =SUM(E21:E24)+SUM(P21:P24) -> 0
B26: Projektant,rozpočtár | F26: Celkové náklady
F27: Celkové náklady bez DPH | P27: =E20+P20+E25+P25 -> 0
F28: DPH 23% z | H28: =P27-SUM('SO 02 - SPEVNENÁ A ODSTAV17194'!K78:'SO 02 - SPEVNENÁ A ODSTAV17194'!K137) -> 0 | P28: =ROUND(((ROUND(H28,2)*23)*1/100),2) -> 0
F29: DPH 0% z | H29: =SUM('SO 02 - SPEVNENÁ A ODSTAV17194'!K78:'SO 02 - SPEVNENÁ A ODSTAV17194'!K137) -> 0 | P29: =ROUND(((ROUND(H29,2)*0)/100),2) -> 0
F30: Spolu v EUR | P30: =SUM(P27:P29) -> 0
B32: Odberateľ | E32: Dodávateľ
B44: Rekapitulácia rozpočtu
B46: Odberateľ: Športový klub Miko fit-box | F46: Spracoval: Ing. Ján Halgaš
B47: Projektant: D. D. - ARCH s. r. o. | F47: Ks:
B48: Dodávateľ: ... | F48: Dátum: 21. 1. 2025
B49: Stavba Centrum služieb pre zlepšenie fyzickej a pohybovej zdatnosti obyvateľov
B50: Objekt SO 02 - SPEVNENÁ A ODSTAVNÁ PLOCHA
B53: Prehľad rozpočtových nákladov
E54: Montáž | F54: Materiál | G54: Spolu | H54: Hmotnosť (T) | I54: Sutina (T)
B55: Práce HSV
B56: ZEMNÉ PRÁCE | E56: ='SO 02 - SPEVNENÁ A ODSTAV17194'!L86 -> 0 | F56: ='SO 02 - SPEVNENÁ A ODSTAV17194'!M86 -> 0 | G56: ='SO 02 - SPEVNENÁ A ODSTAV17194'!I86 -> 0 | H56: ='SO 02 - SPEVNENÁ A ODSTAV17194'!S86 -> 0 | I56: ='SO 02 - SPEVNENÁ A ODSTAV17194'!V86 -> 0
...

Sheet SO 03 - VODOVODNÁ PRÍPOJK17195
B1: Krycí list rozpočtu | E1: Rekapitulácia rozpočtu | H1: Rozpočet | W1: 30.126
B2: Krycí list rozpočtu
B3: Stavba Centrum služieb pre zlepšenie fyzickej a pohybovej zdatnosti obyvateľov
B4: Objekt SO 03 - VODOVODNÁ PRÍPOJKA A PROTIPOŽIARNÉ ZABEZPEČENIE | F4: Miesto:
F5: Ks:
B6: Zákazka: | D6: Spracoval: Ing. Ján Halgaš | F6: Dňa | G6: 21. 1. 2025
B7: Odberateľ: Športový klub Miko fit-box
B8: IČO: 42383625 | F8: DIČ:
B9: Projektant: D. D. - ARCH s. r. o.
B10: IČO: | F10: DIČ:
B11: Dodávateľ: ...
B12: IČO: | F12: DIČ:
B14: ZRN | C14: Montáž | D14: Materiál | E14: ZRN spolu | F14: Ostatné náklady | P14: 0
B15: HSV | C15: ='SO 03 - VODOVODNÁ PRÍPOJK17195'!E60 -> 0 | D15: ='SO 03 - VODOVODNÁ PRÍPOJK17195'!F60 -> 0 | E15: ='SO 03 - VODOVODNÁ PRÍPOJK17195'!G60 -> 0
B16: PSV | F16: Komplet. činnosť | P16: =(SUM(Z77:Z137)) -> 0
B17: MNT | F17: HZS | P17: 0
B18: OST
B19: VN
B20: Spolu | E20: =SUM(E15:E19) -> 0 | F20: Spolu | P20: =SUM(P14:P19) -> 0
B21: Zariadenie staveniska 0% | E21: =((E15*U22*0)+(E16*V22*0)+(E17*W22*0))/100 -> 0 | F21: Sťažené podmienky dopravy 0% | P21: =((E15*X22*0)+(E16*Y22*0)+(E17*Z22*0))/100 -> 0
B22: Sťažené výrobné podmienky 0% | E22: =((E15*U23*0)+(E16*V23*0)+(E17*W23*0))/100 -> 0 | F22: Horské oblasti 0% | P22: =((E15*X23*0)+(E16*Y23*0)+(E17*Z23*0))/100 -> 0 | U22: 1 | V22: 1 | W22: 1 | X22: 1 | Y22: 1 | Z22: 1
B23: Prevádzkové vplyvy 0% | E23: =((E15*U24*0)+(E16*V24*0)+(E17*W24*0))/100 -> 0 | F23: Mimostavenisková doprava 0% | P23: =((E15*X24*0)+(E16*Y24*0)+(E17*Z24*0))/100 -> 0 | U23: 1 | V23: 1 | W23: 0 | X23: 1 | Y23: 1 | Z23: 1
U24: 1 | V24: 1 | W24: 1 | X24: 1 | Y24: 1 | Z24: 0
F25: Spolu | P25: =SUM(E21:E24)+SUM(P21:P24) -> 0
B26: Projektant,rozpočtár | F26: Celkové náklady
F27: Celkové náklady bez DPH | P27: =E20+P20+E25+P25 -> 0
F28: DPH 23% z | H28: =P27-SUM('SO 03 - VODOVODNÁ PRÍPOJK17195'!K77:'SO 03 - VODOVODNÁ PRÍPOJK17195'!K137) -> 0 | P28: =ROUND(((ROUND(H28,2)*23)*1/100),2) -> 0
F29: DPH 0% z | H29: =SUM('SO 03 - VODOVODNÁ PRÍPOJK17195'!K77:'SO 03 - VODOVODNÁ PRÍPOJK17195'!K137) -> 0 | P29: =ROUND(((ROUND(H29,2)*0)/100),2) -> 0
F30: Spolu v EUR | P30: =SUM(P27:P29) -> 0
B32: Odberateľ | E32: Dodávateľ
B44: Rekapitulácia rozpočtu
B46: Odberateľ: Športový klub Miko fit-box | F46: Spracoval: Ing. Ján Halgaš
B47: Projektant: D. D. - ARCH s. r. o. | F47: Ks:
B48: Dodávateľ: ... | F48: Dátum: 21. 1. 2025
B49: Stavba Centrum služieb pre zlepšenie fyzickej a pohybovej zdatnosti obyvateľov
B50: Objekt SO 03 - VODOVODNÁ PRÍPOJKA A PROTIPOŽIARNÉ ZABEZPEČENIE
B53: Prehľad rozpočtových nákladov
E54: Montáž | F54: Materiál | G54: Spolu | H54: Hmotnosť (T) | I54: Sutina (T)
B55: Práce HSV
B56: ZEMNÉ PRÁCE | E56: ='SO 03 - VODOVODNÁ PRÍPOJK17195'!L92 -> 0 | F56: ='SO 03 - VODOVODNÁ PRÍPOJK17195'!M92 -> 0 | G56: ='SO 03 - VODOVODNÁ PRÍPOJK17195'!I92 -> 0 | H56: ='SO 03 - VODOVODNÁ PRÍPOJK17195'!S92 -> 0 | I56: ='SO 03 - VODOVODNÁ PRÍPOJK17195'!V92 -> 1.22
...

Sheet SO 04 - KANALIZAČNÁ PRÍPO17196
B1: Krycí list rozpočtu | E1: Rekapitulácia rozpočtu | H1: Rozpočet | W1: 30.126
B2: Krycí list rozpočtu
B3: Stavba Centrum služieb pre zlepšenie fyzickej a pohybovej zdatnosti obyvateľov
B4: Objekt SO 04 - KANALIZAČNÁ PRÍPOJKA | F4: Miesto:
F5: Ks:
B6: Zákazka: | D6: Spracoval: Ing. Ján Halgaš | F6: Dňa | G6: 21. 1. 2025
B7: Odberateľ: Športový klub Miko fit-box
B8: IČO: 42383625 | F8: DIČ:
B9: Projektant: D. D. - ARCH s. r. o.
B10: IČO: | F10: DIČ:
B11: Dodávateľ: ...
B12: IČO: | F12: DIČ:
B14: ZRN | C14: Montáž | D14: Materiál | E14: ZRN spolu | F14: Ostatné náklady | P14: 0
B15: HSV | C15: ='SO 04 - KANALIZAČNÁ PRÍPO17196'!E61 -> 0 | D15: ='SO 04 - KANALIZAČNÁ PRÍPO17196'!F61 -> 0 | E15: ='SO 04 - KANALIZAČNÁ PRÍPO17196'!G61 -> 0
B16: PSV | F16: Komplet. činnosť | P16: =(SUM(Z78:Z131)) -> 0
B17: MNT | F17: HZS | P17: 0
B18: OST
B19: VN
B20: Spolu | E20: =SUM(E15:E19) -> 0 | F20: Spolu | P20: =SUM(P14:P19) -> 0
B21: Zariadenie staveniska 0% | E21: =((E15*U22*0)+(E16*V22*0)+(E17*W22*0))/100 -> 0 | F21: Sťažené podmienky dopravy 0% | P21: =((E15*X22*0)+(E16*Y22*0)+(E17*Z22*0))/100 -> 0
B22: Sťažené výrobné podmienky 0% | E22: =((E15*U23*0)+(E16*V23*0)+(E17*W23*0))/100 -> 0 | F22: Horské oblasti 0% | P22: =((E15*X23*0)+(E16*Y23*0)+(E17*Z23*0))/100 -> 0 | U22: 1 | V22: 1 | W22: 1 | X22: 1 | Y22: 1 | Z22: 1
B23: Prevádzkové vplyvy 0% | E23: =((E15*U24*0)+(E16*V24*0)+(E17*W24*0))/100 -> 0 | F23: Mimostavenisková doprava 0% | P23: =((E15*X24*0)+(E16*Y24*0)+(E17*Z24*0))/100 -> 0 | U23: 1 | V23: 1 | W23: 0 | X23: 1 | Y23: 1 | Z23: 1
U24: 1 | V24: 1 | W24: 1 | X24: 1 | Y24: 1 | Z24: 0
F25: Spolu | P25: =SUM(E21:E24)+SUM(P21:P24) -> 0
B26: Projektant,rozpočtár | F26: Celkové náklady
F27: Celkové náklady bez DPH | P27: =E20+P20+E25+P25 -> 0
F28: DPH 23% z | H28: =P27-SUM('SO 04 - KANALIZAČNÁ PRÍPO17196'!K78:'SO 04 - KANALIZAČNÁ PRÍPO17196'!K131) -> 0 | P28: =ROUND(((ROUND(H28,2)*23)*1/100),2) -> 0
F29: DPH 0% z | H29: =SUM('SO 04 - KANALIZAČNÁ PRÍPO17196'!K78:'SO 04 - KANALIZAČNÁ PRÍPO17196'!K131) -> 0 | P29: =ROUND(((ROUND(H29,2)*0)/100),2) -> 0
F30: Spolu v EUR | P30: =SUM(P27:P29) -> 0
B32: Odberateľ | E32: Dodávateľ
B44: Rekapitulácia rozpočtu
B46: Odberateľ: Športový klub Miko fit-box | F46: Spracoval: Ing. Ján Halgaš
B47: Projektant: D. D. - ARCH s. r. o. | F47: Ks:
B48: Dodávateľ: ... | F48: Dátum: 21. 1. 2025
B49: Stavba Centrum služieb pre zlepšenie fyzickej a pohybovej zdatnosti obyvateľov
B50: Objekt SO 04 - KANALIZAČNÁ PRÍPOJKA
B53: Prehľad rozpočtových nákladov
E54: Montáž | F54: Materiál | G54: Spolu | H54: Hmotnosť (T) | I54: Sutina (T)
B55: Práce HSV
B56: ZEMNÉ PRÁCE | E56: ='SO 04 - KANALIZAČNÁ PRÍPO17196'!L94 -> 0 | F56: ='SO 04 - KANALIZAČNÁ PRÍPO17196'!M94 -> 0 | G56: ='SO 04 - KANALIZAČNÁ PRÍPO17196'!I94 -> 0 | H56: ='SO 04 - KANALIZAČNÁ PRÍPO17196'!S94 -> 0.08 | I56: ='SO 04 - KANALIZAČNÁ PRÍPO17196'!V94 -> 1.11
...

Sheet SO 05 - OEZ (ODBERNÉ ELEK17197
B1: Krycí list rozpočtu | E1: Rekapitulácia rozpočtu | H1: Rozpočet | W1: 30.126
B2: Krycí list rozpočtu
B3: Stavba Centrum služieb pre zlepšenie fyzickej a pohybovej zdatnosti obyvateľov
B4: Objekt SO 05 - OEZ (ODBERNÉ ELEKTRICKÉ ZARIADENIE) | F4: Miesto:
F5: Ks:
B6: Zákazka: | D6: Spracoval: Ing. Ján Halgaš | F6: Dňa | G6: 21. 1. 2025
B7: Odberateľ: Športový klub Miko fit-box
B8: IČO: 42383625 | F8: DIČ:
B9: Projektant: D. D. - ARCH s. r. o.
B10: IČO: | F10: DIČ:
B11: Dodávateľ: ...
B12: IČO: | F12: DIČ:
B14: ZRN | C14: Montáž | D14: Materiál | E14: ZRN spolu | F14: Ostatné náklady | P14: 0
B15: HSV
B16: PSV | F16: Komplet. činnosť | P16: =(SUM(Z75:Z99)) -> 0
B17: MNT | C17: ='SO 05 - OEZ (ODBERNÉ ELEK17197'!E58 -> 0 | D17: ='SO 05 - OEZ (ODBERNÉ ELEK17197'!F58 -> 0 | E17: ='SO 05 - OEZ (ODBERNÉ ELEK17197'!G58 -> 0 | F17: HZS | P17: 0
B18: OST
B19: VN
B20: Spolu | E20: =SUM(E15:E19) -> 0 | F20: Spolu | P20: =SUM(P14:P19) -> 0
B21: Zariadenie staveniska 0% | E21: =((E15*U22*0)+(E16*V22*0)+(E17*W22*0))/100 -> 0 | F21: Sťažené podmienky dopravy 0% | P21: =((E15*X22*0)+(E16*Y22*0)+(E17*Z22*0))/100 -> 0
B22: Sťažené výrobné podmienky 0% | E22: =((E15*U23*0)+(E16*V23*0)+(E17*W23*0))/100 -> 0 | F22: Horské oblasti 0% | P22: =((E15*X23*0)+(E16*Y23*0)+(E17*Z23*0))/100 -> 0 | U22: 1 | V22: 1 | W22: 1 | X22: 1 | Y22: 1 | Z22: 1
B23: Prevádzkové vplyvy 0% | E23: =((E15*U24*0)+(E16*V24*0)+(E17*W24*0))/100 -> 0 | F23: Mimostavenisková doprava 0% | P23: =((E15*X24*0)+(E16*Y24*0)+(E17*Z24*0))/100 -> 0 | U23: 1 | V23: 1 | W23: 0 | X23: 1 | Y23: 1 | Z23: 1
U24: 1 | V24: 1 | W24: 1 | X24: 1 | Y24: 1 | Z24: 0
F25: Spolu | P25: =SUM(E21:E24)+SUM(P21:P24) -> 0
B26: Projektant,rozpočtár | F26: Celkové náklady
F27: Celkové náklady bez DPH | P27: =E20+P20+E25+P25 -> 0
F28: DPH 23% z | H28: =P27-SUM('SO 05 - OEZ (ODBERNÉ ELEK17197'!K75:'SO 05 - OEZ (ODBERNÉ ELEK17197'!K99) -> 0 | P28: =ROUND(((ROUND(H28,2)*23)*1/100),2) -> 0
F29: DPH 0% z | H29: =SUM('SO 05 - OEZ (ODBERNÉ ELEK17197'!K75:'SO 05 - OEZ (ODBERNÉ ELEK17197'!K99) -> 0 | P29: =ROUND(((ROUND(H29,2)*0)/100),2) -> 0
F30: Spolu v EUR | P30: =SUM(P27:P29) -> 0
B32: Odberateľ | E32: Dodávateľ
B44: Rekapitulácia rozpočtu
B46: Odberateľ: Športový klub Miko fit-box | F46: Spracoval: Ing. Ján Halgaš
B47: Projektant: D. D. - ARCH s. r. o. | F47: Ks:
B48: Dodávateľ: ... | F48: Dátum: 21. 1. 2025
B49: Stavba Centrum služieb pre zlepšenie fyzickej a pohybovej zdatnosti obyvateľov
B50: Objekt SO 05 - OEZ (ODBERNÉ ELEKTRICKÉ ZARIADENIE)
B53: Prehľad rozpočtových nákladov
E54: Montáž | F54: Materiál | G54: Spolu | H54: Hmotnosť (T) | I54: Sutina (T)
B55: Montážne práce
B56: M-21 ELEKTROMONTÁŽE | E56: ='SO 05 - OEZ (ODBERNÉ ELEK17197'!L88 -> 0 | F56: ='SO 05 - OEZ (ODBERNÉ ELEK17197'!M88 -> 0 | G56: ='SO 05 - OEZ (ODBERNÉ ELEK17197'!I88 -> 0 | H56: ='SO 05 - OEZ (ODBERNÉ ELEK17197'!S88 -> 0.02 | I56: ='SO 05 - OEZ (ODBERNÉ ELEK17197'!V88 -> 0
...
