Workbook

Sheet Rekapitulácia
A2: Rekapitulácia rozpočtu | F2: Sadzby DPH
F3: A | G3: B
F4: 0.23 | G4: 0
A6: Názov objektu | B6: ZRN | C6: VRN | D6: HZS | E6: Kompl.čin. | F6: Ostatné náklady stavby | G6: Cena
A7: SO 01 - HLAVNÝ OBJEKT - ASR | B7: ='SO 01 - HLAVNÝ OBJEKT - A17188'!I330-Rekapitulácia!D7 -> 0 | C7: ='SO 01 - HLAVNÝ OBJEKT - A17188'!P25 -> 0 | D7: ='SO 01 - HLAVNÝ OBJEKT - A17188'!P17 -> 0 | E7: ='SO 01 - HLAVNÝ OBJEKT - A17188'!P16 -> 0 | F7: ='SO 01 - HLAVNÝ OBJEKT - A17188'!P14 -> 0 | G7: =B7+C7+D7+E7+F7 -> 0 | K7: ='SO 01 - HLAVNÝ OBJEKT - A17188'!K330 -> 0 | Q7: 30.126
A8: SO 01 - HLAVNÝ OBJEKT - Bleskozvod | B8: ='SO 01 - HLAVNÝ OBJEKT - B17189'!I119-Rekapitulácia!D8 -> 0 | C8: ='SO 01 - HLAVNÝ OBJEKT - B17189'!P25 -> 0 | D8: ='SO 01 - HLAVNÝ OBJEKT - B17189'!P17 -> 0 | E8: ='SO 01 - HLAVNÝ OBJEKT - B17189'!P16 -> 0 | F8: ='SO 01 - HLAVNÝ OBJEKT - B17189'!P14 -> 0 | G8: =B8+C8+D8+E8+F8 -> 0 | K8: ='SO 01 - HLAVNÝ OBJEKT - B17189'!K119 -> 0 | Q8: 30.126
A9: SO 01 - HLAVNÝ OBJEKT - Elektroinštalácia | B9: ='SO 01 - HLAVNÝ OBJEKT - E17190'!I174-Rekapitulácia!D9 -> 0 | C9: ='SO 01 - HLAVNÝ OBJEKT - E17190'!P25 -> 0 | D9: ='SO 01 - HLAVNÝ OBJEKT - E17190'!P17 -> 0 | E9: ='SO 01 - HLAVNÝ OBJEKT - E17190'!P16 -> 0 | F9: ='SO 01 - HLAVNÝ OBJEKT - E17190'!P14 -> 0 | G9: =B9+C9+D9+E9+F9 -> 0 | K9: ='SO 01 - HLAVNÝ OBJEKT - E17190'!K174 -> 0 | Q9: 30.126
A10: SO 01 - HLAVNÝ OBJEKT - VZT | B10: ='SO 01 - HLAVNÝ OBJEKT - 17191'!I80-Rekapitulácia!D10 -> 0 | C10: ='SO 01 - HLAVNÝ OBJEKT - 17191'!P25 -> 0 | D10: ='SO 01 - HLAVNÝ OBJEKT - 17191'!P17 -> 0 | E10: ='SO 01 - HLAVNÝ OBJEKT - 17191'!P16 -> 0 | F10: ='SO 01 - HLAVNÝ OBJEKT - 17191'!P14 -> 0 | G10: =B10+C10+D10+E10+F10 -> 0 | K10: ='SO 01 - HLAVNÝ OBJEKT - 17191'!K80 -> 0 | Q10: 30.126
A11: SO 01 - HLAVNÝ OBJEKT - ZTI - Zdravotechnika | B11: ='SO 01 - HLAVNÝ OBJEKT - Z17192'!I240-Rekapitulácia!D11 -> 0 | C11: ='SO 01 - HLAVNÝ OBJEKT - Z17192'!P25 -> 0 | D11: ='SO 01 - HLAVNÝ OBJEKT - Z17192'!P17 -> 0 | E11: ='SO 01 - HLAVNÝ OBJEKT - Z17192'!P16 -> 0 | F11: ='SO 01 - HLAVNÝ OBJEKT - Z17192'!P14 -> 0 | G11: =B11+C11+D11+E11+F11 -> 0 | K11: ='SO 01 - HLAVNÝ OBJEKT - Z17192'!K240 -> 0 | Q11: 30.126
A12: SO 01 - HLAVNÝ OBJEKT - ZTI - Rozvody vody, kanál. a techn. potrubia v zákaldoch | B12: ='SO 01 - HLAVNÝ OBJEKT - Z17193'!I160-Rekapitulácia!D12 -> 0 | C12: ='SO 01 - HLAVNÝ OBJEKT - Z17193'!P25 -> 0 | D12: ='SO 01 - HLAVNÝ OBJEKT - Z17193'!P17 -> 0 | E12: ='SO 01 - HLAVNÝ OBJEKT - Z17193'!P16 -> 0 | F12: ='SO 01 - HLAVNÝ OBJEKT - Z17193'!P14 -> 0 | G12: =B12+C12+D12+E12+F12 -> 0 | K12: ='SO 01 - HLAVNÝ OBJEKT - Z17193'!K160 -> 0 | Q12: 30.126
A13: SO 02 - SPEVNENÁ A ODSTAVNÁ PLOCHA | B13: ='SO 02 - SPEVNENÁ A ODSTAV17194'!I138-Rekapitulácia!D13 -> 0 | C13: ='SO 02 - SPEVNENÁ A ODSTAV17194'!P25 -> 0 | D13: ='SO 02 - SPEVNENÁ A ODSTAV17194'!P17 -> 0 | E13: ='SO 02 - SPEVNENÁ A ODSTAV17194'!P16 -> 0 | F13: ='SO 02 - SPEVNENÁ A ODSTAV17194'!P14 -> 0 | G13: =B13+C13+D13+E13+F13 -> 0 | K13: ='SO 02 - SPEVNENÁ A ODSTAV17194'!K138 -> 0 | Q13: 30.126
A14: SO 03 - VODOVODNÁ PRÍPOJKA A PROTIPOŽIARNÉ ZABEZPEČENIE | B14: ='SO 03 - VODOVODNÁ PRÍPOJK17195'!I138-Rekapitulácia!D14 -> 0 | C14: ='SO 03 - VODOVODNÁ PRÍPOJK17195'!P25 -> 0 | D14: ='SO 03 - VODOVODNÁ PRÍPOJK17195'!P17 -> 0 | E14: ='SO 03 - VODOVODNÁ PRÍPOJK17195'!P16 -> 0 | F14: ='SO 03 - VODOVODNÁ PRÍPOJK17195'!P14 -> 0 | G14: =B14+C14+D14+E14+F14 -> 0 | K14: ='SO 03 - VODOVODNÁ PRÍPOJK17195'!K138 -> 0 | Q14: 30.126
A15: SO 04 - KANALIZAČNÁ PRÍPOJKA | B15: ='SO 04 - KANALIZAČNÁ PRÍPO17196'!I132-Rekapitulácia!D15 -> 0 | C15: ='SO 04 - KANALIZAČNÁ PRÍPO17196'!P25 -> 0 | D15: ='SO 04 - KANALIZAČNÁ PRÍPO17196'!P17 -> 0 | E15: ='SO 04 - KANALIZAČNÁ PRÍPO17196'!P16 -> 0 | F15: ='SO 04 - KANALIZAČNÁ PRÍPO17196'!P14 -> 0 | G15: =B15+C15+D15+E15+F15 -> 0 | K15: ='SO 04 - KANALIZAČNÁ PRÍPO17196'!K132 -> 0 | Q15: 30.126
A16: SO 05 - OEZ (ODBERNÉ ELEKTRICKÉ ZARIADENIE) | B16: ='SO 05 - OEZ (ODBERNÉ ELEK17197'!I100-Rekapitulácia!D16 -> 0 | C16: ='SO 05 - OEZ (ODBERNÉ ELEK17197'!P25 -> 0 | D16: ='SO 05 - OEZ (ODBERNÉ ELEK17197'!P17 -> 0 | E16: ='SO 05 - OEZ (ODBERNÉ ELEK17197'!P16 -> 0 | F16: ='SO 05 - OEZ (ODBERNÉ ELEK17197'!P14 -> 0 | G16: =B16+C16+D16+E16+F16 -> 0 | K16: ='SO 05 - OEZ (ODBERNÉ ELEK17197'!K100 -> 0 | Q16: 30.126
A17: Celkom bez DPH | B17: =SUM(B7:B16) -> 0 | C17: =SUM(C7:C16) -> 0 | D17: =SUM(D7:D16) -> 0 | E17: =SUM(E7:E16) -> 0 | F17: =SUM(F7:F16) -> 0 | G17: =SUM(G7:G16)-SUM(Z7:Z16) -> 0
A18: DPH 23% z | B18: =G17-SUM(Rekapitulácia!K7:'Rekapitulácia'!K16)*1 -> 0 | G18: =ROUND(((ROUND(B18,2)*23)/100),2)*1 -> 0
A19: DPH 0% z | B19: =(G17-B18) -> 0 | G19: =ROUND(((ROUND(B19,2)*0)/100),2) -> 0
A20: Celkom v EUR | G20: =SUM(G17:G19) -> 0

Sheet Krycí list stavby
W1: 30.126
B2: Krycí list stavby
B3: Stavba Centrum služieb pre zlepšenie fyzickej a pohybovej zdatnosti obyvateľov
F4: Miesto:
F5: Ks:
B6: Zákazka: | D6: Spracoval: Ing. Ján Halgaš | F6: Dňa | G6: 21. 1. 2025
B7: Odberateľ: Športový klub Miko fit-box
B8: IČO: 42383625 | F8: DIČ:
B9: Projektant: D. D. - ARCH s. r. o.
B10: IČO: | F10: DIČ:
B11: Dodávateľ: ...
B12: IČO: | F12: DIČ:
B14: ZRN | C14: Montáž | D14: Materiál | E14: ZRN spolu | F14: Ostatné náklady stavby | I14: ='SO 01 - HLAVNÝ OBJEKT - A17188'!P14+'SO 01 - HLAVNÝ OBJEKT - B17189'!P14+'SO 01 - HLAVNÝ OBJEKT - E17190'!P14+'SO 01 - HLAVNÝ OBJEKT - 17191'!P14+'SO 01 - HLAVNÝ OBJEKT - Z17192'!P14+'SO 01 - HLAVNÝ OBJEKT - Z17193'!P14+'SO 02 - SPEVNENÁ A ODSTAV17194'!P14+'SO 03 - VODOVODNÁ PRÍPOJK17195'!P14+'SO 04 - KANALIZAČNÁ PRÍPO17196'!P14+'SO 05 - OEZ (ODBERNÉ ELEK17197'!P14 -> 0
B15: HSV | C15: ='SO 01 - HLAVNÝ OBJEKT - A17188'!C15+'SO 01 - HLAVNÝ OBJEKT - B17189'!C15+'SO 01 - HLAVNÝ OBJEKT - E17190'!C15+'SO 01 - HLAVNÝ OBJEKT - 17191'!C15+'SO 01 - HLAVNÝ OBJEKT - Z17192'!C15+'SO 01 - HLAVNÝ OBJEKT - Z17193'!C15+'SO 02 - SPEVNENÁ A ODSTAV17194'!C15+'SO 03 - VODOVODNÁ PRÍPOJK17195'!C15+'SO 04 - KANALIZAČNÁ PRÍPO17196'!C15+'SO 05 - OEZ (ODBERNÉ ELEK17197'!C15 -> 0 | D15: ='SO 01 - HLAVNÝ OBJEKT - A17188'!D15+'SO 01 - HLAVNÝ OBJEKT - B17189'!D15+'SO 01 - HLAVNÝ OBJEKT - E17190'!D15+'SO 01 - HLAVNÝ OBJEKT - 17191'!D15+'SO 01 - HLAVNÝ OBJEKT - Z17192'!D15+'SO 01 - HLAVNÝ OBJEKT - Z17193'!D15+'SO 02 - SPEVNENÁ A ODSTAV17194'!D15+'SO 03 - VODOVODNÁ PRÍPOJK17195'!D15+'SO 04 - KANALIZAČNÁ PRÍPO17196'!D15+'SO 05 - OEZ (ODBERNÉ ELEK17197'!D15 -> 0 | E15: ='SO 01 - HLAVNÝ OBJEKT - A17188'!E15+'SO 01 - HLAVNÝ OBJEKT - B17189'!E15+'SO 01 - HLAVNÝ OBJEKT - E17190'!E15+'SO 01 - HLAVNÝ OBJEKT - 17191'!E15+'SO 01 - HLAVNÝ OBJEKT - Z17192'!E15+'SO 01 - HLAVNÝ OBJEKT - Z17193'!E15+'SO 02 - SPEVNENÁ A ODSTAV17194'!E15+'SO 03 - VODOVODNÁ PRÍPOJK17195'!E15+'SO 04 - KANALIZAČNÁ PRÍPO17196'!E15+'SO 05 - OEZ (ODBERNÉ ELEK17197'!E15 -> 0
B16: PSV | C16: ='SO 01 - HLAVNÝ OBJEKT - A17188'!C16+'SO 01 - HLAVNÝ OBJEKT - B17189'!C16+'SO 01 - HLAVNÝ OBJEKT - E17190'!C16+'SO 01 - HLAVNÝ OBJEKT - 17191'!C16+'SO 01 - HLAVNÝ OBJEKT - Z17192'!C16+'SO 01 - HLAVNÝ OBJEKT - Z17193'!C16+'SO 02 - SPEVNENÁ A ODSTAV17194'!C16+'SO 03 - VODOVODNÁ PRÍPOJK17195'!C16+'SO 04 - KANALIZAČNÁ PRÍPO17196'!C16+'SO 05 - OEZ (ODBERNÉ ELEK17197'!C16 -> 0 | D16: ='SO 01 - HLAVNÝ OBJEKT - A17188'!D16+'SO 01 - HLAVNÝ OBJEKT - B17189'!D16+'SO 01 - HLAVNÝ OBJEKT - E17190'!D16+'SO 01 - HLAVNÝ OBJEKT - 17191'!D16+'SO 01 - HLAVNÝ OBJEKT - Z17192'!D16+'SO 01 - HLAVNÝ OBJEKT - Z17193'!D16+'SO 02 - SPEVNENÁ A ODSTAV17194'!D16+'SO 03 - VODOVODNÁ PRÍPOJK17195'!D16+'SO 04 - KANALIZAČNÁ PRÍPO17196'!D16+'SO 05 - OEZ (ODBERNÉ ELEK17197'!D16 -> 0 | E16: ='SO 01 - HLAVNÝ OBJEKT - A17188'!E16+'SO 01 - HLAVNÝ OBJEKT - B17189'!E16+'SO 01 - HLAVNÝ OBJEKT - E17190'!E16+'SO 01 - HLAVNÝ OBJEKT - 17191'!E16+'SO 01 - HLAVNÝ OBJEKT - Z17192'!E16+'SO 01 - HLAVNÝ OBJEKT - Z17193'!E16+'SO 02 - SPEVNENÁ A ODSTAV17194'!E16+'SO 03 - VODOVODNÁ PRÍPOJK17195'!E16+'SO 04 - KANALIZAČNÁ PRÍPO17196'!E16+'SO 05 - OEZ (ODBERNÉ ELEK17197'!E16 -> 0 | F16: Komplet. činnosť | I16: =Rekapitulácia!E17 -> 0
B17: MONT | C17: ='SO 01 - HLAVNÝ OBJEKT - A17188'!C17+'SO 01 - HLAVNÝ OBJEKT - B17189'!C17+'SO 01 - HLAVNÝ OBJEKT - E17190'!C17+'SO 01 - HLAVNÝ OBJEKT - 17191'!C17+'SO 01 - HLAVNÝ OBJEKT - Z17192'!C17+'SO 01 - HLAVNÝ OBJEKT - Z17193'!C17+'SO 02 - SPEVNENÁ A ODSTAV17194'!C17+'SO 03 - VODOVODNÁ PRÍPOJK17195'!C17+'SO 04 - KANALIZAČNÁ PRÍPO17196'!C17+'SO 05 - OEZ (ODBERNÉ ELEK17197'!C17 -> 0 | D17: ='SO 01 - HLAVNÝ OBJEKT - A17188'!D17+'SO 01 - HLAVNÝ OBJEKT - B17189'!D17+'SO 01 - HLAVNÝ OBJEKT - E17190'!D17+'SO 01 - HLAVNÝ OBJEKT - 17191'!D17+'SO 01 - HLAVNÝ OBJEKT - Z17192'!D17+'SO 01 - HLAVNÝ OBJEKT - Z17193'!D17+'SO 02 - SPEVNENÁ A ODSTAV17194'!D17+'SO 03 - VODOVODNÁ PRÍPOJK17195'!D17+'SO 04 - KANALIZAČNÁ PRÍPO17196'!D17+'SO 05 - OEZ (ODBERNÉ ELEK17197'!D17 -> 0 | E17: ='SO 01 - HLAVNÝ OBJEKT - A17188'!E17+'SO 01 - HLAVNÝ OBJEKT - B17189'!E17+'SO 01 - HLAVNÝ OBJEKT - E17190'!E17+'SO 01 - HLAVNÝ OBJEKT - 17191'!E17+'SO 01 - HLAVNÝ OBJEKT - Z17192'!E17+'SO 01 - HLAVNÝ OBJEKT - Z17193'!E17+'SO 02 - SPEVNENÁ A ODSTAV17194'!E17+'SO 03 - VODOVODNÁ PRÍPOJK17195'!E17+'SO 04 - KANALIZAČNÁ PRÍPO17196'!E17+'SO 05 - OEZ (ODBERNÉ ELEK17197'!E17 -> 0 | F17: HZS | I17: =Rekapitulácia!D17 -> 0
B18: OST | C18: ='SO 01 - HLAVNÝ OBJEKT - A17188'!C18+'SO 01 - HLAVNÝ OBJEKT - B17189'!C18+'SO 01 - HLAVNÝ OBJEKT - E17190'!C18+'SO 01 - HLAVNÝ OBJEKT - 17191'!C18+'SO 01 - HLAVNÝ OBJEKT - Z17192'!C18+'SO 01 - HLAVNÝ OBJEKT - Z17193'!C18+'SO 02 - SPEVNENÁ A ODSTAV17194'!C18+'SO 03 - VODOVODNÁ PRÍPOJK17195'!C18+'SO 04 - KANALIZAČNÁ PRÍPO17196'!C18+'SO 05 - OEZ (ODBERNÉ ELEK17197'!C18 -> 0 | D18: ='SO 01 - HLAVNÝ OBJEKT - A17188'!D18+'SO 01 - HLAVNÝ OBJEKT - B17189'!D18+'SO 01 - HLAVNÝ OBJEKT - E17190'!D18+'SO 01 - HLAVNÝ OBJEKT - 17191'!D18+'SO 01 - HLAVNÝ OBJEKT - Z17192'!D18+'SO 01 - HLAVNÝ OBJEKT - Z17193'!D18+'SO 02 - SPEVNENÁ A ODSTAV17194'!D18+'SO 03 - VODOVODNÁ PRÍPOJK17195'!D18+'SO 04 - KANALIZAČNÁ PRÍPO17196'!D18+'SO 05 - OEZ (ODBERNÉ ELEK17197'!D18 -> 0 | E18: ='SO 01 - HLAVNÝ OBJEKT - A17188'!E18+'SO 01 - HLAVNÝ OBJEKT - B17189'!E18+'SO 01 - HLAVNÝ OBJEKT - E17190'!E18+'SO 01 - HLAVNÝ OBJEKT - 17191'!E18+'SO 01 - HLAVNÝ OBJEKT - Z17192'!E18+'SO 01 - HLAVNÝ OBJEKT - Z17193'!E18+'SO 02 - SPEVNENÁ A ODSTAV17194'!E18+'SO 03 - VODOVODNÁ PRÍPOJK17195'!E18+'SO 04 - KANALIZAČNÁ PRÍPO17196'!E18+'SO 05 - OEZ (ODBERNÉ ELEK17197'!E18 -> 0
B19: VN | C19: ='SO 01 - HLAVNÝ OBJEKT - A17188'!C19+'SO 01 - HLAVNÝ OBJEKT - B17189'!C19+'SO 01 - HLAVNÝ OBJEKT - E17190'!C19+'SO 01 - HLAVNÝ OBJEKT - 17191'!C19+'SO 01 - HLAVNÝ OBJEKT - Z17192'!C19+'SO 01 - HLAVNÝ OBJEKT - Z17193'!C19+'SO 02 - SPEVNENÁ A ODSTAV17194'!C19+'SO 03 - VODOVODNÁ PRÍPOJK17195'!C19+'SO 04 - KANALIZAČNÁ PRÍPO17196'!C19+'SO 05 - OEZ (ODBERNÉ ELEK17197'!C19 -> 0 | D19: ='SO 01 - HLAVNÝ OBJEKT - A17188'!D19+'SO 01 - HLAVNÝ OBJEKT - B17189'!D19+'SO 01 - HLAVNÝ OBJEKT - E17190'!D19+'SO 01 - HLAVNÝ OBJEKT - 17191'!D19+'SO 01 - HLAVNÝ OBJEKT - Z17192'!D19+'SO 01 - HLAVNÝ OBJEKT - Z17193'!D19+'SO 02 - SPEVNENÁ A ODSTAV17194'!D19+'SO 03 - VODOVODNÁ PRÍPOJK17195'!D19+'SO 04 - KANALIZAČNÁ PRÍPO17196'!D19+'SO 05 - OEZ (ODBERNÉ ELEK17197'!D19 -> 0 | E19: ='SO 01 - HLAVNÝ OBJEKT - A17188'!E19+'SO 01 - HLAVNÝ OBJEKT - B17189'!E19+'SO 01 - HLAVNÝ OBJEKT - E17190'!E19+'SO 01 - HLAVNÝ OBJEKT - 17191'!E19+'SO 01 - HLAVNÝ OBJEKT - Z17192'!E19+'SO 01 - HLAVNÝ OBJEKT - Z17193'!E19+'SO 02 - SPEVNENÁ A ODSTAV17194'!E19+'SO 03 - VODOVODNÁ PRÍPOJK17195'!E19+'SO 04 - KANALIZAČNÁ PRÍPO17196'!E19+'SO 05 - OEZ (ODBERNÉ ELEK17197'!E19 -> 0
B20: Spolu | E20: =SUM(E15:E19) -> 0 | F20: Spolu | I20: =SUM(I14:I18) -> 0
B21: VRN | F21: VRN
B22: Zariadenie staveniska | E22: ='SO 01 - HLAVNÝ OBJEKT - A17188'!E21+'SO 01 - HLAVNÝ OBJEKT - B17189'!E21+'SO 01 - HLAVNÝ OBJEKT - E17190'!E21+'SO 01 - HLAVNÝ OBJEKT - 17191'!E21+'SO 01 - HLAVNÝ OBJEKT - Z17192'!E21+'SO 01 - HLAVNÝ OBJEKT - Z17193'!E21+'SO 02 - SPEVNENÁ A ODSTAV17194'!E21+'SO 03 - VODOVODNÁ PRÍPOJK17195'!E21+'SO 04 - KANALIZAČNÁ PRÍPO17196'!E21+'SO 05 - OEZ (ODBERNÉ ELEK17197'!E21 -> 0 | F22: Sťažené podmienky dopravy | I22: ='SO 01 - HLAVNÝ OBJEKT - A17188'!P21+'SO 01 - HLAVNÝ OBJEKT - B17189'!P21+'SO 01 - HLAVNÝ OBJEKT - E17190'!P21+'SO 01 - HLAVNÝ OBJEKT - 17191'!P21+'SO 01 - HLAVNÝ OBJEKT - Z17192'!P21+'SO 01 - HLAVNÝ OBJEKT - Z17193'!P21+'SO 02 - SPEVNENÁ A ODSTAV17194'!P21+'SO 03 - VODOVODNÁ PRÍPOJK17195'!P21+'SO 04 - KANALIZAČNÁ PRÍPO17196'!P21+'SO 05 - OEZ (ODBERNÉ ELEK17197'!P21 -> 0
B23: Sťažené výrobné podmienky | E23: ='SO 01 - HLAVNÝ OBJEKT - A17188'!E22+'SO 01 - HLAVNÝ OBJEKT - B17189'!E22+'SO 01 - HLAVNÝ OBJEKT - E17190'!E22+'SO 01 - HLAVNÝ OBJEKT - 17191'!E22+'SO 01 - HLAVNÝ OBJEKT - Z17192'!E22+'SO 01 - HLAVNÝ OBJEKT - Z17193'!E22+'SO 02 - SPEVNENÁ A ODSTAV17194'!E22+'SO 03 - VODOVODNÁ PRÍPOJK17195'!E22+'SO 04 - KANALIZAČNÁ PRÍPO17196'!E22+'SO 05 - OEZ (ODBERNÉ ELEK17197'!E22 -> 0 | F23: Horské oblasti | I23: ='SO 01 - HLAVNÝ OBJEKT - A17188'!P22+'SO 01 - HLAVNÝ OBJEKT - B17189'!P22+'SO 01 - HLAVNÝ OBJEKT - E17190'!P22+'SO 01 - HLAVNÝ OBJEKT - 17191'!P22+'SO 01 - HLAVNÝ OBJEKT - Z17192'!P22+'SO 01 - HLAVNÝ OBJEKT - Z17193'!P22+'SO 02 - SPEVNENÁ A ODSTAV17194'!P22+'SO 03 - VODOVODNÁ PRÍPOJK17195'!P22+'SO 04 - KANALIZAČNÁ PRÍPO17196'!P22+'SO 05 - OEZ (ODBERNÉ ELEK17197'!P22 -> 0
B24: Prevádzkové vplyvy | E24: ='SO 01 - HLAVNÝ OBJEKT - A17188'!E23+'SO 01 - HLAVNÝ OBJEKT - B17189'!E23+'SO 01 - HLAVNÝ OBJEKT - E17190'!E23+'SO 01 - HLAVNÝ OBJEKT - 17191'!E23+'SO 01 - HLAVNÝ OBJEKT - Z17192'!E23+'SO 01 - HLAVNÝ OBJEKT - Z17193'!E23+'SO 02 - SPEVNENÁ A ODSTAV17194'!E23+'SO 03 - VODOVODNÁ PRÍPOJK17195'!E23+'SO 04 - KANALIZAČNÁ PRÍPO17196'!E23+'SO 05 - OEZ (ODBERNÉ ELEK17197'!E23 -> 0 | F24: Mimostavenisková doprava | I24: ='SO 01 - HLAVNÝ OBJEKT - A17188'!P23+'SO 01 - HLAVNÝ OBJEKT - B17189'!P23+'SO 01 - HLAVNÝ OBJEKT - E17190'!P23+'SO 01 - HLAVNÝ OBJEKT - 17191'!P23+'SO 01 - HLAVNÝ OBJEKT - Z17192'!P23+'SO 01 - HLAVNÝ OBJEKT - Z17193'!P23+'SO 02 - SPEVNENÁ A ODSTAV17194'!P23+'SO 03 - VODOVODNÁ PRÍPOJK17195'!P23+'SO 04 - KANALIZAČNÁ PRÍPO17196'!P23+'SO 05 - OEZ (ODBERNÉ ELEK17197'!P23 -> 0
F25: Spolu | I25: =SUM(E21:E24)+SUM(I21:I24) -> 0
B26: Projektant,rozpočtár | F26: Celkové náklady
F27: Celkové náklady bez DPH | I27: =E20+I20+I25 -> 0
F28: DPH 23% z | H28: =Rekapitulácia!B18 -> 0 | I28: =ROUND(((ROUND(H28,2)*23)/100),2)*1 -> 0
F29: DPH 0% z | H29: =Rekapitulácia!B19 -> 0 | I29: =ROUND(((ROUND(H29,2)*0)/100),2) -> 0
F30: Spolu v EUR | I30: =SUM(I27:I29) -> 0
B32: Odberateľ | E32: Dodávateľ

Sheet SO 01 - HLAVNÝ OBJEKT - A17188
B1: Krycí list rozpočtu | E1: Rekapitulácia rozpočtu | H1: Rozpočet | W1: 30.126
B2: Krycí list rozpočtu
B3: Stavba Centrum služieb pre zlepšenie fyzickej a pohybovej zdatnosti obyvateľov
B4: Objekt SO 01 - HLAVNÝ OBJEKT - ASR | F4: Miesto:
F5: Ks:
B6: Zákazka: | D6: Spracoval: Ing. Ján Halgaš | F6: Dňa | G6: 21. 1. 2025
B7: Odberateľ: Športový klub Miko fit-box
B8: IČO: 42383625 | F8: DIČ:
B9: Projektant: D. D. - ARCH s. r. o.
B10: IČO: | F10: DIČ:
B11: Dodávateľ: ...
B12: IČO: | F12: DIČ:
B14: ZRN | C14: Montáž | D14: Materiál | E14: ZRN spolu | F14: Ostatné náklady | P14: 0
B15: HSV | C15: ='SO 01 - HLAVNÝ OBJEKT - A17188'!E63 -> 0 | D15: ='SO 01 - HLAVNÝ OBJEKT - A17188'!F63 -> 0 | E15: ='SO 01 - HLAVNÝ OBJEKT - A17188'!G63 -> 0
B16: PSV | C16: ='SO 01 - HLAVNÝ OBJEKT - A17188'!E79 -> 0 | D16: ='SO 01 - HLAVNÝ OBJEKT - A17188'!F79 -> 0 | E16: ='SO 01 - HLAVNÝ OBJEKT - A17188'!G79 -> 0 | F16: Komplet. činnosť | P16: =(SUM(Z100:Z329)) -> 0
B17: MNT | C17: ='SO 01 - HLAVNÝ OBJEKT - A17188'!E83 -> 0 | D17: ='SO 01 - HLAVNÝ OBJEKT - A17188'!F83 -> 0 | E17: ='SO 01 - HLAVNÝ OBJEKT - A17188'!G83 -> 0 | F17: HZS | P17: 0
B18: OST
B19: VN
B20: Spolu | E20: =SUM(E15:E19) -> 0 | F20: Spolu | P20: =SUM(P14:P19) -> 0
B21: Zariadenie staveniska 0% | E21: =((E15*U22*0)+(E16*V22*0)+(E17*W22*0))/100 -> 0 | F21: Sťažené podmienky dopravy 0% | P21: =((E15*X22*0)+(E16*Y22*0)+(E17*Z22*0))/100 -> 0
B22: Sťažené výrobné podmienky 0% | E22: =((E15*U23*0)+(E16*V23*0)+(E17*W23*0))/100 -> 0 | F22: Horské oblasti 0% | P22: =((E15*X23*0)+(E16*Y23*0)+(E17*Z23*0))/100 -> 0 | U22: 1 | V22: 1 | W22: 1 | X22: 1 | Y22: 1 | Z22: 1
B23: Prevádzkové vplyvy 0% | E23: =((E15*U24*0)+(E16*V24*0)+(E17*W24*0))/100 -> 0 | F23: Mimostavenisková doprava 0% | P23: =((E15*X24*0)+(E16*Y24*0)+(E17*Z24*0))/100 -> 0 | U23: 1 | V23: 1 | W23: 0 | X23: 1 | Y23: 1 | Z23: 1
U24: 1 | V24: 1 | W24: 1 | X24: 1 | Y24: 1 | Z24: 0
F25: Spolu | P25: =SUM(E21:E24)+SUM(P21:P24) -> 0
B26: Projektant,rozpočtár | F26: Celkové náklady
F27: Celkové náklady bez DPH | P27: =E20+P20+E25+P25 -> 0
F28: DPH 23% z | H28: =P27-SUM('SO 01 - HLAVNÝ OBJEKT - A17188'!K100:'SO 01 - HLAVNÝ OBJEKT - A17188'!K329) -> 0 | P28: =ROUND(((ROUND(H28,2)*23)*1/100),2) -> 0
F29: DPH 0% z | H29: =SUM('SO 01 - HLAVNÝ OBJEKT - A17188'!K100:'SO 01 - HLAVNÝ OBJEKT - A17188'!K329) -> 0 | P29: =ROUND(((ROUND(H29,2)*0)/100),2) -> 0
F30: Spolu v EUR | P30: =SUM(P27:P29) -> 0
B32: Odberateľ | E32: Dodávateľ
B44: Rekapitulácia rozpočtu
B46: Odberateľ: Športový klub Miko fit-box | F46: Spracoval: Ing. Ján Halgaš
B47: Projektant: D. D. - ARCH s. r. o. | F47: Ks:
B48: Dodávateľ: ... | F48: Dátum: 21. 1. 2025
B49: Stavba Centrum služieb pre zlepšenie fyzickej a pohybovej zdatnosti obyvateľov
B50: Objekt SO 01 - HLAVNÝ OBJEKT - ASR
B53: Prehľad rozpočtových nákladov
E54: Montáž | F54: Materiál | G54: Spolu | H54: Hmotnosť (T) | I54: Sutina (T)
B55: Práce HSV
B56: ZEMNÉ PRÁCE | E56: ='SO 01 - HLAVNÝ OBJEKT - A17188'!L114 -> 0 | F56: ='SO 01 - HLAVNÝ OBJEKT - A17188'!M114 -> 0 | G56: ='SO 01 - HLAVNÝ OBJEKT - A17188'!I114 -> 0 | H56: ='SO 01 - HLAVNÝ OBJEKT - A17188'!S114 -> 0 | I56: ='SO 01 - HLAVNÝ OBJEKT - A17188'!V114 -> 0
B57: ZÁKLADY | E57: ='SO 01 - HLAVNÝ OBJEKT - A17188'!L136 -> 0 | F57: ='SO 01 - HLAVNÝ OBJEKT - A17188'!M136 -> 0 | G57: ='SO 01 - HLAVNÝ OBJEKT - A17188'!I136 -> 0 | H57: ='SO 01 - HLAVNÝ OBJEKT - A17188'!S136 -> 605.03 | I57: ='SO 01 - HLAVNÝ OBJEKT - A17188'!V136 -> 0
B58: ZVISLÉ KONŠTRUKCIE | E58: ='SO 01 - HLAVNÝ OBJEKT - A17188'!L149 -> 0 | F58: ='SO 01 - HLAVNÝ OBJEKT - A17188'!M149 -> 0 | G58: ='SO 01 - HLAVNÝ OBJEKT - A17188'!I149 -> 0 | H58: ='SO 01 - HLAVNÝ OBJEKT - A17188'!S149 -> 46.94 | I58: ='SO 01 - HLAVNÝ OBJEKT - A17188'!V149 -> 0
B59: VODOROVNÉ KONŠTRUKCIE | E59: ='SO 01 - HLAVNÝ OBJEKT - A17188'!L158 -> 0 | F59: ='SO 01 - HLAVNÝ OBJEKT - A17188'!M158 -> 0 | G59: ='SO 01 - HLAVNÝ OBJEKT - A17188'!I158 -> 0 | H59: ='SO 01 - HLAVNÝ OBJEKT - A17188'!S158 -> 7.35 | I59: ='SO 01 - HLAVNÝ OBJEKT - A17188'!V158 -> 0
B60: POVRCHOVÉ ÚPRAVY | E60: ='SO 01 - HLAVNÝ OBJEKT - A17188'!L188 -> 0 | F60: ='SO 01 - HLAVNÝ OBJEKT - A17188'!M188 -> 0 | G60: ='SO 01 - HLAVNÝ OBJEKT - A17188'!I188 -> 0 | H60: ='SO 01 - HLAVNÝ OBJEKT - A17188'!S188 -> 177.53 | I60: ='SO 01 - HLAVNÝ OBJEKT - A17188'!V188 -> 0
B61: OSTATNÉ KONŠTRUKCIE A PRÁCE | E61: ='SO 01 - HLAVNÝ OBJEKT - A17188'!L195 -> 0 | F61: ='SO 01 - HLAVNÝ OBJEKT - A17188'!M195 -> 0 | G61: ='SO 01 - HLAVNÝ OBJEKT - A17188'!I195 -> 0 | H61: ='SO 01 - HLAVNÝ OBJEKT - A17188'!S195 -> 1.91 | I61: ='SO 01 - HLAVNÝ OBJEKT - A17188'!V195 -> 0
B62: PRESUNY HMÔT | E62: ='SO 01 - HLAVNÝ OBJEKT - A17188'!L199 -> 0 | F62: ='SO 01 - HLAVNÝ OBJEKT - A17188'!M199 -> 0 | G62: ='SO 01 - HLAVNÝ OBJEKT - A17188'!I199 -> 0 | H62: ='SO 01 - HLAVNÝ OBJEKT - A17188'!S199 -> 0 | I62: ='SO 01 - HLAVNÝ OBJEKT - A17188'!V199 -> 0
B63: Práce HSV | E63: ='SO 01 - HLAVNÝ OBJEKT - A17188'!L201 -> 0 | F63: ='SO 01 - HLAVNÝ OBJEKT - A17188'!M201 -> 0 | G63: ='SO 01 - HLAVNÝ OBJEKT - A17188'!I201 -> 0 | H63: ='SO 01 - HLAVNÝ OBJEKT - A17188'!S201 -> 838.76 | I63: ='SO 01 - HLAVNÝ OBJEKT - A17188'!V201 -> 0
B65: Práce PSV
B66: IZOLÁCIE PROTI VODE A VLHKOSTI | E66: ='SO 01 - HLAVNÝ OBJEKT - A17188'!L215 -> 0 | F66: ='SO 01 - HLAVNÝ OBJEKT - A17188'!M215 -> 0 | G66: ='SO 01 - HLAVNÝ OBJEKT - A17188'!I215 -> 0 | H66: ='SO 01 - HLAVNÝ OBJEKT - A17188'!S215 -> 0.95 | I66: ='SO 01 - HLAVNÝ OBJEKT - A17188'!V215 -> 0
B67: IZOLÁCIE TEPELNÉ BEŽNÝCH STAVEBNÝCH KONŠTRUKCIÍ | E67: ='SO 01 - HLAVNÝ OBJEKT - A17188'!L223 -> 0 | F67: ='SO 01 - HLAVNÝ OBJEKT - A17188'!M223 -> 0 | G67: ='SO 01 - HLAVNÝ OBJEKT - A17188'!I223 -> 0 | H67: ='SO 01 - HLAVNÝ OBJEKT - A17188'!S223 -> 0.03 | I67: ='SO 01 - HLAVNÝ OBJEKT - A17188'!V223 -> 0
B68: ZTI - VNÚTORNA KANALIZÁCIA | E68: ='SO 01 - HLAVNÝ OBJEKT - A17188'!L231 -> 0 | F68: ='SO 01 - HLAVNÝ OBJEKT - A17188'!M231 -> 0 | G68: ='SO 01 - HLAVNÝ OBJEKT - A17188'!I231 -> 0 | H68: ='SO 01 - HLAVNÝ OBJEKT - A17188'!S231 -> 0.09 | I68: ='SO 01 - HLAVNÝ OBJEKT - A17188'!V231 -> 0
B69: ZTI - ZARIAĎOVACIE PREDMETY | E69: ='SO 01 - HLAVNÝ OBJEKT - A17188'!L235 -> 0 | F69: ='SO 01 - HLAVNÝ OBJEKT - A17188'!M235 -> 0 | G69: ='SO 01 - HLAVNÝ OBJEKT - A17188'!I235 -> 0 | H69: ='SO 01 - HLAVNÝ OBJEKT - A17188'!S235 -> 0.01 | I69: ='SO 01 - HLAVNÝ OBJEKT - A17188'!V235 -> 0
B70: KONŠTRUKCIE TESÁRSKE | E70: ='SO 01 - HLAVNÝ OBJEKT - A17188'!L242 -> 0 | F70: ='SO 01 - HLAVNÝ OBJEKT - A17188'!M242 -> 0 | G70: ='SO 01 - HLAVNÝ OBJEKT - A17188'!I242 -> 0 | H70: ='SO 01 - HLAVNÝ OBJEKT - A17188'!S242 -> 0 | I70: ='SO 01 - HLAVNÝ OBJEKT - A17188'!V242 -> 0
B71: DREVOSTAVBY | E71: ='SO 01 - HLAVNÝ OBJEKT - A17188'!L248 -> 0 | F71: ='SO 01 - HLAVNÝ OBJEKT - A17188'!M248 -> 0 | G71: ='SO 01 - HLAVNÝ OBJEKT - A17188'!I248 -> 0 | H71: ='SO 01 - HLAVNÝ OBJEKT - A17188'!S248 -> 1.6 | I71: ='SO 01 - HLAVNÝ OBJEKT - A17188'!V248 -> 0
B72: KONŠTRUKCIE KLAMPIARSKE | E72: ='SO 01 - HLAVNÝ OBJEKT - A17188'!L255 -> 0 | F72: ='SO 01 - HLAVNÝ OBJEKT - A17188'!M255 -> 0 | G72: ='SO 01 - HLAVNÝ OBJEKT - A17188'!I255 -> 0 | H72: ='SO 01 - HLAVNÝ OBJEKT - A17188'!S255 -> 0.06 | I72: ='SO 01 - HLAVNÝ OBJEKT - A17188'!V255 -> 0
B73: KONŠTRUKCIE STOLÁRSKE | E73: ='SO 01 - HLAVNÝ OBJEKT - A17188'!L270 -> 0 | F73: ='SO 01 - HLAVNÝ OBJEKT - A17188'!M270 -> 0 | G73: ='SO 01 - HLAVNÝ OBJEKT - A17188'!I270 -> 0 | H73: ='SO 01 - HLAVNÝ OBJEKT - A17188'!S270 -> 0.51 | I73: ='SO 01 - HLAVNÝ OBJEKT - A17188'!V270 -> 0
B74: KOVOVÉ DOPLNKOVÉ KONŠTRUKCIE | E74: ='SO 01 - HLAVNÝ OBJEKT - A17188'!L290 -> 0 | F74: ='SO 01 - HLAVNÝ OBJEKT - A17188'!M290 -> 0 | G74: ='SO 01 - HLAVNÝ OBJEKT - A17188'!I290 -> 0 | H74: ='SO 01 - HLAVNÝ OBJEKT - A17188'!S290 -> 10.5 | I74: ='SO 01 - HLAVNÝ OBJEKT - A17188'!V290 -> 0
B75: PODLAHY A DLAŽBY KERAMICKÉ | E75: ='SO 01 - HLAVNÝ OBJEKT - A17188'!L299 -> 0 | F75: ='SO 01 - HLAVNÝ OBJEKT - A17188'!M299 -> 0 | G75: ='SO 01 - HLAVNÝ OBJEKT - A17188'!I299 -> 0 | H75: ='SO 01 - HLAVNÝ OBJEKT - A17188'!S299 -> 0.93 | I75: ='SO 01 - HLAVNÝ OBJEKT - A17188'!V299 -> 0
B76: PODLAHY POVLAKOVÉ | E76: ='SO 01 - HLAVNÝ OBJEKT - A17188'!L307 -> 0 | F76: ='SO 01 - HLAVNÝ OBJEKT - A17188'!M307 -> 0 | G76: ='SO 01 - HLAVNÝ OBJEKT - A17188'!I307 -> 0 | H76: ='SO 01 - HLAVNÝ OBJEKT - A17188'!S307 -> 0.92 | I76: ='SO 01 - HLAVNÝ OBJEKT - A17188'!V307 -> 0
B77: OBKLADY KERAMICKÉ | E77: ='SO 01 - HLAVNÝ OBJEKT - A17188'!L313 -> 0 | F77: ='SO 01 - HLAVNÝ OBJEKT - A17188'!M313 -> 0 | G77: ='SO 01 - HLAVNÝ OBJEKT - A17188'!I313 -> 0 | H77: ='SO 01 - HLAVNÝ OBJEKT - A17188'!S313 -> 3.74 | I77: ='SO 01 - HLAVNÝ OBJEKT - A17188'!V313 -> 0
B78: NÁTERY | E78: ='SO 01 - HLAVNÝ OBJEKT - A17188'!L319 -> 0 | F78: ='SO 01 - HLAVNÝ OBJEKT - A17188'!M319 -> 0 | G78: ='SO 01 - HLAVNÝ OBJEKT - A17188'!I319 -> 0 | H78: ='SO 01 - HLAVNÝ OBJEKT - A17188'!S319 -> 0.28 | I78: ='SO 01 - HLAVNÝ OBJEKT - A17188'!V319 -> 0
B79: Práce PSV | E79: ='SO 01 - HLAVNÝ OBJEKT - A17188'!L321 -> 0 | F79: ='SO 01 - HLAVNÝ OBJEKT - A17188'!M321 -> 0 | G79: ='SO 01 - HLAVNÝ OBJEKT - A17188'!I321 -> 0 | H79: ='SO 01 - HLAVNÝ OBJEKT - A17188'!S321 -> 19.63 | I79: ='SO 01 - HLAVNÝ OBJEKT - A17188'!V321 -> 0
B81: Montážne práce
B82: M-43 MONTÁŽ OCEĽOVÝCH KONŠTRUKCIÍ | E82: ='SO 01 - HLAVNÝ OBJEKT - A17188'!L327 -> 0 | F82: ='SO 01 - HLAVNÝ OBJEKT - A17188'!M327 -> 0 | G82: ='SO 01 - HLAVNÝ OBJEKT - A17188'!I327 -> 0 | H82: ='SO 01 - HLAVNÝ OBJEKT - A17188'!S327 -> 12.48 | I82: ='SO 01 - HLAVNÝ OBJEKT - A17188'!V327 -> 0
B83: Montážne práce | E83: ='SO 01 - HLAVNÝ OBJEKT - A17188'!L329 -> 0 | F83: ='SO 01 - HLAVNÝ OBJEKT - A17188'!M329 -> 0 | G83: ='SO 01 - HLAVNÝ OBJEKT - A17188'!I329 -> 0 | H83: ='SO 01 - HLAVNÝ OBJEKT - A17188'!S329 -> 12.48 | I83: ='SO 01 - HLAVNÝ OBJEKT - A17188'!V329 -> 0
B85: Celkom v EUR | E85: ='SO 01 - HLAVNÝ OBJEKT - A17188'!L330 -> 0 | F85: ='SO 01 - HLAVNÝ OBJEKT - A17188'!M330 -> 0 | G85: ='SO 01 - HLAVNÝ OBJEKT - A17188'!I330 -> 0 | H85: ='SO 01 - HLAVNÝ OBJEKT - A17188'!S330 -> 870.87 | I85: ='SO 01 - HLAVNÝ OBJEKT - A17188'!V330 -> 0
B89: Rozpočet
B91: Odberateľ: Športový klub Miko fit-box | H91: Spracoval: | I91: Ing. Ján Halgaš
B92: Projektant: D. D. - ARCH s. r. o. | H92: Ks:
B93: Dodávateľ: ... | H93: Dátum: | I93: 21. 1. 2025
B94: Zákazka Centrum služieb pre zlepšenie fyzickej a pohybovej zdatnosti obyvateľov
B95: Objekt SO 01 - HLAVNÝ OBJEKT - ASR
B98: Prehľad rozpočtových nákladov
B99: Por.č. | C99: Kód položky | D99: Názov | F99: Mj | G99: Množstvo | H99: Cena/Mj | I99: Cena celkom | P99: Hmotnosť/Mj | S99: Hmotnosť | V99: Sutina
D100: Práce HSV
C101: 1 | D101: ZEMNÉ PRÁCE
B102: 1 | C102: 122201101 | D102: Odkopávka a prekopávka nezapažená v hornine 3,do 100 m3 | F102: m3 | G102: 76.01 | I102: =ROUND(G102*(H102),2) -> 0 | J102: =ROUND(G102*(N102),2) -> 593.64 | K102: =ROUND(G102*(O102),2) -> 0 | L102: =ROUND(G102*(H102),2) -> 0 | N102: 7.81 | P102: 0 | R102: 0 | S102: =ROUND(G102*(P102),3) -> 0 | V102: =ROUND(G102*(X102),3) -> 0 | X102: 0 | Z102: 0
B103: 2 | C103: 122201109 | D103: Príplatok k cenám za lepivosť horniny | F103: m3 | G103: 38.005 | I103: =ROUND(G103*(H103),2) -> 0 | J103: =ROUND(G103*(N103),2) -> 48.65 | K103: =ROUND(G103*(O103),2) -> 0 | L103: =ROUND(G103*(H103),2) -> 0 | N103: 1.28 | P103: 0 | R103: 0 | S103: =ROUND(G103*(P103),3) -> 0 | V103: =ROUND(G103*(X103),3) -> 0 | X103: 0 | Z103: 0
B104: 3 | C104: 132201101 | D104: Výkop ryhy do šírky 600 mm v horn.3 do 100 m3 | F104: m3 | G104: 75.218 | I104: =ROUND(G104*(H104),2) -> 0 | J104: =ROUND(G104*(N104),2) -> 2668.73 | K104: =ROUND(G104*(O104),2) -> 0 | L104: =ROUND(G104*(H104),2) -> 0 | N104: 35.48 | P104: 0 | R104: 0 | S104: =ROUND(G104*(P104),3) -> 0 | V104: =ROUND(G104*(X104),3) -> 0 | X104: 0 | Z104: 0
B105: 4 | C105: 132201109 | D105: Príplatok k cene za lepivosť horniny pri hĺbení rýh šírky do 0,6 m v hornine triedy 3 | F105: m3 | G105: 37.609 | I105: =ROUND(G105*(H105),2) -> 0 | J105: =ROUND(G105*(N105),2) -> 387.75 | K105: =ROUND(G105*(O105),2) -> 0 | L105: =ROUND(G105*(H105),2) -> 0 | N105: 10.31 | P105: 0 | R105: 0 | S105: =ROUND(G105*(P105),3) -> 0 | V105: =ROUND(G105*(X105),3) -> 0 | X105: 0 | Z105: 0
B106: 5 | C106: 133201101 | D106: Výkop šachty hornina 3 do 100 m3 | F106: m3 | G106: 27.468 | I106: =ROUND(G106*(H106),2) -> 0 | J106: =ROUND(G106*(N106),2) -> 1543.7 | K106: =ROUND(G106*(O106),2) -> 0 | L106: =ROUND(G106*(H106),2) -> 0 | N106: 56.2 | P106: 0 | R106: 0 | S106: =ROUND(G106*(P106),3) -> 0 | V106: =ROUND(G106*(X106),3) -> 0 | X106: 0 | Z106: 0
B107: 6 | C107: 133201109 | D107: Príplatok k cenám za lepivosť horniny | F107: m3 | G107: 13.734 | I107: =ROUND(G107*(H107),2) -> 0 | J107: =ROUND(G107*(N107),2) -> 103.69 | K107: =ROUND(G107*(O107),2) -> 0 | L107: =ROUND(G107*(H107),2) -> 0 | N107: 7.55 | P107: 0 | R107: 0 | S107: =ROUND(G107*(P107),3) -> 0 | V107: =ROUND(G107*(X107),3) -> 0 | X107: 0 | Z107: 0
B108: 7 | C108: 162301102 | D108: Vodorovné premiestnenie výkopku tr.1-4,do 1000 m | F108: m3 | G108: 162.506 | I108: =ROUND(G108*(H108),2) -> 0 | J108: =ROUND(G108*(N108),2) -> 755.65 | K108: =ROUND(G108*(O108),2) -> 0 | L108: =ROUND(G108*(H108),2) -> 0 | N108: 4.65 | P108: 0 | R108: 0 | S108: =ROUND(G108*(P108),3) -> 0 | V108: =ROUND(G108*(X108),3) -> 0 | X108: 0 | Z108: 0
B109: 8 | C109: 171201101 | D109: Uloženie sypaniny do násypov s rozprestretím sypaniny vo vrstvách a s hrubým urovnaním nezhutnených | F109: m3 | G109: 162.506 | I109: =ROUND(G109*(H109),2) -> 0 | J109: =ROUND(G109*(N109),2) -> 214.51 | K109: =ROUND(G109*(O109),2) -> 0 | L109: =ROUND(G109*(H109),2) -> 0 | N109: 1.32 | P109: 0 | R109: 0 | S109: =ROUND(G109*(P109),3) -> 0 | V109: =ROUND(G109*(X109),3) -> 0 | X109: 0 | Z109: 0
B110: 9 | C110: 174101001 | D110: Zásyp sypaninou so zhutnením jám, šachiet, rýh, zárezov alebo okolo objektov do 100 m3 | F110: m3 | G110: 16.19 | I110: =ROUND(G110*(H110),2) -> 0 | J110: =ROUND(G110*(N110),2) -> 77.55 | K110: =ROUND(G110*(O110),2) -> 0 | L110: =ROUND(G110*(H110),2) -> 0 | N110: 4.79 | P110: 0 | R110: 0 | S110: =ROUND(G110*(P110),3) -> 0 | V110: =ROUND(G110*(X110),3) -> 0 | X110: 0 | Z110: 0
B111: 10 | C111: 175101100 | D111: Obsyp potrubia sypaninou z vhodných hornín triedy 1 až 4 s prehodením sypaniny | F111: m3 | G111: 4.14 | I111: =ROUND(G111*(H111),2) -> 0 | J111: =ROUND(G111*(N111),2) -> 138.32 | K111: =ROUND(G111*(O111),2) -> 0 | L111: =ROUND(G111*(H111),2) -> 0 | N111: 33.41 | P111: 0 | R111: 0 | S111: =ROUND(G111*(P111),3) -> 0 | V111: =ROUND(G111*(X111),3) -> 0 | X111: 0 | Z111: 0
B112: 11 | C112: 181101102 | D112: Úprava pláne v zárezoch v hornine 1-4 so zhutnením | F112: m2 | G112: 333.5 | I112: =ROUND(G112*(H112),2) -> 0 | J112: =ROUND(G112*(N112),2) -> 193.43 | K112: =ROUND(G112*(O112),2) -> 0 | L112: =ROUND(G112*(H112),2) -> 0 | N112: 0.58 | P112: 0 | R112: 0 | S112: =ROUND(G112*(P112),3) -> 0 | V112: =ROUND(G112*(X112),3) -> 0 | X112: 0 | Z112: 0
B113: 12 | C113: 583311110 | D113: Piesok pre obsyp potrubia 0-4 | F113: t | G113: 7.038 | I113: =ROUND(G113*(H113),2) -> 0 | J113: =ROUND(G113*(N113),2) -> 193.55 | K113: =ROUND(G113*(O113),2) -> 0 | M113: =ROUND(G113*(H113),2) -> 0 | N113: 27.5 | P113: 0 | R113: 0 | S113: =ROUND(G113*(P113),3) -> 0 | V113: =ROUND(G113*(X113),3) -> 0 | X113: 0 | Z113: 0
C114: 1 | D114: ZEMNÉ PRÁCE | I114: =ROUND((SUM(I101:I113))/1,2) -> 0 | L114: =ROUND((SUM(L101:L113))/1,2) -> 0 | M114: =ROUND((SUM(M101:M113))/1,2) -> 0 | S114: =ROUND((SUM(S101:S113))/1,2) -> 0 | V114: =ROUND((SUM(V101:V113))/1,2) -> 0
C116: 2 | D116: ZÁKLADY
B117: 13 | C117: 211971110 | D117: Zhotovenie opláštenia výplne z geotextílie, v ryhe alebo v záreze so stenami šikmými o skl. do 1:2,5 | F117: m2 | G117: 8.407 | I117: =ROUND(G117*(H117),2) -> 0 | J117: =ROUND(G117*(N117),2) -> 13.28 | K117: =ROUND(G117*(O117),2) -> 0 | L117: =ROUND(G117*(H117),2) -> 0 | N117: 1.58 | P117: 0.00018 | R117: 0.00018 | S117: =ROUND(G117*(P117),3) -> 0.002 | V117: =ROUND(G117*(X117),3) -> 0 | X117: 0 | Z117: 0
B118: 14 | C118: 212572121 | D118: Lôžko pre trativod z kameniva drobného ťaženého | F118: m3 | G118: 2.125 | I118: =ROUND(G118*(H118),2) -> 0 | J118: =ROUND(G118*(N118),2) -> 89.29 | K118: =ROUND(G118*(O118),2) -> 0 | L118: =ROUND(G118*(H118),2) -> 0 | N118: 42.02 | P118: 1.9205 | R118: 1.9205 | S118: =ROUND(G118*(P118),3) -> 4.081 | V118: =ROUND(G118*(X118),3) -> 0 | X118: 0 | Z118: 0
B119: 15 | C119: 271533011 | D119: Násyp pod základovú konštrukciu so zhutnením zo štrkodrvy | F119: m3 | G119: 170.52 | I119: =ROUND(G119*(H119),2) -> 0 | J119: =ROUND(G119*(N119),2) -> 9296.75 | K119: =ROUND(G119*(O119),2) -> 0 | L119: =ROUND(G119*(H119),2) -> 0 | N119: 54.52 | P119: 2.07 | R119: 2.07 | S119: =ROUND(G119*(P119),3) -> 352.976 | V119: =ROUND(G119*(X119),3) -> 0 | X119: 0 | Z119: 0
B120: 16 | C120: 271573011 | D120: Násyp pod základové konštrukcie so zhutnením zo štrkopiesku frakcie 0 až 32 mm | F120: m3 | G120: 6.88 | I120: =ROUND(G120*(H120),2) -> 0 | J120: =ROUND(G120*(N120),2) -> 305.88 | K120: =ROUND(G120*(O120),2) -> 0 | L120: =ROUND(G120*(H120),2) -> 0 | N120: 44.46 | P120: 2.07 | R120: 2.07 | S120: =ROUND(G120*(P120),3) -> 14.242 | V120: =ROUND(G120*(X120),3) -> 0 | X120: 0 | Z120: 0
B121: 17 | C121: 272313711 | D121: Betón základových konštrukcií prostý tr.STN EN 206-1 C20/25–XC1(SK)–CI 0,4–Dmax 16–S3 | F121: M3 | G121: 2.694 | I121: =ROUND(G121*(H121),2) -> 0 | J121: =ROUND(G121*(N121),2) -> 383.68 | K121: =ROUND(G121*(O121),2) -> 0 | L121: =ROUND(G121*(H121),2) -> 0 | N121: 142.42 | P121: 2.4263 | R121: 2.4263 | S121: =ROUND(G121*(P121),3) -> 6.536 | V121: =ROUND(G121*(X121),3) -> 0 | X121: 0 | Z121: 0
B122: 18 | C122: 272351215 | D122: Debnenie stien základových konštrukcií, zhotovenie-dielce | F122: M2 | G122: 6.24 | I122: =ROUND(G122*(H122),2) -> 0 | J122: =ROUND(G122*(N122),2) -> 73.32 | K122: =ROUND(G122*(O122),2) -> 0 | L122: =ROUND(G122*(H122),2) -> 0 | N122: 11.75 | P122: 0.0016 | R122: 0.0016 | S122: =ROUND(G122*(P122),3) -> 0.01 | V122: =ROUND(G122*(X122),3) -> 0 | X122: 0 | Z122: 0
B123: 19 | C123: 272351216 | D123: Debnenie stien základových konštrukcií, odstránenie-dielce | F123: M2 | G123: 6.24 | I123: =ROUND(G123*(H123),2) -> 0 | J123: =ROUND(G123*(N123),2) -> 12.85 | K123: =ROUND(G123*(O123),2) -> 0 | L123: =ROUND(G123*(H123),2) -> 0 | N123: 2.06 | P123: 0 | R123: 0 | S123: =ROUND(G123*(P123),3) -> 0 | V123: =ROUND(G123*(X123),3) -> 0 | X123: 0 | Z123: 0
B124: 20 | C124: 274271303 | D124: Murivo základových pásov z betónových tvárnic 300x500x250 mm a s betónovou výplňou | F124: m3 | G124: 25.822 | I124: =ROUND(G124*(H124),2) -> 0 | J124: =ROUND(G124*(N124),2) -> 6274.49 | K124: =ROUND(G124*(O124),2) -> 0 | L124: =ROUND(G124*(H124),2) -> 0 | N124: 242.99 | P124: 2.01285 | R124: 2.01285 | S124: =ROUND(G124*(P124),3) -> 51.976 | V124: =ROUND(G124*(X124),3) -> 0 | X124: 0 | Z124: 0
B125: 21 | C125: 274313351 | D125: Betón základových pásov prostý triedy STN EN 206-1 C20/25–XC1(SK)–CI 0,4–Dmax 16–S3 | F125: m3 | G125: 42.046 | I125: =ROUND(G125*(H125),2) -> 0 | J125: =ROUND(G125*(N125),2) -> 5119.1 | K125: =ROUND(G125*(O125),2) -> 0 | L125: =ROUND(G125*(H125),2) -> 0 | N125: 121.75 | P125: 2.2119 | R125: 2.2119 | S125: =ROUND(G125*(P125),3) -> 93.002 | V125: =ROUND(G125*(X125),3) -> 0 | X125: 0 | Z125: 0
B126: 22 | C126: 274351211 | D126: Debnenie stien základových pásov z dielcov - zhotovenie | F126: m2 | G126: 8.59 | I126: =ROUND(G126*(H126),2) -> 0 | J126: =ROUND(G126*(N126),2) -> 157.88 | K126: =ROUND(G126*(O126),2) -> 0 | L126: =ROUND(G126*(H126),2) -> 0 | N126: 18.38 | P126: 0.00067 | R126: 0.00067 | S126: =ROUND(G126*(P126),3) -> 0.006 | V126: =ROUND(G126*(X126),3) -> 0 | X126: 0 | Z126: 0
...

Sheet SO 01 - HLAVNÝ OBJEKT - B17189
B1: Krycí list rozpočtu | E1: Rekapitulácia rozpočtu | H1: Rozpočet | W1: 30.126
B2: Krycí list rozpočtu
B3: Stavba Centrum služieb pre zlepšenie fyzickej a pohybovej zdatnosti obyvateľov
B4: Objekt SO 01 - HLAVNÝ OBJEKT - Bleskozvod | F4: Miesto:
F5: Ks:
B6: Zákazka: | D6: Spracoval: Ing. Ján Halgaš | F6: Dňa | G6: 21. 1. 2025
B7: Odberateľ: Športový klub Miko fit-box
B8: IČO: 42383625 | F8: DIČ:
B9: Projektant: D. D. - ARCH s. r. o.
B10: IČO: | F10: DIČ:
B11: Dodávateľ: ...
B12: IČO: | F12: DIČ:
B14: ZRN | C14: Montáž | D14: Materiál | E14: ZRN spolu | F14: Ostatné náklady | P14: 0
B15: HSV
B16: PSV | F16: Komplet. činnosť | P16: =(SUM(Z75:Z118)) -> 0
B17: MNT | C17: ='SO 01 - HLAVNÝ OBJEKT - B17189'!E58 -> 0 | D17: ='SO 01 - HLAVNÝ OBJEKT - B17189'!F58 -> 0 | E17: ='SO 01 - HLAVNÝ OBJEKT - B17189'!G58 -> 0 | F17: HZS | P17: 0
B18: OST
B19: VN
B20: Spolu | E20: =SUM(E15:E19) -> 0 | F20: Spolu | P20: =SUM(P14:P19) -> 0
B21: Zariadenie staveniska 0% | E21: =((E15*U22*0)+(E16*V22*0)+(E17*W22*0))/100 -> 0 | F21: Sťažené podmienky dopravy 0% | P21: =((E15*X22*0)+(E16*Y22*0)+(E17*Z22*0))/100 -> 0
B22: Sťažené výrobné podmienky 0% | E22: =((E15*U23*0)+(E16*V23*0)+(E17*W23*0))/100 -> 0 | F22: Horské oblasti 0% | P22: =((E15*X23*0)+(E16*Y23*0)+(E17*Z23*0))/100 -> 0 | U22: 1 | V22: 1 | W22: 1 | X22: 1 | Y22: 1 | Z22: 1
B23: Prevádzkové vplyvy 0% | E23: =((E15*U24*0)+(E16*V24*0)+(E17*W24*0))/100 -> 0 | F23: Mimostavenisková doprava 0% | P23: =((E15*X24*0)+(E16*Y24*0)+(E17*Z24*0))/100 -> 0 | U23: 1 | V23: 1 | W23: 0 | X23: 1 | Y23: 1 | Z23: 1
U24: 1 | V24: 1 | W24: 1 | X24: 1 | Y24: 1 | Z24: 0
F25: Spolu | P25: =SUM(E21:E24)+SUM(P21:P24) -> 0
B26: Projektant,rozpočtár | F26: Celkové náklady
F27: Celkové náklady bez DPH | P27: =E20+P20+E25+P25 -> 0
F28: DPH 23% z | H28: =P27-SUM('SO 01 - HLAVNÝ OBJEKT - B17189'!K75:'SO 01 - HLAVNÝ OBJEKT - B17189'!K118) -> 0 | P28: =ROUND(((ROUND(H28,2)*23)*1/100),2) -> 0
F29: DPH 0% z | H29: =SUM('SO 01 - HLAVNÝ OBJEKT - B17189'!K75:'SO 01 - HLAVNÝ OBJEKT - B17189'!K118) -> 0 | P29: =ROUND(((ROUND(H29,2)*0)/100),2) -> 0
F30: Spolu v EUR | P30: =SUM(P27:P29) -> 0
B32: Odberateľ | E32: Dodávateľ
B44: Rekapitulácia rozpočtu
B46: Odberateľ: Športový klub Miko fit-box | F46: Spracoval: Ing. Ján Halgaš
B47: Projektant: D. D. - ARCH s. r. o. | F47: Ks:
B48: Dodávateľ: ... | F48: Dátum: 21. 1. 2025
B49: Stavba Centrum služieb pre zlepšenie fyzickej a pohybovej zdatnosti obyvateľov
B50: Objekt SO 01 - HLAVNÝ OBJEKT - Bleskozvod
B53: Prehľad rozpočtových nákladov
E54: Montáž | F54: Materiál | G54: Spolu | H54: Hmotnosť (T) | I54: Sutina (T)
B55: Montážne práce
B56: M-21 ELEKTROMONTÁŽE | E56: ='SO 01 - HLAVNÝ OBJEKT - B17189'!L110 -> 0 | F56: ='SO 01 - HLAVNÝ OBJEKT - B17189'!M110 -> 0 | G56: ='SO 01 - HLAVNÝ OBJEKT - B17189'!I110 -> 0 | H56: ='SO 01 - HLAVNÝ OBJEKT - B17189'!S110 -> 0 | I56: ='SO 01 - HLAVNÝ OBJEKT - B17189'!V110 -> 0
B57: M-46 ZEMNÉ PRÁCE PRI EXTERNÝCH MONTÁŽACH | E57: ='SO 01 - HLAVNÝ OBJEKT - B17189'!L116 -> 0 | F57: ='SO 01 - HLAVNÝ OBJEKT - B17189'!M116 -> 0 | G57: ='SO 01 - HLAVNÝ OBJEKT - B17189'!I116 -> 0 | H57: ='SO 01 - HLAVNÝ OBJEKT - B17189'!S116 -> 0 | I57: ='SO 01 - HLAVNÝ OBJEKT - B17189'!V116 -> 0
B58: Montážne práce | E58: ='SO 01 - HLAVNÝ OBJEKT - B17189'!L118 -> 0 | F58: ='SO 01 - HLAVNÝ OBJEKT - B17189'!M118 -> 0 | G58: ='SO 01 - HLAVNÝ OBJEKT - B17189'!I118 -> 0 | H58: ='SO 01 - HLAVNÝ OBJEKT - B17189'!S118 -> 0 | I58: ='SO 01 - HLAVNÝ OBJEKT - B17189'!V118 -> 0
B60: Celkom v EUR | E60: ='SO 01 - HLAVNÝ OBJEKT - B17189'!L119 -> 0 | F60: ='SO 01 - HLAVNÝ OBJEKT - B17189'!M119 -> 0 | G60: ='SO 01 - HLAVNÝ OBJEKT - B17189'!I119 -> 0 | H60: ='SO 01 - HLAVNÝ OBJEKT - B17189'!S119 -> 0 | I60: ='SO 01 - HLAVNÝ OBJEKT - B17189'!V119 -> 0
B64: Rozpočet
B66: Odberateľ: Športový klub Miko fit-box | H66: Spracoval: | I66: Ing. Ján Halgaš
B67: Projektant: D. D. - ARCH s. r. o. | H67: Ks:
B68: Dodávateľ: ... | H68: Dátum: | I68: 21. 1. 2025
B69: Zákazka Centrum služieb pre zlepšenie fyzickej a pohybovej zdatnosti obyvateľov
B70: Objekt SO 01 - HLAVNÝ OBJEKT - Bleskozvod
B73: Prehľad rozpočtových nákladov
B74: Por.č. | C74: Kód položky | D74: Názov | F74: Mj | G74: Množstvo | H74: Cena/Mj | I74: Cena celkom | P74: Hmotnosť/Mj | S74: Hmotnosť | V74: Sutina
D75: Montážne práce
C76: 921 | D76: M-21 ELEKTROMONTÁŽE
B77: 1 | C77: 210220021 | D77: Uzemňovacie vedenie v zemi FeZn vrátane izolácie spojov O 10mm | F77: ks | G77: 137.5 | I77: =ROUND(G77*(H77),2) -> 0 | J77: =ROUND(G77*(N77),2) -> 270.88 | K77: =ROUND(G77*(O77),2) -> 0 | L77: =ROUND(G77*(H77),2) -> 0 | N77: 1.97 | P77: 0 | R77: 0 | S77: =ROUND(G77*(P77),3) -> 0 | V77: =ROUND(G77*(X77),3) -> 0 | X77: 0 | Z77: 0
B78: 2 | C78: 210220241.S | D78: Svorka FeZn krížová SK a diagonálna krížová DKS | F78: ks | G78: 6 | I78: =ROUND(G78*(H78),2) -> 0 | J78: =ROUND(G78*(N78),2) -> 23.34 | K78: =ROUND(G78*(O78),2) -> 0 | L78: =ROUND(G78*(H78),2) -> 0 | N78: 3.89 | P78: 0 | R78: 0 | S78: =ROUND(G78*(P78),3) -> 0 | V78: =ROUND(G78*(X78),3) -> 0 | X78: 0 | Z78: 0
B79: 3 | C79: 210220245 | D79: Svorka FeZn pripojovacia SP | F79: ks | G79: 24 | I79: =ROUND(G79*(H79),2) -> 0 | J79: =ROUND(G79*(N79),2) -> 65.28 | K79: =ROUND(G79*(O79),2) -> 0 | L79: =ROUND(G79*(H79),2) -> 0 | N79: 2.72 | P79: 0 | R79: 0 | S79: =ROUND(G79*(P79),3) -> 0 | V79: =ROUND(G79*(X79),3) -> 0 | X79: 0 | Z79: 0
B80: 4 | C80: 210220252 | D80: Svorka FeZn odbočovacia spojovacia SR01-02 | F80: ks | G80: 28 | I80: =ROUND(G80*(H80),2) -> 0 | J80: =ROUND(G80*(N80),2) -> 108.92 | K80: =ROUND(G80*(O80),2) -> 0 | L80: =ROUND(G80*(H80),2) -> 0 | N80: 3.89 | P80: 0 | R80: 0 | S80: =ROUND(G80*(P80),3) -> 0 | V80: =ROUND(G80*(X80),3) -> 0 | X80: 0 | Z80: 0
B81: 5 | C81: 210220253 | D81: Svorka FeZn uzemňovacia SR03 | F81: ks | G81: 24 | I81: =ROUND(G81*(H81),2) -> 0 | J81: =ROUND(G81*(N81),2) -> 65.28 | K81: =ROUND(G81*(O81),2) -> 0 | L81: =ROUND(G81*(H81),2) -> 0 | N81: 2.72 | P81: 0 | R81: 0 | S81: =ROUND(G81*(P81),3) -> 0 | V81: =ROUND(G81*(X81),3) -> 0 | X81: 0 | Z81: 0
B82: 6 | C82: 210220800 | D82: Uzemňovacie vedenie na povrchu AlMgSi O 8-10 | F82: m | G82: 146 | I82: =ROUND(G82*(H82),2) -> 0 | J82: =ROUND(G82*(N82),2) -> 440.92 | K82: =ROUND(G82*(O82),2) -> 0 | L82: =ROUND(G82*(H82),2) -> 0 | N82: 3.02 | P82: 0 | R82: 0 | S82: =ROUND(G82*(P82),3) -> 0 | V82: =ROUND(G82*(X82),3) -> 0 | X82: 0 | Z82: 0
B83: 7 | C83: 210220812 | D83: Podpery vedenia zliatina AlMgSi pre lepenkové a škridlové strechy PV22 a PV25 | F83: ks | G83: 80 | I83: =ROUND(G83*(H83),2) -> 0 | J83: =ROUND(G83*(N83),2) -> 165.6 | K83: =ROUND(G83*(O83),2) -> 0 | L83: =ROUND(G83*(H83),2) -> 0 | N83: 2.07 | P83: 0 | R83: 0 | S83: =ROUND(G83*(P83),3) -> 0 | V83: =ROUND(G83*(X83),3) -> 0 | X83: 0 | Z83: 0
B84: 8 | C84: 210220831 | D84: Zachytávacia tyč zliatina AlMgSi bez osadenia a s osadením JP10-30 | F84: ks | G84: 6 | I84: =ROUND(G84*(H84),2) -> 0 | J84: =ROUND(G84*(N84),2) -> 69.78 | K84: =ROUND(G84*(O84),2) -> 0 | L84: =ROUND(G84*(H84),2) -> 0 | N84: 11.63 | P84: 0 | R84: 0 | S84: =ROUND(G84*(P84),3) -> 0 | V84: =ROUND(G84*(X84),3) -> 0 | X84: 0 | Z84: 0
B85: 9 | C85: 210220850 | D85: Svorka zliatina AlMgSi k uzemňovacej tyči SJ | F85: ks | G85: 6 | I85: =ROUND(G85*(H85),2) -> 0 | J85: =ROUND(G85*(N85),2) -> 20.04 | K85: =ROUND(G85*(O85),2) -> 0 | L85: =ROUND(G85*(H85),2) -> 0 | N85: 3.34 | P85: 0 | R85: 0 | S85: =ROUND(G85*(P85),3) -> 0 | V85: =ROUND(G85*(X85),3) -> 0 | X85: 0 | Z85: 0
B86: 10 | C86: 210220853 | D86: Svorka zliatina AlMgSi spojovacia SS | F86: ks | G86: 20 | I86: =ROUND(G86*(H86),2) -> 0 | J86: =ROUND(G86*(N86),2) -> 54.4 | K86: =ROUND(G86*(O86),2) -> 0 | L86: =ROUND(G86*(H86),2) -> 0 | N86: 2.72 | P86: 0 | R86: 0 | S86: =ROUND(G86*(P86),3) -> 0 | V86: =ROUND(G86*(X86),3) -> 0 | X86: 0 | Z86: 0
B87: 11 | C87: 210220856 | D87: Svorka zliatina AlMgSi na odkvapový žľab SO | F87: ks | G87: 12 | I87: =ROUND(G87*(H87),2) -> 0 | J87: =ROUND(G87*(N87),2) -> 46.68 | K87: =ROUND(G87*(O87),2) -> 0 | L87: =ROUND(G87*(H87),2) -> 0 | N87: 3.89 | P87: 0 | R87: 0 | S87: =ROUND(G87*(P87),3) -> 0 | V87: =ROUND(G87*(X87),3) -> 0 | X87: 0 | Z87: 0
B88: 12 | C88: HZS000211 | D88: Stavebno montážne práce menej náročne, pomocné alebo manipulačné (Tr. 1) v rozsahu viac 4 a menej ako 8 hodínn | F88: hod | G88: 10 | I88: =ROUND(G88*(H88),2) -> 0 | J88: =ROUND(G88*(N88),2) -> 210.7 | K88: =ROUND(G88*(O88),2) -> 0 | L88: =ROUND(G88*(H88),2) -> 0 | N88: 21.07 | P88: 0 | R88: 0 | S88: =ROUND(G88*(P88),3) -> 0 | V88: =ROUND(G88*(X88),3) -> 0 | X88: 0 | Z88: 0
... B90: 14 | C90: 210222020.S | D90: Uzemňovacie vedenie v zemi FeZn vrátane izolácie spojov, pre vonkajšie práce | F90: m | G90: 118 | I90: =ROUND(G90*(H90),2) -> 0 | J90: =ROUND(G90*(N90),2) -> 205.32 | K90: =ROUND(G90*(O90),2) -> 0 | L90: =ROUND(G90*(H90),2) -> 0 | N90: 1.74 | P90: 0 | R90: 0 | S90: =ROUND(G90*(P90),3) -> 0 | V90: =ROUND(G90*(X90),3) -> 0 | X90: 0 | Z90: 0
B91: 15 | C91: 000102010 | D91: betonový podstavec s klínem D 337 mm/17 kg | G91: 6 | I91: =ROUND(G91*(H91),2) -> 0 | J91: =ROUND(G91*(N91),2) -> 137.28 | K91: =ROUND(G91*(O91),2) -> 0 | M91: =ROUND(G91*(H91),2) -> 0 | N91: 22.88 | P91: 0 | R91: 0 | S91: =ROUND(G91*(P91),3) -> 0 | V91: =ROUND(G91*(X91),3) -> 0 | X91: 0 | Z91: 0
B92: 16 | C92: 000102050 | D92: plastová podložka pod podstavec D 370 mm | F92: ks | G92: 6 | I92: =ROUND(G92*(H92),2) -> 0 | J92: =ROUND(G92*(N92),2) -> 48.3 | K92: =ROUND(G92*(O92),2) -> 0 | M92: =ROUND(G92*(H92),2) -> 0 | N92: 8.05 | P92: 0 | R92: 0 | S92: =ROUND(G92*(P92),3) -> 0 | V92: =ROUND(G92*(X92),3) -> 0 | X92: 0 | Z92: 0
B93: 17 | C93: 000103420 | D93: jímací tyč trubková AlMgSi D 16/10 mm L 2000 mm | F93: ks | G93: 6 | I93: =ROUND(G93*(H93),2) -> 0 | J93: =ROUND(G93*(N93),2) -> 142.14 | K93: =ROUND(G93*(O93),2) -> 0 | M93: =ROUND(G93*(H93),2) -> 0 | N93: 23.69 | P93: 0 | R93: 0 | S93: =ROUND(G93*(P93),3) -> 0 | V93: =ROUND(G93*(X93),3) -> 0 | X93: 0 | Z93: 0
B94: 18 | C94: 000253060 | D94: podpěra vedení na plochou střechu FB2 beton/plast, 1kg/1 úchyt Rd 8 pevný | F94: ks | G94: 80 | I94: =ROUND(G94*(H94),2) -> 0 | J94: =ROUND(G94*(N94),2) -> 220.8 | K94: =ROUND(G94*(O94),2) -> 0 | M94: =ROUND(G94*(H94),2) -> 0 | N94: 2.76 | P94: 0 | R94: 0 | S94: =ROUND(G94*(P94),3) -> 0 | V94: =ROUND(G94*(X94),3) -> 0 | X94: 0 | Z94: 0
B95: 19 | C95: 000276006 | D95: podložka plast šedý, h 5 /D 37 mm | F95: ks | G95: 12 | I95: =ROUND(G95*(H95),2) -> 0 | J95: =ROUND(G95*(N95),2) -> 6.96 | K95: =ROUND(G95*(O95),2) -> 0 | M95: =ROUND(G95*(H95),2) -> 0 | N95: 0.58 | P95: 0 | R95: 0 | S95: =ROUND(G95*(P95),3) -> 0 | V95: =ROUND(G95*(X95),3) -> 0 | X95: 0 | Z95: 0
B96: 20 | C96: 000310008 | D96: svorka EST FeZn, Rd 8 | F96: ks | G96: 20 | I96: =ROUND(G96*(H96),2) -> 0 | J96: =ROUND(G96*(N96),2) -> 135.8 | K96: =ROUND(G96*(O96),2) -> 0 | M96: =ROUND(G96*(H96),2) -> 0 | N96: 6.79 | P96: 0 | R96: 0 | S96: =ROUND(G96*(P96),3) -> 0 | V96: =ROUND(G96*(X96),3) -> 0 | X96: 0 | Z96: 0
B97: 21 | C97: 000318201 | D97: svorka křížová 60x60 mm bez destičky, FeZn, Rd 8-10/Fl 30 | F97: ks | G97: 24 | I97: =ROUND(G97*(H97),2) -> 0 | J97: =ROUND(G97*(N97),2) -> 176.64 | K97: =ROUND(G97*(O97),2) -> 0 | M97: =ROUND(G97*(H97),2) -> 0 | N97: 7.36 | P97: 0 | R97: 0 | S97: =ROUND(G97*(P97),3) -> 0 | V97: =ROUND(G97*(X97),3) -> 0 | X97: 0 | Z97: 0
B98: 22 | C98: 000318233 | D98: svorka křížová 60x60 mm bez destičky, nerez V4A, Fl 30/Fl 30 | F98: ks | G98: 28 | I98: =ROUND(G98*(H98),2) -> 0 | J98: =ROUND(G98*(N98),2) -> 457.24 | K98: =ROUND(G98*(O98),2) -> 0 | M98: =ROUND(G98*(H98),2) -> 0 | N98: 16.33 | P98: 0 | R98: 0 | S98: =ROUND(G98*(P98),3) -> 0 | V98: =ROUND(G98*(X98),3) -> 0 | X98: 0 | Z98: 0
B99: 23 | C99: 000339059 | D99: svorka na okapové žlaby nerez V2A, s dvojitou příchytkou, zaoblení 16- 22mm, Rd 8-10 | F99: ks | G99: 12 | I99: =ROUND(G99*(H99),2) -> 0 | J99: =ROUND(G99*(N99),2) -> 98.04 | K99: =ROUND(G99*(O99),2) -> 0 | M99: =ROUND(G99*(H99),2) -> 0 | N99: 8.17 | P99: 0 | R99: 0 | S99: =ROUND(G99*(P99),3) -> 0 | V99: =ROUND(G99*(X99),3) -> 0 | X99: 0 | Z99: 0
B100: 24 | C100: 000372119 | D100: svorka přippojovací na konstrukc nerez | F100: ks | G100: 24 | I100: =ROUND(G100*(H100),2) -> 0 | J100: =ROUND(G100*(N100),2) -> 408.48 | K100: =ROUND(G100*(O100),2) -> 0 | M100: =ROUND(G100*(H100),2) -> 0 | N100: 17.02 | P100: 0 | R100: 0 | S100: =ROUND(G100*(P100),3) -> 0 | V100: =ROUND(G100*(X100),3) -> 0 | X100: 0 | Z100: 0
B101: 25 | C101: 000390250 | D101: svorka MMV FeZn, Rd 6-8 | G101: 6 | I101: =ROUND(G101*(H101),2) -> 0 | J101: =ROUND(G101*(N101),2) -> 17.94 | K101: =ROUND(G101*(O101),2) -> 0 | M101: =ROUND(G101*(H101),2) -> 0 | N101: 2.99 | P101: 0 | R101: 0 | S101: =ROUND(G101*(P101),3) -> 0 | V101: =ROUND(G101*(X101),3) -> 0 | X101: 0 | Z101: 0
B102: 26 | C102: 000392050 | D102: svorka MV FeZn Rd 8-10/Rd 16, šroub 6hran, p. podložka, závit | G102: 6 | I102: =ROUND(G102*(H102),2) -> 0 | J102: =ROUND(G102*(N102),2) -> 24.18 | K102: =ROUND(G102*(O102),2) -> 0 | M102: =ROUND(G102*(H102),2) -> 0 | N102: 4.03 | P102: 0 | R102: 0 | S102: =ROUND(G102*(P102),3) -> 0 | V102: =ROUND(G102*(X102),3) -> 0 | X102: 0 | Z102: 0
B103: 27 | C103: 000480003 | D103: označovací štítek Al pro Rd 7-10/Fl 30 | F103: ks | G103: 12 | I103: =ROUND(G103*(H103),2) -> 0 | J103: =ROUND(G103*(N103),2) -> 48.36 | K103: =ROUND(G103*(O103),2) -> 0 | M103: =ROUND(G103*(H103),2) -> 0 | N103: 4.03 | P103: 0 | R103: 0 | S103: =ROUND(G103*(P103),3) -> 0 | V103: =ROUND(G103*(X103),3) -> 0 | X103: 0 | Z103: 0
B104: 28 | C104: 000800010 | D104: drát FeZn Rd 10 | F104: m | G104: 110 | I104: =ROUND(G104*(H104),2) -> 0 | J104: =ROUND(G104*(N104),2) -> 1505.9 | K104: =ROUND(G104*(O104),2) -> 0 | M104: =ROUND(G104*(H104),2) -> 0 | N104: 13.69 | P104: 0 | R104: 0 | S104: =ROUND(G104*(P104),3) -> 0 | V104: =ROUND(G104*(X104),3) -> 0 | X104: 0 | Z104: 0
B105: 29 | C105: 000800110 | D105: drát FeZn s izolací Rd 10/13 | F105: m | G105: 27.5 | I105: =ROUND(G105*(H105),2) -> 0 | J105: =ROUND(G105*(N105),2) -> 256.3 | K105: =ROUND(G105*(O105),2) -> 0 | M105: =ROUND(G105*(H105),2) -> 0 | N105: 9.32 | P105: 0 | R105: 0 | S105: =ROUND(G105*(P105),3) -> 0 | V105: =ROUND(G105*(X105),3) -> 0 | X105: 0 | Z105: 0
B106: 30 | C106: 000810335 | D106: pásek FeZn43 Fl 30x3,5 | F106: m | G106: 118 | I106: =ROUND(G106*(H106),2) -> 0 | J106: =ROUND(G106*(N106),2) -> 1181.18 | K106: =ROUND(G106*(O106),2) -> 0 | M106: =ROUND(G106*(H106),2) -> 0 | N106: 10.01 | P106: 0 | R106: 0 | S106: =ROUND(G106*(P106),3) -> 0 | V106: =ROUND(G106*(X106),3) -> 0 | X106: 0 | Z106: 0
B107: 31 | C107: 000840018 | D107: drát AlMgSi DEHNALU Rd 8 měkký, balení 148 m | F107: m | G107: 146 | I107: =ROUND(G107*(H107),2) -> 0 | J107: =ROUND(G107*(N107),2) -> 873.08 | K107: =ROUND(G107*(O107),2) -> 0 | M107: =ROUND(G107*(H107),2) -> 0 | N107: 5.98 | P107: 0 | R107: 0 | S107: =ROUND(G107*(P107),3) -> 0 | V107: =ROUND(G107*(X107),3) -> 0 | X107: 0 | Z107: 0
B108: 32 | C108: PM | D108: Podružný materiál | F108: % | G108: 3 | I108: =ROUND(G108*(H108),2) -> 0 | J108: =ROUND(G108*(N108),2) -> 172.17 | K108: =ROUND(G108*(O108),2) -> 0 | L108: =ROUND(G108*(H108),2) -> 0 | N108: 57.39 | P108: 0 | R108: 0 | S108: =ROUND(G108*(P108),3) -> 0 | V108: =ROUND(G108*(X108),3) -> 0 | X108: 0 | Z108: 0
B109: 33 | C109: PPV | D109: Podiel pridružených výkonov | F109: % | G109: 1 | I109: =ROUND(G109*(H109),2) -> 0 | J109: =ROUND(G109*(N109),2) -> 57.39 | K109: =ROUND(G109*(O109),2) -> 0 | L109: =ROUND(G109*(H109),2) -> 0 | N109: 57.39 | P109: 0 | R109: 0 | S109: =ROUND(G109*(P109),3) -> 0 | V109: =ROUND(G109*(X109),3) -> 0 | X109: 0 | Z109: 0
C110: 921 | D110: M-21 ELEKTROMONTÁŽE | I110: =ROUND((SUM(I76:I109))/1,2) -> 0 | L110: =ROUND((SUM(L76:L109))/1,2) -> 0 | M110: =ROUND((SUM(M76:M109))/1,2) -> 0 | S110: =ROUND((SUM(S76:S109))/1,2) -> 0 | V110: =ROUND((SUM(V76:V109))/1,2) -> 0
C112: 946 | D112: M-46 ZEMNÉ PRÁCE PRI EXTERNÝCH MONTÁŽACH
B113: 34 | C113: 460200153.S | D113: Hĺbenie káblovej ryhy ručne 35 cm širokej a 70 cm hlbokej, v zemine triedy 3 | F113: m | G113: 82 | I113: =ROUND(G113*(H113),2) -> 0 | J113: =ROUND(G113*(N113),2) -> 623.2 | K113: =ROUND(G113*(O113),2) -> 0 | L113: =ROUND(G113*(H113),2) -> 0 | N113: 7.6 | P113: 0 | R113: 0 | S113: =ROUND(G113*(P113),3) -> 0 | V113: =ROUND(G113*(X113),3) -> 0 | X113: 0 | Z113: 0
B114: 35 | C114: 460560153.S | D114: Ručný zásyp nezap. káblovej ryhy bez zhutn. zeminy, 35 cm širokej, 70 cm hlbokej v zemine tr. 3 | F114: m | G114: 82 | I114: =ROUND(G114*(H114),2) -> 0 | J114: =ROUND(G114*(N114),2) -> 238.62 | K114: =ROUND(G114*(O114),2) -> 0 | L114: =ROUND(G114*(H114),2) -> 0 | N114: 2.91 | P114: 0 | R114: 0 | S114: =ROUND(G114*(P114),3) -> 0 | V114: =ROUND(G114*(X114),3) -> 0 | X114: 0 | Z114: 0
B115: 36 | C115: 460620013.S | D115: Proviz. úprava terénu v zemine tr. 3, aby nerovnosti terénu neboli väčšie ako 2 cm od vodor.hladiny | F115: m2 | G115: 28.7 | I115: =ROUND(G115*(H115),2) -> 0 | J115: =ROUND(G115*(N115),2) -> 80.36 | K115: =ROUND(G115*(O115),2) -> 0 | L115: =ROUND(G115*(H115),2) -> 0 | N115: 2.8 | P115: 0 | R115: 0 | S115: =ROUND(G115*(P115),3) -> 0 | V115: =ROUND(G115*(X115),3) -> 0 | X115: 0 | Z115: 0
C116: 946 | D116: M-46 ZEMNÉ PRÁCE PRI EXTERNÝCH MONTÁŽACH | I116: =ROUND((SUM(I112:I115))/1,2) -> 0 | L116: =ROUND((SUM(L112:L115))/1,2) -> 0 | M116: =ROUND((SUM(M112:M115))/1,2) -> 0 | S116: =ROUND((SUM(S112:S115))/1,2) -> 0 | V116: =ROUND((SUM(V112:V115))/1,2) -> 0
D118: Montážne práce | I118: =ROUND((SUM(I75:I117))/2,2) -> 0 | L118: =ROUND((SUM(L75:L117))/2,2) -> 0 | M118: =ROUND((SUM(M75:M117))/2,2) -> 0 | S118: =ROUND((SUM(S75:S117))/2,2) -> 0 | V118: =ROUND((SUM(V75:V117))/2,2) -> 0
D119: Celkom v EUR | I119: =ROUND((SUM(I75:I118))/3,2) -> 0 | K119: =ROUND((SUM(K75:K118))/3,2) -> 0 | L119: =ROUND((SUM(L75:L118))/3,2) -> 0 | M119: =ROUND((SUM(M75:M118))/3,2) -> 0 | S119: =ROUND((SUM(S75:S118))/3,2) -> 0 | V119: =ROUND((SUM(V75:V118))/3,2) -> 0 | Y119: =(SUM(Y75:Y118)) -> 0 | Z119: =(SUM(Z75:Z118)) -> 0

Sheet SO 01 - HLAVNÝ OBJEKT - E17190
B1: Krycí list rozpočtu | E1: Rekapitulácia rozpočtu | H1: Rozpočet | W1: 30.126
B2: Krycí list rozpočtu
B3: Stavba Centrum služieb pre zlepšenie fyzickej a pohybovej zdatnosti obyvateľov
B4: Objekt SO 01 - HLAVNÝ OBJEKT - Elektroinštalácia | F4: Miesto:
F5: Ks:
B6: Zákazka: | D6: Spracoval: Ing. Ján Halgaš | F6: Dňa | G6: 21. 1. 2025
B7: Odberateľ: Športový klub Miko fit-box
B8: IČO: 42383625 | F8: DIČ:
B9: Projektant: D. D. - ARCH s. r. o.
B10: IČO: | F10: DIČ:
B11: Dodávateľ: ...
B12: IČO: | F12: DIČ:
B14: ZRN | C14: Montáž | D14: Materiál | E14: ZRN spolu | F14: Ostatné náklady | P14: 0
B15: HSV
B16: PSV | F16: Komplet. činnosť | P16: =(SUM(Z75:Z173)) -> 0
B17: MNT | C17: ='SO 01 - HLAVNÝ OBJEKT - E17190'!E58 -> 0 | D17: ='SO 01 - HLAVNÝ OBJEKT - E17190'!F58 -> 0 | E17: ='SO 01 - HLAVNÝ OBJEKT - E17190'!G58 -> 0 | F17: HZS | P17: 0
B18: OST
B19: VN
B20: Spolu | E20: =SUM(E15:E19) -> 0 | F20: Spolu | P20: =SUM(P14:P19) -> 0
B21: Zariadenie staveniska 0% | E21: =((E15*U22*0)+(E16*V22*0)+(E17*W22*0))/100 -> 0 | F21: Sťažené podmienky dopravy 0% | P21: =((E15*X22*0)+(E16*Y22*0)+(E17*Z22*0))/100 -> 0
B22: Sťažené výrobné podmienky 0% | E22: =((E15*U23*0)+(E16*V23*0)+(E17*W23*0))/100 -> 0 | F22: Horské oblasti 0% | P22: =((E15*X23*0)+(E16*Y23*0)+(E17*Z23*0))/100 -> 0 | U22: 1 | V22: 1 | W22: 1 | X22: 1 | Y22: 1 | Z22: 1
B23: Prevádzkové vplyvy 0% | E23: =((E15*U24*0)+(E16*V24*0)+(E17*W24*0))/100 -> 0 | F23: Mimostavenisková doprava 0% | P23: =((E15*X24*0)+(E16*Y24*0)+(E17*Z24*0))/100 -> 0 | U23: 1 | V23: 1 | W23: 0 | X23: 1 | Y23: 1 | Z23: 1
U24: 1 | V24: 1 | W24: 1 | X24: 1 | Y24: 1 | Z24: 0
F25: Spolu | P25: =SUM(E21:E24)+SUM(P21:P24) -> 0
B26: Projektant,rozpočtár | F26: Celkové náklady
F27: Celkové náklady bez DPH | P27: =E20+P20+E25+P25 -> 0
F28: DPH 23% z | H28: =P27-SUM('SO 01 - HLAVNÝ OBJEKT - E17190'!K75:'SO 01 - HLAVNÝ OBJEKT - E17190'!K173) -> 0 | P28: =ROUND(((ROUND(H28,2)*23)*1/100),2) -> 0
F29: DPH 0% z | H29: =SUM('SO 01 - HLAVNÝ OBJEKT - E17190'!K75:'SO 01 - HLAVNÝ OBJEKT - E17190'!K173) -> 0 | P29: =ROUND(((ROUND(H29,2)*0)/100),2) -> 0
F30: Spolu v EUR | P30: =SUM(P27:P29) -> 0
B32: Odberateľ | E32: Dodávateľ
B44: Rekapitulácia rozpočtu
B46: Odberateľ: Športový klub Miko fit-box | F46: Spracoval: Ing. Ján Halgaš
B47: Projektant: D. D. - ARCH s. r. o. | F47: Ks:
B48: Dodávateľ: ... | F48: Dátum: 21. 1. 2025
B49: Stavba Centrum služieb pre zlepšenie fyzickej a pohybovej zdatnosti obyvateľov
B50: Objekt SO 01 - HLAVNÝ OBJEKT - Elektroinštalácia
B53: Prehľad rozpočtových nákladov
E54: Montáž | F54: Materiál | G54: Spolu | H54: Hmotnosť (T) | I54: Sutina (T)
B55: Montážne práce
B56: M-21 ELEKTROMONTÁŽE | E56: ='SO 01 - HLAVNÝ OBJEKT - E17190'!L164 -> 0 | F56: ='SO 01 - HLAVNÝ OBJEKT - E17190'!M164 -> 0 | G56: ='SO 01 - HLAVNÝ OBJEKT - E17190'!I164 -> 0 | H56: ='SO 01 - HLAVNÝ OBJEKT - E17190'!S164 -> 0 | I56: ='SO 01 - HLAVNÝ OBJEKT - E17190'!V164 -> 0
B57: M-46 ZEMNÉ PRÁCE PRI EXTERNÝCH MONTÁŽACH | E57: ='SO 01 - HLAVNÝ OBJEKT - E17190'!L171 -> 0 | F57: ='SO 01 - HLAVNÝ OBJEKT - E17190'!M171 -> 0 | G57: ='SO 01 - HLAVNÝ OBJEKT - E17190'!I171 -> 0 | H57: ='SO 01 - HLAVNÝ OBJEKT - E17190'!S171 -> 0 | I57: ='SO 01 - HLAVNÝ OBJEKT - E17190'!V171 -> 0
B58: Montážne práce | E58: ='SO 01 - HLAVNÝ OBJEKT - E17190'!L173 -> 0 | F58: ='SO 01 - HLAVNÝ OBJEKT - E17190'!M173 -> 0 | G58: ='SO 01 - HLAVNÝ OBJEKT - E17190'!I173 -> 0 | H58: ='SO 01 - HLAVNÝ OBJEKT - E17190'!S173 -> 0 | I58: ='SO 01 - HLAVNÝ OBJEKT - E17190'!V173 -> 0
B60: Celkom v EUR | E60: ='SO 01 - HLAVNÝ OBJEKT - E17190'!L174 -> 0 | F60: ='SO 01 - HLAVNÝ OBJEKT - E17190'!M174 -> 0 | G60: ='SO 01 - HLAVNÝ OBJEKT - E17190'!I174 -> 0 | H60: ='SO 01 - HLAVNÝ OBJEKT - E17190'!S174 -> 0 | I60: ='SO 01 - HLAVNÝ OBJEKT - E17190'!V174 -> 0
B64: Rozpočet
B66: Odberateľ: Športový klub Miko fit-box | H66: Spracoval: | I66: Ing. Ján Halgaš
B67: Projektant: D. D. - ARCH s. r. o. | H67: Ks:
B68: Dodávateľ: ... | H68: Dátum: | I68: 21. 1. 2025
B69: Zákazka Centrum služieb pre zlepšenie fyzickej a pohybovej zdatnosti obyvateľov
B70: Objekt SO 01 - HLAVNÝ OBJEKT - Elektroinštalácia
B73: Prehľad rozpočtových nákladov
B74: Por.č. | C74: Kód položky | D74: Názov | F74: Mj | G74: Množstvo | H74: Cena/Mj | I74: Cena celkom | P74: Hmotnosť/Mj | S74: Hmotnosť | V74: Sutina
D75: Montážne práce
C76: 921 | D76: M-21 ELEKTROMONTÁŽE
B77: 1 | C77: 210010301.S | D77: Krabica prístrojová bez zapojenia (1901, KP 68, KZ 3) | F77: ks | G77: 26 | I77: =ROUND(G77*(H77),2) -> 0 | J77: =ROUND(G77*(N77),2) -> 48.88 | K77: =ROUND(G77*(O77),2) -> 0 | L77: =ROUND(G77*(H77),2) -> 0 | N77: 1.88 | P77: 0 | R77: 0 | S77: =ROUND(G77*(P77),3) -> 0 | V77: =ROUND(G77*(X77),3) -> 0 | X77: 0 | Z77: 0
B78: 2 | C78: 210010321.S | D78: Krabica (1903, KR 68) odbočná s viečkom, svorkovnicou vrátane zapojenia, kruhová | F78: ks | G78: 28 | I78: =ROUND(G78*(H78),2) -> 0 | J78: =ROUND(G78*(N78),2) -> 225.12 | K78: =ROUND(G78*(O78),2) -> 0 | L78: =ROUND(G78*(H78),2) -> 0 | N78: 8.04 | P78: 0 | R78: 0 | S78: =ROUND(G78*(P78),3) -> 0 | V78: =ROUND(G78*(X78),3) -> 0 | X78: 0 | Z78: 0
B79: 3 | C79: 210020303.S | D79: Káblový žľab - káblový nosný systém, pozink., vrátane príslušenstva, 62/50 mm vrátane veka a podpery | F79: m | G79: 90 | I79: =ROUND(G79*(H79),2) -> 0 | J79: =ROUND(G79*(N79),2) -> 1076.4 | K79: =ROUND(G79*(O79),2) -> 0 | L79: =ROUND(G79*(H79),2) -> 0 | N79: 11.96 | P79: 0 | R79: 0 | S79: =ROUND(G79*(P79),3) -> 0 | V79: =ROUND(G79*(X79),3) -> 0 | X79: 0 | Z79: 0
B80: 4 | C80: 210100001 | D80: Ukončenie vodičov v rozvádzač. vrátane zapojenia a vodičovej koncovky do 2.5 mm2 | F80: ks | G80: 72 | I80: =ROUND(G80*(H80),2) -> 0 | J80: =ROUND(G80*(N80),2) -> 95.76 | K80: =ROUND(G80*(O80),2) -> 0 | L80: =ROUND(G80*(H80),2) -> 0 | N80: 1.33 | P80: 0 | R80: 0 | S80: =ROUND(G80*(P80),3) -> 0 | V80: =ROUND(G80*(X80),3) -> 0 | X80: 0 | Z80: 0
B81: 5 | C81: 210100002.S | D81: Ukončenie vodičov v rozvádzač. vrátane zapojenia a vodičovej koncovky do 6 mm2 | F81: ks | G81: 10 | I81: =ROUND(G81*(H81),2) -> 0 | J81: =ROUND(G81*(N81),2) -> 20.8 | K81: =ROUND(G81*(O81),2) -> 0 | L81: =ROUND(G81*(H81),2) -> 0 | N81: 2.08 | P81: 0 | R81: 0 | S81: =ROUND(G81*(P81),3) -> 0 | V81: =ROUND(G81*(X81),3) -> 0 | X81: 0 | Z81: 0
B82: 6 | C82: 210100003 | D82: Ukončenie vodičov v rozvádzač. vrátane zapojenia a vodičovej koncovky do 16 mm2 | F82: ks | G82: 4 | I82: =ROUND(G82*(H82),2) -> 0 | J82: =ROUND(G82*(N82),2) -> 10.28 | K82: =ROUND(G82*(O82),2) -> 0 | L82: =ROUND(G82*(H82),2) -> 0 | N82: 2.57 | P82: 0 | R82: 0 | S82: =ROUND(G82*(P82),3) -> 0 | V82: =ROUND(G82*(X82),3) -> 0 | X82: 0 | Z82: 0
B83: 7 | C83: 210110041 | D83: Spínače polozapustené a zapustené vrátane zapojenia jednopólový - radenie 1 | F83: ks | G83: 12 | I83: =ROUND(G83*(H83),2) -> 0 | J83: =ROUND(G83*(N83),2) -> 34.56 | K83: =ROUND(G83*(O83),2) -> 0 | L83: =ROUND(G83*(H83),2) -> 0 | N83: 2.88 | P83: 0 | R83: 0 | S83: =ROUND(G83*(P83),3) -> 0 | V83: =ROUND(G83*(X83),3) -> 0 | X83: 0 | Z83: 0
B84: 8 | C84: 210110043 | D84: Spínač polozapustený a zapustený vrátane zapojenia sériový prep.stried. - radenie 5 A | F84: ks | G84: 2 | I84: =ROUND(G84*(H84),2) -> 0 | J84: =ROUND(G84*(N84),2) -> 4 | K84: =ROUND(G84*(O84),2) -> 0 | L84: =ROUND(G84*(H84),2) -> 0 | N84: 2 | P84: 0 | R84: 0 | S84: =ROUND(G84*(P84),3) -> 0 | V84: =ROUND(G84*(X84),3) -> 0 | X84: 0 | Z84: 0
B85: 9 | C85: 210110095.S | D85: Spínače snímač pohybu do stropu | F85: ks | G85: 3 | I85: =ROUND(G85*(H85),2) -> 0 | J85: =ROUND(G85*(N85),2) -> 22.71 | K85: =ROUND(G85*(O85),2) -> 0 | L85: =ROUND(G85*(H85),2) -> 0 | N85: 7.57 | P85: 0 | R85: 0 | S85: =ROUND(G85*(P85),3) -> 0 | V85: =ROUND(G85*(X85),3) -> 0 | X85: 0 | Z85: 0
B86: 10 | C86: 210111003.S | D86: Zásuvka vstavaná 400 V / 16A vrátane zapojenia, vyhotovenie 4P, 5P | F86: ks | G86: 2 | I86: =ROUND(G86*(H86),2) -> 0 | J86: =ROUND(G86*(N86),2) -> 13.74 | K86: =ROUND(G86*(O86),2) -> 0 | L86: =ROUND(G86*(H86),2) -> 0 | N86: 6.87 | P86: 0 | R86: 0 | S86: =ROUND(G86*(P86),3) -> 0 | V86: =ROUND(G86*(X86),3) -> 0 | X86: 0 | Z86: 0
B87: 11 | C87: 210111012 | D87: Domová zásuvka polozapustená alebo zapustená, 10/16 A 250 V 2P + Z 2 x zapojenie | F87: ks | G87: 12 | I87: =ROUND(G87*(H87),2) -> 0 | J87: =ROUND(G87*(N87),2) -> 76.44 | K87: =ROUND(G87*(O87),2) -> 0 | L87: =ROUND(G87*(H87),2) -> 0 | N87: 6.37 | P87: 0 | R87: 0 | S87: =ROUND(G87*(P87),3) -> 0 | V87: =ROUND(G87*(X87),3) -> 0 | X87: 0 | Z87: 0
B88: 12 | C88: 210201040 | D88: Zapojenie svietidlá IP20, 1 x svetelný zdroj, P=20W, stropného - nástenného interierového s lineárnou žiarivkou | F88: ks | G88: 5 | I88: =ROUND(G88*(H88),2) -> 0 | J88: =ROUND(G88*(N88),2) -> 34.15 | K88: =ROUND(G88*(O88),2) -> 0 | L88: =ROUND(G88*(H88),2) -> 0 | N88: 6.83 | P88: 0 | R88: 0 | S88: =ROUND(G88*(P88),3) -> 0 | V88: =ROUND(G88*(X88),3) -> 0 | X88: 0 | Z88: 0
... B114: 38 | C114: 210881170.S | D114: Kábel bezhalogénový, medený uložený voľne 1-CHKE-V 0,6/1,0 kV 2x1,5 | F114: m | G114: 45 | I114: =ROUND(G114*(H114),2) -> 0 | J114: =ROUND(G114*(N114),2) -> 27.9 | K114: =ROUND(G114*(O114),2) -> 0 | L114: =ROUND(G114*(H114),2) -> 0 | N114: 0.62 | P114: 0 | R114: 0 | S114: =ROUND(G114*(P114),3) -> 0 | V114: =ROUND(G114*(X114),3) -> 0 | X114: 0 | Z114: 0
B115: 39 | C115: 283230008000.S | D115: Výstražná fóla PE, š. 300, farba červená | F115: m | G115: 20 | I115: =ROUND(G115*(H115),2) -> 0 | J115: =ROUND(G115*(N115),2) -> 3.4 | K115: =ROUND(G115*(O115),2) -> 0 | M115: =ROUND(G115*(H115),2) -> 0 | N115: 0.17 | P115: 0 | R115: 0 | S115: =ROUND(G115*(P115),3) -> 0 | V115: =ROUND(G115*(X115),3) -> 0 | X115: 0 | Z115: 0
B116: 40 | C116: 3410350210 | D116: NYY 1x25 Kábel pre pevné uloženie, medený VDE | F116: m | G116: 70 | I116: =ROUND(G116*(H116),2) -> 0 | J116: =ROUND(G116*(N116),2) -> 206.5 | K116: =ROUND(G116*(O116),2) -> 0 | M116: =ROUND(G116*(H116),2) -> 0 | N116: 2.95 | P116: 0 | R116: 0 | S116: =ROUND(G116*(P116),3) -> 0 | V116: =ROUND(G116*(X116),3) -> 0 | X116: 0 | Z116: 0
B117: 41 | C117: 341110000100.S | D117: Kábel medený CYKY-O 2x1,5 mm2 | F117: m | G117: 64 | I117: =ROUND(G117*(H117),2) -> 0 | J117: =ROUND(G117*(N117),2) -> 34.56 | K117: =ROUND(G117*(O117),2) -> 0 | M117: =ROUND(G117*(H117),2) -> 0 | N117: 0.54 | P117: 0 | R117: 0 | S117: =ROUND(G117*(P117),3) -> 0 | V117: =ROUND(G117*(X117),3) -> 0 | X117: 0 | Z117: 0
B118: 42 | C118: 341110000700.S | D118: Kábel medený CYKY-J 3x1,5 mm2 | F118: m | G118: 392 | I118: =ROUND(G118*(H118),2) -> 0 | J118: =ROUND(G118*(N118),2) -> 297.92 | K118: =ROUND(G118*(O118),2) -> 0 | M118: =ROUND(G118*(H118),2) -> 0 | N118: 0.76 | P118: 0 | R118: 0 | S118: =ROUND(G118*(P118),3) -> 0 | V118: =ROUND(G118*(X118),3) -> 0 | X118: 0 | Z118: 0
B119: 43 | C119: 341110000800.S | D119: Kábel medený CYKY-J 3x2,5 mm2 | F119: m | G119: 210 | I119: =ROUND(G119*(H119),2) -> 0 | J119: =ROUND(G119*(N119),2) -> 277.2 | K119: =ROUND(G119*(O119),2) -> 0 | M119: =ROUND(G119*(H119),2) -> 0 | N119: 1.32 | P119: 0 | R119: 0 | S119: =ROUND(G119*(P119),3) -> 0 | V119: =ROUND(G119*(X119),3) -> 0 | X119: 0 | Z119: 0
B120: 44 | C120: 341110000900.S | D120: Kábel medený CYKY-J 3x4 mm2 | F120: m | G120: 65 | I120: =ROUND(G120*(H120),2) -> 0 | J120: =ROUND(G120*(N120),2) -> 92.95 | K120: =ROUND(G120*(O120),2) -> 0 | M120: =ROUND(G120*(H120),2) -> 0 | N120: 1.43 | P120: 0 | R120: 0 | S120: =ROUND(G120*(P120),3) -> 0 | V120: =ROUND(G120*(X120),3) -> 0 | X120: 0 | Z120: 0
B121: 45 | C121: 341110001300.S | D121: Kábel medený CYKY-J 4x1,5 mm2 | F121: m | G121: 180 | I121: =ROUND(G121*(H121),2) -> 0 | J121: =ROUND(G121*(N121),2) -> 174.6 | K121: =ROUND(G121*(O121),2) -> 0 | M121: =ROUND(G121*(H121),2) -> 0 | N121: 0.97 | P121: 0 | R121: 0 | S121: =ROUND(G121*(P121),3) -> 0 | V121: =ROUND(G121*(X121),3) -> 0 | X121: 0 | Z121: 0
B122: 46 | C122: 341110001900.S | D122: Kábel medený CYKY-J 5x1,5 mm2 | F122: m | G122: 45 | I122: =ROUND(G122*(H122),2) -> 0 | J122: =ROUND(G122*(N122),2) -> 50.4 | K122: =ROUND(G122*(O122),2) -> 0 | M122: =ROUND(G122*(H122),2) -> 0 | N122: 1.12 | P122: 0 | R122: 0 | S122: =ROUND(G122*(P122),3) -> 0 | V122: =ROUND(G122*(X122),3) -> 0 | X122: 0 | Z122: 0
B123: 47 | C123: 341110002000.S | D123: Kábel medený CYKY-J 5x2,5 mm2 | F123: m | G123: 15 | I123: =ROUND(G123*(H123),2) -> 0 | J123: =ROUND(G123*(N123),2) -> 25.95 | K123: =ROUND(G123*(O123),2) -> 0 | M123: =ROUND(G123*(H123),2) -> 0 | N123: 1.73 | P123: 0 | R123: 0 | S123: =ROUND(G123*(P123),3) -> 0 | V123: =ROUND(G123*(X123),3) -> 0 | X123: 0 | Z123: 0
B124: 48 | C124: 341110012200 | D124: Kábel medený H07V-U 4 mm2 | F124: m | G124: 40 | I124: =ROUND(G124*(H124),2) -> 0 | J124: =ROUND(G124*(N124),2) -> 14 | K124: =ROUND(G124*(O124),2) -> 0 | M124: =ROUND(G124*(H124),2) -> 0 | N124: 0.35 | P124: 0 | R124: 0 | S124: =ROUND(G124*(P124),3) -> 0 | V124: =ROUND(G124*(X124),3) -> 0 | X124: 0 | Z124: 0
B125: 49 | C125: 341110012500 | D125: Kábel medený H07V-U 25 mm2 | F125: m | G125: 70 | I125: =ROUND(G125*(H125),2) -> 0 | J125: =ROUND(G125*(N125),2) -> 92.4 | K125: =ROUND(G125*(O125),2) -> 0 | M125: =ROUND(G125*(H125),2) -> 0 | N125: 1.32 | P125: 0 | R125: 0 | S125: =ROUND(G125*(P125),3) -> 0 | V125: =ROUND(G125*(X125),3) -> 0 | X125: 0 | Z125: 0
B126: 50 | C126: 341610025000.S | D126: Kábel medený bezhalogenový NHXH-O 2x1,5 mm2 FE180/E30 N | F126: m | G126: 45 | I126: =ROUND(G126*(H126),2) -> 0 | J126: =ROUND(G126*(N126),2) -> 59.4 | K126: =ROUND(G126*(O126),2) -> 0 | M126: =ROUND(G126*(H126),2) -> 0 | N126: 1.32 | P126: 0 | R126: 0 | S126: =ROUND(G126*(P126),3) -> 0 | V126: =ROUND(G126*(X126),3) -> 0 | X126: 0 | Z126: 0
... B161: 85 | C161: 3450324600 | D161: Zásuvka dvojnásobná s clonkami | F161: ks | G161: 12 | I161: =ROUND(G161*(H161),2) -> 0 | J161: =ROUND(G161*(N161),2) -> 115.32 | K161: =ROUND(G161*(O161),2) -> 0 | M161: =ROUND(G161*(H161),2) -> 0 | N161: 9.61 | P161: 0.0001 | R161: 0.0001 | S161: =ROUND(G161*(P161),3) -> 0.001 | V161: =ROUND(G161*(X161),3) -> 0 | X161: 0 | Z161: 0
B162: 86 | C162: MV | D162: Murárske výpomoci | F162: % | G162: 1 | I162: =ROUND(G162*(H162),2) -> 0 | J162: =ROUND(G162*(N162),2) -> 152.15 | K162: =ROUND(G162*(O162),2) -> 0 | L162: =ROUND(G162*(H162),2) -> 0 | N162: 152.15 | P162: 0 | R162: 0 | S162: =ROUND(G162*(P162),3) -> 0 | V162: =ROUND(G162*(X162),3) -> 0 | X162: 0 | Z162: 0
B163: 87 | C163: PM | D163: Podružný materiál | F163: % | G163: 3 | I163: =ROUND(G163*(H163),2) -> 0 | J163: =ROUND(G163*(N163),2) -> 456.45 | K163: =ROUND(G163*(O163),2) -> 0 | L163: =ROUND(G163*(H163),2) -> 0 | N163: 152.15 | P163: 0 | R163: 0 | S163: =ROUND(G163*(P163),3) -> 0 | V163: =ROUND(G163*(X163),3) -> 0 | X163: 0 | Z163: 0
C164: 921 | D164: M-21 ELEKTROMONTÁŽE | I164: =ROUND((SUM(I76:I163))/1,2) -> 0 | L164: =ROUND((SUM(L76:L163))/1,2) -> 0 | M164: =ROUND((SUM(M76:M163))/1,2) -> 0 | S164: =ROUND((SUM(S76:S163))/1,2) -> 0 | V164: =ROUND((SUM(V76:V163))/1,2) -> 0
C166: 946 | D166: M-46 ZEMNÉ PRÁCE PRI EXTERNÝCH MONTÁŽACH
B167: 88 | C167: 460200163.S | D167: Hĺbenie káblovej ryhy ručne 35 cm širokej a 80 cm hlbokej, v zemine triedy 3 | F167: m | G167: 20 | I167: =ROUND(G167*(H167),2) -> 0 | J167: =ROUND(G167*(N167),2) -> 150.6 | K167: =ROUND(G167*(O167),2) -> 0 | L167: =ROUND(G167*(H167),2) -> 0 | N167: 7.53 | P167: 0 | R167: 0 | S167: =ROUND(G167*(P167),3) -> 0 | V167: =ROUND(G167*(X167),3) -> 0 | X167: 0 | Z167: 0
B168: 89 | C168: 460490012.S | D168: Rozvinutie a uloženie výstražnej fólie z PE do ryhy, šírka do 33 cm | F168: m | G168: 20 | I168: =ROUND(G168*(H168),2) -> 0 | J168: =ROUND(G168*(N168),2) -> 13.4 | K168: =ROUND(G168*(O168),2) -> 0 | L168: =ROUND(G168*(H168),2) -> 0 | N168: 0.67 | P168: 0 | R168: 0 | S168: =ROUND(G168*(P168),3) -> 0 | V168: =ROUND(G168*(X168),3) -> 0 | X168: 0 | Z168: 0
B169: 90 | C169: 460560163.S | D169: Ručný zásyp nezap. káblovej ryhy bez zhutn. zeminy, 35 cm širokej, 80 cm hlbokej v zemine tr. 3 | F169: m | G169: 20 | I169: =ROUND(G169*(H169),2) -> 0 | J169: =ROUND(G169*(N169),2) -> 56.8 | K169: =ROUND(G169*(O169),2) -> 0 | L169: =ROUND(G169*(H169),2) -> 0 | N169: 2.84 | P169: 0 | R169: 0 | S169: =ROUND(G169*(P169),3) -> 0 | V169: =ROUND(G169*(X169),3) -> 0 | X169: 0 | Z169: 0
B170: 91 | C170: 460620013.S | D170: Proviz. úprava terénu v zemine tr. 3, aby nerovnosti terénu neboli väčšie ako 2 cm od vodor.hladiny | F170: m2 | G170: 7 | I170: =ROUND(G170*(H170),2) -> 0 | J170: =ROUND(G170*(N170),2) -> 17.5 | K170: =ROUND(G170*(O170),2) -> 0 | L170: =ROUND(G170*(H170),2) -> 0 | N170: 2.5 | P170: 0 | R170: 0 | S170: =ROUND(G170*(P170),3) -> 0 | V170: =ROUND(G170*(X170),3) -> 0 | X170: 0 | Z170: 0
C171: 946 | D171: M-46 ZEMNÉ PRÁCE PRI EXTERNÝCH MONTÁŽACH | I171: =ROUND((SUM(I166:I170))/1,2) -> 0 | L171: =ROUND((SUM(L166:L170))/1,2) -> 0 | M171: =ROUND((SUM(M166:M170))/1,2) -> 0 | S171: =ROUND((SUM(S166:S170))/1,2) -> 0 | V171: =ROUND((SUM(V166:V170))/1,2) -> 0
D173: Montážne práce | I173: =ROUND((SUM(I75:I172))/2,2) -> 0 | L173: =ROUND((SUM(L75:L172))/2,2) -> 0 | M173: =ROUND((SUM(M75:M172))/2,2) -> 0 | S173: =ROUND((SUM(S75:S172))/2,2) -> 0 | V173: =ROUND((SUM(V75:V172))/2,2) -> 0
D174: Celkom v EUR | I174: =ROUND((SUM(I75:I173))/3,2) -> 0 | K174: =ROUND((SUM(K75:K173))/3,2) -> 0 | L174: =ROUND((SUM(L75:L173))/3,2) -> 0 | M174: =ROUND((SUM(M75:M173))/3,2) -> 0 | S174: =ROUND((SUM(S75:S173))/3,2) -> 0 | V174: =ROUND((SUM(V75:V173))/3,2) -> 0 | Y174: =(SUM(Y75:Y173)) -> 0 | Z174: =(SUM(Z75:Z173)) -> 0

Sheet SO 01 - HLAVNÝ OBJEKT  - 17191
B1: Krycí list rozpočtu | E1: Rekapitulácia rozpočtu | H1: Rozpočet | W1: 30.126
B2: Krycí list rozpočtu
B3: Stavba Centrum služieb pre zlepšenie fyzickej a pohybovej zdatnosti obyvateľov
B4: Objekt SO 01 - HLAVNÝ OBJEKT - VZT | F4: Miesto:
F5: Ks:
B6: Zákazka: | D6: Spracoval: Ing. Ján Halgaš | F6: Dňa | G6: 21. 1. 2025
B7: Odberateľ: Športový klub Miko fit-box
B8: IČO: 42383625 | F8: DIČ:
B9: Projektant: D. D. - ARCH s. r. o.
B10: IČO: | F10: DIČ:
B11: Dodávateľ: ...
B12: IČO: | F12: DIČ:
B14: ZRN | C14: Montáž | D14: Materiál | E14: ZRN spolu | F14: Ostatné náklady | P14: 0
B15: HSV
B16: PSV | F16: Komplet. činnosť | P16: =(SUM(Z74:Z79)) -> 0
B17: MNT | C17: ='SO 01 - HLAVNÝ OBJEKT - 17191'!E57 -> 0 | D17: ='SO 01 - HLAVNÝ OBJEKT - 17191'!F57 -> 0 | E17: ='SO 01 - HLAVNÝ OBJEKT - 17191'!G57 -> 0 | F17: HZS | P17: 0
B18: OST
B19: VN
B20: Spolu | E20: =SUM(E15:E19) -> 0 | F20: Spolu | P20: =SUM(P14:P19) -> 0
B21: Zariadenie staveniska 0% | E21: =((E15*U22*0)+(E16*V22*0)+(E17*W22*0))/100 -> 0 | F21: Sťažené podmienky dopravy 0% | P21: =((E15*X22*0)+(E16*Y22*0)+(E17*Z22*0))/100 -> 0
B22: Sťažené výrobné podmienky 0% | E22: =((E15*U23*0)+(E16*V23*0)+(E17*W23*0))/100 -> 0 | F22: Horské oblasti 0% | P22: =((E15*X23*0)+(E16*Y23*0)+(E17*Z23*0))/100 -> 0 | U22: 1 | V22: 1 | W22: 1 | X22: 1 | Y22: 1 | Z22: 1
B23: Prevádzkové vplyvy 0% | E23: =((E15*U24*0)+(E16*V24*0)+(E17*W24*0))/100 -> 0 | F23: Mimostavenisková doprava 0% | P23: =((E15*X24*0)+(E16*Y24*0)+(E17*Z24*0))/100 -> 0 | U23: 1 | V23: 1 | W23: 0 | X23: 1 | Y23: 1 | Z23: 1
U24: 1 | V24: 1 | W24: 1 | X24: 1 | Y24: 1 | Z24: 0
F25: Spolu | P25: =SUM(E21:E24)+SUM(P21:P24) -> 0
B26: Projektant,rozpočtár | F26: Celkové náklady
F27: Celkové náklady bez DPH | P27: =E20+P20+E25+P25 -> 0
F28: DPH 23% z | H28: =P27-SUM('SO 01 - HLAVNÝ OBJEKT - 17191'!K74:'SO 01 - HLAVNÝ OBJEKT - 17191'!K79) -> 0 | P28: =ROUND(((ROUND(H28,2)*23)*1/100),2) -> 0
F29: DPH 0% z | H29: =SUM('SO 01 - HLAVNÝ OBJEKT - 17191'!K74:'SO 01 - HLAVNÝ OBJEKT - 17191'!K79) -> 0 | P29: =ROUND(((ROUND(H29,2)*0)/100),2) -> 0
F30: Spolu v EUR | P30: =SUM(P27:P29) -> 0
B32: Odberateľ | E32: Dodávateľ
B44: Rekapitulácia rozpočtu
B46: Odberateľ: Športový klub Miko fit-box | F46: Spracoval: Ing. Ján Halgaš
B47: Projektant: D. D. - ARCH s. r. o. | F47: Ks:
B48: Dodávateľ: ... | F48: Dátum: 21. 1. 2025
B49: Stavba Centrum služieb pre zlepšenie fyzickej a pohybovej zdatnosti obyvateľov
B50: Objekt SO 01 - HLAVNÝ OBJEKT - VZT
B53: Prehľad rozpočtových nákladov
E54: Montáž | F54: Materiál | G54: Spolu | H54: Hmotnosť (T) | I54: Sutina (T)
B55: Montážne práce
B56: M-24 MONTÁŽ VZDUCHOTECHNICKÝCH ZARIADENÍ | E56: ='SO 01 - HLAVNÝ OBJEKT - 17191'!L77 -> 0 | F56: ='SO 01 - HLAVNÝ OBJEKT - 17191'!M77 -> 0 | G56: ='SO 01 - HLAVNÝ OBJEKT - 17191'!I77 -> 0 | H56: ='SO 01 - HLAVNÝ OBJEKT - 17191'!S77 -> 0 | I56: ='SO 01 - HLAVNÝ OBJEKT - 17191'!V77 -> 0
B57: Montážne práce | E57: ='SO 01 - HLAVNÝ OBJEKT - 17191'!L79 -> 0 | F57: ='SO 01 - HLAVNÝ OBJEKT - 17191'!M79 -> 0 | G57: ='SO 01 - HLAVNÝ OBJEKT - 17191'!I79 -> 0 | H57: ='SO 01 - HLAVNÝ OBJEKT - 17191'!S79 -> 0 | I57: ='SO 01 - HLAVNÝ OBJEKT - 17191'!V79 -> 0
B59: Celkom v EUR | E59: ='SO 01 - HLAVNÝ OBJEKT - 17191'!L80 -> 0 | F59: ='SO 01 - HLAVNÝ OBJEKT - 17191'!M80 -> 0 | G59: ='SO 01 - HLAVNÝ OBJEKT - 17191'!I80 -> 0 | H59: ='SO 01 - HLAVNÝ OBJEKT - 17191'!S80 -> 0 | I59: ='SO 01 - HLAVNÝ OBJEKT - 17191'!V80 -> 0
B63: Rozpočet
B65: Odberateľ: Športový klub Miko fit-box | H65: Spracoval: | I65: Ing. Ján Halgaš
B66: Projektant: D. D. - ARCH s. r. o. | H66: Ks:
B67: Dodávateľ: ... | H67: Dátum: | I67: 21. 1. 2025
B68: Zákazka Centrum služieb pre zlepšenie fyzickej a pohybovej zdatnosti obyvateľov
B69: Objekt SO 01 - HLAVNÝ OBJEKT - VZT
B72: Prehľad rozpočtových nákladov
B73: Por.č. | C73: Kód položky | D73: Názov | F73: Mj | G73: Množstvo | H73: Cena/Mj | I73: Cena celkom | P73: Hmotnosť/Mj | S73: Hmotnosť | V73: Sutina
D74: Montážne práce
C75: 924 | D75: M-24 MONTÁŽ VZDUCHOTECHNICKÝCH ZARIADENÍ
B76: 1 | C76: 924100015 | D76: VZT - viď podrobný rozpočet | F76: kpl | G76: 1 | I76: =ROUND(G76*(H76),2) -> 0 | J76: =ROUND(G76*(N76),2) -> 42635.33 | K76: =ROUND(G76*(O76),2) -> 0 | L76: =ROUND(G76*(H76),2) -> 0 | N76: 42635.33 | P76: 0 | R76: 0 | S76: =ROUND(G76*(P76),3) -> 0 | V76: =ROUND(G76*(X76),3) -> 0 | X76: 0 | Z76: 0
C77: 924 | D77: M-24 MONTÁŽ VZDUCHOTECHNICKÝCH ZARIADENÍ | I77: =ROUND((SUM(I75:I76))/1,2) -> 0 | L77: =ROUND((SUM(L75:L76))/1,2) -> 0 | M77: =ROUND((SUM(M75:M76))/1,2) -> 0 | S77: =ROUND((SUM(S75:S76))/1,2) -> 0 | V77: =ROUND((SUM(V75:V76))/1,2) -> 0
D79: Montážne práce | I79: =ROUND((SUM(I74:I78))/2,2) -> 0 | L79: =ROUND((SUM(L74:L78))/2,2) -> 0 | M79: =ROUND((SUM(M74:M78))/2,2) -> 0 | S79: =ROUND((SUM(S74:S78))/2,2) -> 0 | V79: =ROUND((SUM(V74:V78))/2,2) -> 0
D80: Celkom v EUR | I80: =ROUND((SUM(I74:I79))/3,2) -> 0 | K80: =ROUND((SUM(K74:K79))/3,2) -> 0 | L80: =ROUND((SUM(L74:L79))/3,2) -> 0 | M80: =ROUND((SUM(M74:M79))/3,2) -> 0 | S80: =ROUND((SUM(S74:S79))/3,2) -> 0 | V80: =ROUND((SUM(V74:V79))/3,2) -> 0 | Y80: =(SUM(Y74:Y79)) -> 0 | Z80: =(SUM(Z74:Z79)) -> 0

Sheet SO 01 - HLAVNÝ OBJEKT - Z17192
B1: Krycí list rozpočtu | E1: Rekapitulácia rozpočtu | H1: Rozpočet | W1: 30.126
B2: Krycí list rozpočtu
B3: Stavba Centrum služieb pre zlepšenie fyzickej a pohybovej zdatnosti obyvateľov
B4: Objekt SO 01 - HLAVNÝ OBJEKT - ZTI - Zdravotechnika | F4: Miesto:
F5: Ks:
B6: Zákazka: | D6: Spracoval: Ing. Ján Halgaš | F6: Dňa | G6: 21. 1. 2025
B7: Odberateľ: Športový klub Miko fit-box
B8: IČO: 42383625 | F8: DIČ:
B9: Projektant: D. D. - ARCH s. r. o.
B10: IČO: | F10: DIČ:
B11: Dodávateľ: ...
B12: IČO: | F12: DIČ:
B14: ZRN | C14: Montáž | D14: Materiál | E14: ZRN spolu | F14: Ostatné náklady | P14: 0
B15: HSV | C15: ='SO 01 - HLAVNÝ OBJEKT - Z17192'!E58 -> 0 | D15: ='SO 01 - HLAVNÝ OBJEKT - Z17192'!F58 -> 0 | E15: ='SO 01 - HLAVNÝ OBJEKT - Z17192'!G58 -> 0
B16: PSV | C16: ='SO 01 - HLAVNÝ OBJEKT - Z17192'!E68 -> 0 | D16: ='SO 01 - HLAVNÝ OBJEKT - Z17192'!F68 -> 0 | E16: ='SO 01 - HLAVNÝ OBJEKT - Z17192'!G68 -> 0 | F16: Komplet. činnosť | P16: =(SUM(Z85:Z239)) -> 0
B17: MNT | F17: HZS | P17: 0
B18: OST
B19: VN
B20: Spolu | E20: =SUM(E15:E19) -> 0 | F20: Spolu | P20: =SUM(P14:P19) -> 0
B21: Zariadenie staveniska 0% | E21: =((E15*U22*0)+(E16*V22*0)+(E17*W22*0))/100 -> 0 | F21: Sťažené podmienky dopravy 0% | P21: =((E15*X22*0)+(E16*Y22*0)+(E17*Z22*0))/100 -> 0
B22: Sťažené výrobné podmienky 0% | E22: =((E15*U23*0)+(E16*V23*0)+(E17*W23*0))/100 -> 0 | F22: Horské oblasti 0% | P22: =((E15*X23*0)+(E16*Y23*0)+(E17*Z23*0))/100 -> 0 | U22: 1 | V22: 1 | W22: 1 | X22: 1 | Y22: 1 | Z22: 1
B23: Prevádzkové vplyvy 0% | E23: =((E15*U24*0)+(E16*V24*0)+(E17*W24*0))/100 -> 0 | F23: Mimostavenisková doprava 0% | P23: =((E15*X24*0)+(E16*Y24*0)+(E17*Z24*0))/100 -> 0 | U23: 1 | V23: 1 | W23: 0 | X23: 1 | Y23: 1 | Z23: 1
U24: 1 | V24: 1 | W24: 1 | X24: 1 | Y24: 1 | Z24: 0
F25: Spolu | P25: =SUM(E21:E24)+SUM(P21:P24) -> 0
B26: Projektant,rozpočtár | F26: Celkové náklady
F27: Celkové náklady bez DPH | P27: =E20+P20+E25+P25 -> 0
F28: DPH 23% z | H28: =P27-SUM('SO 01 - HLAVNÝ OBJEKT - Z17192'!K85:'SO 01 - HLAVNÝ OBJEKT - Z17192'!K239) -> 0 | P28: =ROUND(((ROUND(H28,2)*23)*1/100),2) -> 0
F29: DPH 0% z | H29: =SUM('SO 01 - HLAVNÝ OBJEKT - Z17192'!K85:'SO 01 - HLAVNÝ OBJEKT - Z17192'!K239) -> 0 | P29: =ROUND(((ROUND(H29,2)*0)/100),2) -> 0
F30: Spolu v EUR | P30: =SUM(P27:P29) -> 0
B32: Odberateľ | E32: Dodávateľ
B44: Rekapitulácia rozpočtu
B46: Odberateľ: Športový klub Miko fit-box | F46: Spracoval: Ing. Ján Halgaš
B47: Projektant: D. D. - ARCH s. r. o. | F47: Ks:
B48: Dodávateľ: ... | F48: Dátum: 21. 1. 2025
B49: Stavba Centrum služieb pre zlepšenie fyzickej a pohybovej zdatnosti obyvateľov
B50: Objekt SO 01 - HLAVNÝ OBJEKT - ZTI - Zdravotechnika
B53: Prehľad rozpočtových nákladov
E54: Montáž | F54: Materiál | G54: Spolu | H54: Hmotnosť (T) | I54: Sutina (T)
B55: Práce HSV
B56: POVRCHOVÉ ÚPRAVY | E56: ='SO 01 - HLAVNÝ OBJEKT - Z17192'!L88 -> 0 | F56: ='SO 01 - HLAVNÝ OBJEKT - Z17192'!M88 -> 0 | G56: ='SO 01 - HLAVNÝ OBJEKT - Z17192'!I88 -> 0 | H56: ='SO 01 - HLAVNÝ OBJEKT - Z17192'!S88 -> 0.19 | I56: ='SO 01 - HLAVNÝ OBJEKT - Z17192'!V88 -> 0
B57: OSTATNÉ KONŠTRUKCIE A PRÁCE | E57: ='SO 01 - HLAVNÝ OBJEKT - Z17192'!L92 -> 0 | F57: ='SO 01 - HLAVNÝ OBJEKT - Z17192'!M92 -> 0 | G57: ='SO 01 - HLAVNÝ OBJEKT - Z17192'!I92 -> 0 | H57: ='SO 01 - HLAVNÝ OBJEKT - Z17192'!S92 -> 0 | I57: ='SO 01 - HLAVNÝ OBJEKT - Z17192'!V92 -> 0.15
B58: Práce HSV | E58: ='SO 01 - HLAVNÝ OBJEKT - Z17192'!L94 -> 0 | F58: ='SO 01 - HLAVNÝ OBJEKT - Z17192'!M94 -> 0 | G58: ='SO 01 - HLAVNÝ OBJEKT - Z17192'!I94 -> 0 | H58: ='SO 01 - HLAVNÝ OBJEKT - Z17192'!S94 -> 0.19 | I58: ='SO 01 - HLAVNÝ OBJEKT - Z17192'!V94 -> 0.15
B60: Práce PSV
B61: IZOLÁCIE PROTI VODE A VLHKOSTI | E61: ='SO 01 - HLAVNÝ OBJEKT - Z17192'!L104 -> 0 | F61: ='SO 01 - HLAVNÝ OBJEKT - Z17192'!M104 -> 0 | G61: ='SO 01 - HLAVNÝ OBJEKT - Z17192'!I104 -> 0 | H61: ='SO 01 - HLAVNÝ OBJEKT - Z17192'!S104 -> 0 | I61: ='SO 01 - HLAVNÝ OBJEKT - Z17192'!V104 -> 0
B62: IZOLÁCIE TEPELNÉ BEŽNÝCH STAVEBNÝCH KONŠTRUKCIÍ | E62: ='SO 01 - HLAVNÝ OBJEKT - Z17192'!L114 -> 0 | F62: ='SO 01 - HLAVNÝ OBJEKT - Z17192'!M114 -> 0 | G62: ='SO 01 - HLAVNÝ OBJEKT - Z17192'!I114 -> 0 | H62: ='SO 01 - HLAVNÝ OBJEKT - Z17192'!S114 -> 0 | I62: ='SO 01 - HLAVNÝ OBJEKT - Z17192'!V114 -> 0
B63: ZTI - VNÚTORNA KANALIZÁCIA | E63: ='SO 01 - HLAVNÝ OBJEKT - Z17192'!L139 -> 0 | F63: ='SO 01 - HLAVNÝ OBJEKT - Z17192'!M139 -> 0 | G63: ='SO 01 - HLAVNÝ OBJEKT - Z17192'!I139 -> 0 | H63: ='SO 01 - HLAVNÝ OBJEKT - Z17192'!S139 -> 0.08 | I63: ='SO 01 - HLAVNÝ OBJEKT - Z17192'!V139 -> 0
B64: ZTI - VNÚTORNÝ VODOVOD | E64: ='SO 01 - HLAVNÝ OBJEKT - Z17192'!L172 -> 0 | F64: ='SO 01 - HLAVNÝ OBJEKT - Z17192'!M172 -> 0 | G64: ='SO 01 - HLAVNÝ OBJEKT - Z17192'!I172 -> 0 | H64: ='SO 01 - HLAVNÝ OBJEKT - Z17192'!S172 -> 0.47 | I64: ='SO 01 - HLAVNÝ OBJEKT - Z17192'!V172 -> 0
B65: ZTI - ZARIAĎOVACIE PREDMETY | E65: ='SO 01 - HLAVNÝ OBJEKT - Z17192'!L215 -> 0 | F65: ='SO 01 - HLAVNÝ OBJEKT - Z17192'!M215 -> 0 | G65: ='SO 01 - HLAVNÝ OBJEKT - Z17192'!I215 -> 0 | H65: ='SO 01 - HLAVNÝ OBJEKT - Z17192'!S215 -> 0.01 | I65: ='SO 01 - HLAVNÝ OBJEKT - Z17192'!V215 -> 0
B66: ÚSTREDNÉ VYKUROVANIE - ARMATÚRY | E66: ='SO 01 - HLAVNÝ OBJEKT - Z17192'!L223 -> 0 | F66: ='SO 01 - HLAVNÝ OBJEKT - Z17192'!M223 -> 0 | G66: ='SO 01 - HLAVNÝ OBJEKT - Z17192'!I223 -> 0 | H66: ='SO 01 - HLAVNÝ OBJEKT - Z17192'!S223 -> 0 | I66: ='SO 01 - HLAVNÝ OBJEKT - Z17192'!V223 -> 0
B67: MONTÁŽ VZDUCHOTECHNICKÝCH ZARIADENÍ | E67: ='SO 01 - HLAVNÝ OBJEKT - Z17192'!L237 -> 0 | F67: ='SO 01 - HLAVNÝ OBJEKT - Z17192'!M237 -> 0 | G67: ='SO 01 - HLAVNÝ OBJEKT - Z17192'!I237 -> 0 | H67: ='SO 01 - HLAVNÝ OBJEKT - Z17192'!S237 -> 0 | I67: ='SO 01 - HLAVNÝ OBJEKT - Z17192'!V237 -> 0
B68: Práce PSV | E68: ='SO 01 - HLAVNÝ OBJEKT - Z17192'!L239 -> 0 | F68: ='SO 01 - HLAVNÝ OBJEKT - Z17192'!M239 -> 0 | G68: ='SO 01 - HLAVNÝ OBJEKT - Z17192'!I239 -> 0 | H68: ='SO 01 - HLAVNÝ OBJEKT - Z17192'!S239 -> 0.56 | I68: ='SO 01 - HLAVNÝ OBJEKT - Z17192'!V239 -> 0
B70: Celkom v EUR | E70: ='SO 01 - HLAVNÝ OBJEKT - Z17192'!L240 -> 0 | F70: ='SO 01 - HLAVNÝ OBJEKT - Z17192'!M240 -> 0 | G70: ='SO 01 - HLAVNÝ OBJEKT - Z17192'!I240 -> 0 | H70: ='SO 01 - HLAVNÝ OBJEKT - Z17192'!S240 -> 0.75 | I70: ='SO 01 - HLAVNÝ OBJEKT - Z17192'!V240 -> 0.15
B74: Rozpočet
B76: Odberateľ: Športový klub Miko fit-box | H76: Spracoval: | I76: Ing. Ján Halgaš
B77: Projektant: D. D. - ARCH s. r. o. | H77: Ks:
B78: Dodávateľ: ... | H78: Dátum: | I78: 21. 1. 2025
B79: Zákazka Centrum služieb pre zlepšenie fyzickej a pohybovej zdatnosti obyvateľov
B80: Objekt SO 01 - HLAVNÝ OBJEKT - ZTI - Zdravotechnika
B83: Prehľad rozpočtových nákladov
B84: Por.č. | C84: Kód položky | D84: Názov | F84: Mj | G84: Množstvo | H84: Cena/Mj | I84: Cena celkom | P84: Hmotnosť/Mj | S84: Hmotnosť | V84: Sutina
D85: Práce HSV
C86: 6 | D86: POVRCHOVÉ ÚPRAVY
B87: 1 | C87: 612403399.S | D87: Hrubá výplň rýh na stenách akoukoľvek maltou, akejkoľvek šírky ryhy | F87: m2 | G87: 2.5 | I87: =ROUND(G87*(H87),2) -> 0 | J87: =ROUND(G87*(N87),2) -> 38.6 | K87: =ROUND(G87*(O87),2) -> 0 | L87: =ROUND(G87*(H87),2) -> 0 | N87: 15.44 | P87: 0.07552 | R87: 0.07552 | S87: =ROUND(G87*(P87),3) -> 0.189 | V87: =ROUND(G87*(X87),3) -> 0 | X87: 0 | Z87: 0
C88: 6 | D88: POVRCHOVÉ ÚPRAVY | I88: =ROUND((SUM(I86:I87))/1,2) -> 0 | L88: =ROUND((SUM(L86:L87))/1,2) -> 0 | M88: =ROUND((SUM(M86:M87))/1,2) -> 0 | S88: =ROUND((SUM(S86:S87))/1,2) -> 0.19 | V88: =ROUND((SUM(V86:V87))/1,2) -> 0
C90: 9 | D90: OSTATNÉ KONŠTRUKCIE A PRÁCE
B91: 2 | C91: 974031132.S | D91: Vysekanie rýh v akomkoľvek murive tehlovom na akúkoľvek maltu do hĺbky 50 mm a š. do 70 mm, -0,00600t | F91: m | G91: 25 | I91: =ROUND(G91*(H91),2) -> 0 | J91: =ROUND(G91*(N91),2) -> 85.5 | K91: =ROUND(G91*(O91),2) -> 0 | L91: =ROUND(G91*(H91),2) -> 0 | N91: 3.42 | P91: 0 | R91: 0 | S91: =ROUND(G91*(P91),3) -> 0 | V91: =ROUND(G91*(X91),3) -> 0.15 | X91: 0.006 | Z91: 0
C92: 9 | D92: OSTATNÉ KONŠTRUKCIE A PRÁCE | I92: =ROUND((SUM(I90:I91))/1,2) -> 0 | L92: =ROUND((SUM(L90:L91))/1,2) -> 0 | M92: =ROUND((SUM(M90:M91))/1,2) -> 0 | S92: =ROUND((SUM(S90:S91))/1,2) -> 0 | V92: =ROUND((SUM(V90:V91))/1,2) -> 0.15
D94: Práce HSV | I94: =ROUND((SUM(I85:I93))/2,2) -> 0 | L94: =ROUND((SUM(L85:L93))/2,2) -> 0 | M94: =ROUND((SUM(M85:M93))/2,2) -> 0 | S94: =ROUND((SUM(S85:S93))/2,2) -> 0.19 | V94: =ROUND((SUM(V85:V93))/2,2) -> 0.15
D96: Práce PSV
C97: 711 | D97: IZOLÁCIE PROTI VODE A VLHKOSTI
B98: 3 | C98: 711767278.S | D98: Zhotovenie detailov, oprac.rúr.prestupov | F98: ks | G98: 4 | I98: =ROUND(G98*(H98),2) -> 0 | J98: =ROUND(G98*(N98),2) -> 139.56 | K98: =ROUND(G98*(O98),2) -> 0 | L98: =ROUND(G98*(H98),2) -> 0 | N98: 34.89 | P98: 0.00029 | R98: 0.00029 | S98: =ROUND(G98*(P98),3) -> 0.001 | V98: =ROUND(G98*(X98),3) -> 0 | X98: 0 | Z98: 0
B99: 4 | C99: 998711202.S | D99: Presun hmôt pre izoláciu proti vode v objektoch výšky nad 6 do 12 m | F99: % | G99: 2.7 | I99: =ROUND(G99*(H99),2) -> 0 | J99: =ROUND(G99*(N99),2) -> 8.02 | K99: =ROUND(G99*(O99),2) -> 0 | L99: =ROUND(G99*(H99),2) -> 0 | N99: 2.97 | P99: 0 | R99: 0 | S99: =ROUND(G99*(P99),3) -> 0 | V99: =ROUND(G99*(X99),3) -> 0 | X99: 0 | Z99: 0
B100: 5 | C100: 998711294.S | D100: Izolácia proti vode, prípl.za presun nad vymedz. najväčšiu dopravnú vzdialenosť do 1000 m | F100: % | G100: 0.65 | I100: =ROUND(G100*(H100),2) -> 0 | J100: =ROUND(G100*(N100),2) -> 1.93 | K100: =ROUND(G100*(O100),2) -> 0 | L100: =ROUND(G100*(H100),2) -> 0 | N100: 2.97 | P100: 0 | R100: 0 | S100: =ROUND(G100*(P100),3) -> 0 | V100: =ROUND(G100*(X100),3) -> 0 | X100: 0 | Z100: 0
B101: 6 | C101: 998711299.S | D101: Izolácia proti vode, prípl.za presun nad vymedz. najväčšiu dopr. vzdial. za k. ď. i začatých 1000m | F101: % | G101: 0.05 | I101: =ROUND(G101*(H101),2) -> 0 | J101: =ROUND(G101*(N101),2) -> 0.15 | K101: =ROUND(G101*(O101),2) -> 0 | L101: =ROUND(G101*(H101),2) -> 0 | N101: 2.97 | P101: 0 | R101: 0 | S101: =ROUND(G101*(P101),3) -> 0 | V101: =ROUND(G101*(X101),3) -> 0 | X101: 0 | Z101: 0
B102: 7 | C102: R2516 | D102: TWOD 110 PE Prestup parozábranou alebo ekvivalent | F102: ks | G102: 2 | I102: =ROUND(G102*(H102),2) -> 0 | J102: =ROUND(G102*(N102),2) -> 136 | K102: =ROUND(G102*(O102),2) -> 0 | M102: =ROUND(G102*(H102),2) -> 0 | N102: 68 | P102: 0 | R102: 0 | S102: =ROUND(G102*(P102),3) -> 0 | V102: =ROUND(G102*(X102),3) -> 0 | X102: 0 | Z102: 0
B103: 8 | C103: R2686 | D103: TWUT 110 PVC Uzatvorená kruhová manžeta alebo ekvivalent | F103: ks | G103: 2 | I103: =ROUND(G103*(H103),2) -> 0 | J103: =ROUND(G103*(N103),2) -> 21.4 | K103: =ROUND(G103*(O103),2) -> 0 | M103: =ROUND(G103*(H103),2) -> 0 | N103: 10.7 | P103: 0 | R103: 0 | S103: =ROUND(G103*(P103),3) -> 0 | V103: =ROUND(G103*(X103),3) -> 0 | X103: 0 | Z103: 0
C104: 711 | D104: IZOLÁCIE PROTI VODE A VLHKOSTI | I104: =ROUND((SUM(I97:I103))/1,2) -> 0 | L104: =ROUND((SUM(L97:L103))/1,2) -> 0 | M104: =ROUND((SUM(M97:M103))/1,2) -> 0 | S104: =ROUND((SUM(S97:S103))/1,2) -> 0 | V104: =ROUND((SUM(V97:V103))/1,2) -> 0
C106: 713 | D106: IZOLÁCIE TEPELNÉ BEŽNÝCH STAVEBNÝCH KONŠTRUKCIÍ
B107: 9 | C107: 713482305 | D107: Montaž trubíc hr. do 13 mm, vnút.priemer 22 - 42 mm | F107: m | G107: 86 | I107: =ROUND(G107*(H107),2) -> 0 | J107: =ROUND(G107*(N107),2) -> 198.66 | K107: =ROUND(G107*(O107),2) -> 0 | L107: =ROUND(G107*(H107),2) -> 0 | N107: 2.31 | P107: 3e-05 | R107: 3e-05 | S107: =ROUND(G107*(P107),3) -> 0.003 | V107: =ROUND(G107*(X107),3) -> 0 | X107: 0 | Z107: 0
B108: 10 | C108: 998713202.S | D108: Presun hmôt pre izolácie tepelné v objektoch výšky nad 6 m do 12 m | F108: % | G108: 1.4 | I108: =ROUND(G108*(H108),2) -> 0 | J108: =ROUND(G108*(N108),2) -> 4.1 | K108: =ROUND(G108*(O108),2) -> 0 | L108: =ROUND(G108*(H108),2) -> 0 | N108: 2.93 | P108: 0 | R108: 0 | S108: =ROUND(G108*(P108),3) -> 0 | V108: =ROUND(G108*(X108),3) -> 0 | X108: 0 | Z108: 0
B109: 11 | C109: 998713294.S | D109: Izolácie tepelné, prípl.za presun nad vymedz. najväčšiu dopravnú vzdial. do 1000 m | F109: % | G109: 0.45 | I109: =ROUND(G109*(H109),2) -> 0 | J109: =ROUND(G109*(N109),2) -> 1.32 | K109: =ROUND(G109*(O109),2) -> 0 | L109: =ROUND(G109*(H109),2) -> 0 | N109: 2.93 | P109: 0 | R109: 0 | S109: =ROUND(G109*(P109),3) -> 0 | V109: =ROUND(G109*(X109),3) -> 0 | X109: 0 | Z109: 0
B110: 12 | C110: 998713299.S | D110: Izolácie tepelné, prípl.za presun za každých ďalších aj začatých 1000 m nad 1000 m | F110: % | G110: 0.05 | I110: =ROUND(G110*(H110),2) -> 0 | J110: =ROUND(G110*(N110),2) -> 0.15 | K110: =ROUND(G110*(O110),2) -> 0 | L110: =ROUND(G110*(H110),2) -> 0 | N110: 2.93 | P110: 0 | R110: 0 | S110: =ROUND(G110*(P110),3) -> 0 | V110: =ROUND(G110*(X110),3) -> 0 | X110: 0 | Z110: 0
B111: 13 | C111: 283310002800.S | D111: Izolačná PE trubica dxhr. 20x13 mm, nadrezaná, na izolovanie rozvodov vody, kúrenia, zdravotechniky | F111: m | G111: 58 | I111: =ROUND(G111*(H111),2) -> 0 | J111: =ROUND(G111*(N111),2) -> 58 | K111: =ROUND(G111*(O111),2) -> 0 | M111: =ROUND(G111*(H111),2) -> 0 | N111: 1 | P111: 0 | R111: 0 | S111: =ROUND(G111*(P111),3) -> 0 | V111: =ROUND(G111*(X111),3) -> 0 | X111: 0 | Z111: 0
B112: 14 | C112: 283310003100.S | D112: Izolačná PE trubica dxhr. 28x13 mm, nadrezaná, na izolovanie rozvodov vody, kúrenia, zdravotechniky | F112: m | G112: 18 | I112: =ROUND(G112*(H112),2) -> 0 | J112: =ROUND(G112*(N112),2) -> 21.96 | K112: =ROUND(G112*(O112),2) -> 0 | M112: =ROUND(G112*(H112),2) -> 0 | N112: 1.22 | P112: 0 | R112: 0 | S112: =ROUND(G112*(P112),3) -> 0 | V112: =ROUND(G112*(X112),3) -> 0 | X112: 0 | Z112: 0
B113: 15 | C113: 283310003200.S | D113: Izolačná PE trubica dxhr. 32x13 mm, nadrezaná, na izolovanie rozvodov vody, kúrenia, zdravotechniky | F113: m | G113: 10 | I113: =ROUND(G113*(H113),2) -> 0 | J113: =ROUND(G113*(N113),2) -> 14.1 | K113: =ROUND(G113*(O113),2) -> 0 | M113: =ROUND(G113*(H113),2) -> 0 | N113: 1.41 | P113: 0 | R113: 0 | S113: =ROUND(G113*(P113),3) -> 0 | V113: =ROUND(G113*(X113),3) -> 0 | X113: 0 | Z113: 0
C114: 713 | D114: IZOLÁCIE TEPELNÉ BEŽNÝCH STAVEBNÝCH KONŠTRUKCIÍ | I114: =ROUND((SUM(I106:I113))/1,2) -> 0 | L114: =ROUND((SUM(L106:L113))/1,2) -> 0 | M114: =ROUND((SUM(M106:M113))/1,2) -> 0 | S114: =ROUND((SUM(S106:S113))/1,2) -> 0 | V114: =ROUND((SUM(V106:V113))/1,2) -> 0
C116: 721 | D116: ZTI - VNÚTORNA KANALIZÁCIA
B117: 16 | C117: 721171406.S | D117: Potrubie z rúr PE-HD 75/3 odpadné zvislé (odbočka 45°)vrátane tvaroviek, kotvenia | F117: m | G117: 10 | I117: =ROUND(G117*(H117),2) -> 0 | J117: =ROUND(G117*(N117),2) -> 331.2 | K117: =ROUND(G117*(O117),2) -> 0 | L117: =ROUND(G117*(H117),2) -> 0 | N117: 33.12 | P117: 0.00114 | R117: 0.00114 | S117: =ROUND(G117*(P117),3) -> 0.011 | V117: =ROUND(G117*(X117),3) -> 0 | X117: 0 | Z117: 0
B118: 17 | C118: 721171408.S | D118: Potrubie z rúr PE-HD 110/4,3 odpadné zvislé (odbočka 45°)vrátane tvaroviek, kotvenia | F118: m | G118: 24.5 | I118: =ROUND(G118*(H118),2) -> 0 | J118: =ROUND(G118*(N118),2) -> 1151.75 | K118: =ROUND(G118*(O118),2) -> 0 | L118: =ROUND(G118*(H118),2) -> 0 | N118: 47.01 | P118: 0.00206 | R118: 0.00206 | S118: =ROUND(G118*(P118),3) -> 0.05 | V118: =ROUND(G118*(X118),3) -> 0 | X118: 0 | Z118: 0
B119: 18 | C119: 721171502.S | D119: Potrubie z rúr PE-HD Dxt 40x3 mm odpadné prípojné vrátane tvaroviek | F119: m | G119: 5.5 | I119: =ROUND(G119*(H119),2) -> 0 | J119: =ROUND(G119*(N119),2) -> 90.15 | K119: =ROUND(G119*(O119),2) -> 0 | L119: =ROUND(G119*(H119),2) -> 0 | N119: 16.39 | P119: 0.0003 | R119: 0.0003 | S119: =ROUND(G119*(P119),3) -> 0.002 | V119: =ROUND(G119*(X119),3) -> 0 | X119: 0 | Z119: 0
B120: 19 | C120: 721171503.S | D120: Potrubie z rúr PE-HD Dxt 50x3 mm odpadné prípojné vrátane tvaroviek | F120: m | G120: 1 | I120: =ROUND(G120*(H120),2) -> 0 | J120: =ROUND(G120*(N120),2) -> 13.71 | K120: =ROUND(G120*(O120),2) -> 0 | L120: =ROUND(G120*(H120),2) -> 0 | N120: 13.71 | P120: 0.00043 | R120: 0.00043 | S120: =ROUND(G120*(P120),3) -> 0 | V120: =ROUND(G120*(X120),3) -> 0 | X120: 0 | Z120: 0
B121: 20 | C121: 721171508 | D121: Potrubie z rúr PE-HD 110/4, 3 odpadné prípojné vrátane tvaroviek | F121: m | G121: 3.5 | I121: =ROUND(G121*(H121),2) -> 0 | J121: =ROUND(G121*(N121),2) -> 186.62 | K121: =ROUND(G121*(O121),2) -> 0 | L121: =ROUND(G121*(H121),2) -> 0 | N121: 53.32 | P121: 0.0011 | R121: 0.0011 | S121: =ROUND(G121*(P121),3) -> 0.004 | V121: =ROUND(G121*(X121),3) -> 0 | X121: 0 | Z121: 0
B122: 21 | C122: 721194104.S | D122: Zriadenie prípojky na potrubí vyvedenie a upevnenie odpadových výpustiek D 40 mm | F122: ks | G122: 7 | I122: =ROUND(G122*(H122),2) -> 0 | J122: =ROUND(G122*(N122),2) -> 26.46 | K122: =ROUND(G122*(O122),2) -> 0 | L122: =ROUND(G122*(H122),2) -> 0 | N122: 3.78 | P122: 0 | R122: 0 | S122: =ROUND(G122*(P122),3) -> 0 | V122: =ROUND(G122*(X122),3) -> 0 | X122: 0 | Z122: 0
B123: 22 | C123: 721194105 | D123: Zriadenie prípojky na potrubí vyvedenie a upevnenie odpadových výpustiek D 50x1, 8 | F123: ks | G123: 4 | I123: =ROUND(G123*(H123),2) -> 0 | J123: =ROUND(G123*(N123),2) -> 11.56 | K123: =ROUND(G123*(O123),2) -> 0 | L123: =ROUND(G123*(H123),2) -> 0 | N123: 2.89 | P123: 0 | R123: 0 | S123: =ROUND(G123*(P123),3) -> 0 | V123: =ROUND(G123*(X123),3) -> 0 | X123: 0 | Z123: 0
B124: 23 | C124: 721194107.S | D124: Zriadenie prípojky na potrubí vyvedenie a upevnenie odpadových výpustiek D 75 mm | F124: ks | G124: 1 | I124: =ROUND(G124*(H124),2) -> 0 | J124: =ROUND(G124*(N124),2) -> 5.05 | K124: =ROUND(G124*(O124),2) -> 0 | L124: =ROUND(G124*(H124),2) -> 0 | N124: 5.05 | P124: 0 | R124: 0 | S124: =ROUND(G124*(P124),3) -> 0 | V124: =ROUND(G124*(X124),3) -> 0 | X124: 0 | Z124: 0
B125: 24 | C125: 721194109 | D125: Zriadenie prípojky na potrubí vyvedenie a upevnenie odpadových výpustiek D 110x2, 3 | F125: ks | G125: 7 | I125: =ROUND(G125*(H125),2) -> 0 | J125: =ROUND(G125*(N125),2) -> 29.96 | K125: =ROUND(G125*(O125),2) -> 0 | L125: =ROUND(G125*(H125),2) -> 0 | N125: 4.28 | P125: 0 | R125: 0 | S125: =ROUND(G125*(P125),3) -> 0 | V125: =ROUND(G125*(X125),3) -> 0 | X125: 0 | Z125: 0
B126: 25 | C126: 721229022.S | D126: Montáž podlahového odtokového žlabu dĺžky 900 mm pre montáž k stene | F126: ks | G126: 2 | I126: =ROUND(G126*(H126),2) -> 0 | J126: =ROUND(G126*(N126),2) -> 86.72 | K126: =ROUND(G126*(O126),2) -> 0 | L126: =ROUND(G126*(H126),2) -> 0 | N126: 43.36 | P126: 0.000822 | R126: 0.000822 | S126: =ROUND(G126*(P126),3) -> 0.002 | V126: =ROUND(G126*(X126),3) -> 0 | X126: 0 | Z126: 0
B127: 26 | C127: 721274103 | D127: Ventilačné hlavice strešná - plastové DN 100 HUL 810 alebo ekvivalent | F127: ks | G127: 2 | I127: =ROUND(G127*(H127),2) -> 0 | J127: =ROUND(G127*(N127),2) -> 20.66 | K127: =ROUND(G127*(O127),2) -> 0 | L127: =ROUND(G127*(H127),2) -> 0 | N127: 10.33 | P127: 0.00415 | R127: 0.00415 | S127: =ROUND(G127*(P127),3) -> 0.008 | V127: =ROUND(G127*(X127),3) -> 0 | X127: 0 | Z127: 0
B128: 27 | C128: 721290111 | D128: Ostatné - skúška tesnosti kanalizácie v objektoch vodou do DN 125 | F128: m | G128: 44.5 | I128: =ROUND(G128*(H128),2) -> 0 | J128: =ROUND(G128*(N128),2) -> 35.6 | K128: =ROUND(G128*(O128),2) -> 0 | L128: =ROUND(G128*(H128),2) -> 0 | N128: 0.8 | P128: 0 | R128: 0 | S128: =ROUND(G128*(P128),3) -> 0 | V128: =ROUND(G128*(X128),3) -> 0 | X128: 0 | Z128: 0
... B134: 33 | C134: 721290012.S | D134: Montáž privzdušňovacieho ventilu pre odpadové potrubia DN 110 | F134: ks | G134: 3 | I134: =ROUND(G134*(H134),2) -> 0 | J134: =ROUND(G134*(N134),2) -> 6.78 | K134: =ROUND(G134*(O134),2) -> 0 | L134: =ROUND(G134*(H134),2) -> 0 | N134: 2.26 | P134: 0 | R134: 0 | S134: =ROUND(G134*(P134),3) -> 0 | V134: =ROUND(G134*(X134),3) -> 0 | X134: 0 | Z134: 0
...

Sheet SO 01 - HLAVNÝ OBJEKT - Z17193
B1: Krycí list rozpočtu | E1: Rekapitulácia rozpočtu | H1: Rozpočet | W1: 30.126
B2: Krycí list rozpočtu
B3: Stavba Centrum služieb pre zlepšenie fyzickej a pohybovej zdatnosti obyvateľov
B4: Objekt SO 01 - HLAVNÝ OBJEKT - ZTI - Rozvody vody, kanál. a techn. potrubia v zákaldoch | F4: Miesto:
F5: Ks:
B6: Zákazka: | D6: Spracoval: Ing. Ján Halgaš | F6: Dňa | G6: 21. 1. 2025
B7: Odberateľ: Športový klub Miko fit-box
B8: IČO: 42383625 | F8: DIČ:
B9: Projektant: D. D. - ARCH s. r. o.
B10: IČO: | F10: DIČ:
B11: Dodávateľ: ...
B12: IČO: | F12: DIČ:
B14: ZRN | C14: Montáž | D14: Materiál | E14: ZRN spolu | F14: Ostatné náklady | P14: 0
B15: HSV | C15: ='SO 01 - HLAVNÝ OBJEKT - Z17193'!E60 -> 0 | D15: ='SO 01 - HLAVNÝ OBJEKT - Z17193'!F60 -> 0 | E15: ='SO 01 - HLAVNÝ OBJEKT - Z17193'!G60 -> 0
B16: PSV | C16: ='SO 01 - HLAVNÝ OBJEKT - Z17193'!E65 -> 0 | D16: ='SO 01 - HLAVNÝ OBJEKT - Z17193'!F65 -> 0 | E16: ='SO 01 - HLAVNÝ OBJEKT - Z17193'!G65 -> 0 | F16: Komplet. činnosť | P16: =(SUM(Z86:Z159)) -> 0
B17: MNT | C17: ='SO 01 - HLAVNÝ OBJEKT - Z17193'!E69 -> 0 | D17: ='SO 01 - HLAVNÝ OBJEKT - Z17193'!F69 -> 0 | E17: ='SO 01 - HLAVNÝ OBJEKT - Z17193'!G69 -> 0 | F17: HZS | P17: 0
B18: OST
B19: VN
B20: Spolu | E20: =SUM(E15:E19) -> 0 | F20: Spolu | P20: =SUM(P14:P19) -> 0
B21: Zariadenie staveniska 0% | E21: =((E15*U22*0)+(E16*V22*0)+(E17*W22*0))/100 -> 0 | F21: Sťažené podmienky dopravy 0% | P21: =((E15*X22*0)+(E16*Y22*0)+(E17*Z22*0))/100 -> 0
B22: Sťažené výrobné podmienky 0% | E22: =((E15*U23*0)+(E16*V23*0)+(E17*W23*0))/100 -> 0 | F22: Horské oblasti 0% | P22: =((E15*X23*0)+(E16*Y23*0)+(E17*Z23*0))/100 -> 0 | U22: 1 | V22: 1 | W22: 1 | X22: 1 | Y22: 1 | Z22: 1
B23: Prevádzkové vplyvy 0% | E23: =((E15*U24*0)+(E16*V24*0)+(E17*W24*0))/100 -> 0 | F23: Mimostavenisková doprava 0% | P23: =((E15*X24*0)+(E16*Y24*0)+(E17*Z24*0))/100 -> 0 | U23: 1 | V23: 1 | W23: 0 | X23: 1 | Y23: 1 | Z23: 1
U24: 1 | V24: 1 | W24: 1 | X24: 1 | Y24: 1 | Z24: 0
F25: Spolu | P25: =SUM(E21:E24)+SUM(P21:P24) -> 0
B26: Projektant,rozpočtár | F26: Celkové náklady
F27: Celkové náklady bez DPH | P27: =E20+P20+E25+P25 -> 0
F28: DPH 23% z | H28: =P27-SUM('SO 01 - HLAVNÝ OBJEKT - Z17193'!K86:'SO 01 - HLAVNÝ OBJEKT - Z17193'!K159) -> 0 | P28: =ROUND(((ROUND(H28,2)*23)*1/100),2) -> 0
F29: DPH 0% z | H29: =SUM('SO 01 - HLAVNÝ OBJEKT - Z17193'!K86:'SO 01 - HLAVNÝ OBJEKT - Z17193'!K159) -> 0 | P29: =ROUND(((ROUND(H29,2)*0)/100),2) -> 0
F30: Spolu v EUR | P30: =SUM(P27:P29) -> 0
B32: Odberateľ | E32: Dodávateľ
B44: Rekapitulácia rozpočtu
B46: Odberateľ: Športový klub Miko fit-box | F46: Spracoval: Ing. Ján Halgaš
B47: Projektant: D. D. - ARCH s. r. o. | F47: Ks:
B48: Dodávateľ: ... | F48: Dátum: 21. 1. 2025
B49: Stavba Centrum služieb pre zlepšenie fyzickej a pohybovej zdatnosti obyvateľov
B50: Objekt SO 01 - HLAVNÝ OBJEKT - ZTI - Rozvody vody, kanál. a techn. potrubia v zákaldoch
B53: Prehľad rozpočtových nákladov
E54: Montáž | F54: Materiál | G54: Spolu | H54: Hmotnosť (T) | I54: Sutina (T)
B55: Práce HSV
B56: ZEMNÉ PRÁCE | E56: ='SO 01 - HLAVNÝ OBJEKT - Z17193'!L100 -> 0 | F56: ='SO 01 - HLAVNÝ OBJEKT - Z17193'!M100 -> 0 | G56: ='SO 01 - HLAVNÝ OBJEKT - Z17193'!I100 -> 0 | H56: ='SO 01 - HLAVNÝ OBJEKT - Z17193'!S100 -> 0 | I56: ='SO 01 - HLAVNÝ OBJEKT - Z17193'!V100 -> 0
B57: ZÁKLADY | E57: ='SO 01 - HLAVNÝ OBJEKT - Z17193'!L105 -> 0 | F57: ='SO 01 - HLAVNÝ OBJEKT - Z17193'!M105 -> 0 | G57: ='SO 01 - HLAVNÝ OBJEKT - Z17193'!I105 -> 0 | H57: ='SO 01 - HLAVNÝ OBJEKT - Z17193'!S105 -> 0 | I57: ='SO 01 - HLAVNÝ OBJEKT - Z17193'!V105 -> 0
B58: VODOROVNÉ KONŠTRUKCIE | E58: ='SO 01 - HLAVNÝ OBJEKT - Z17193'!L109 -> 0 | F58: ='SO 01 - HLAVNÝ OBJEKT - Z17193'!M109 -> 0 | G58: ='SO 01 - HLAVNÝ OBJEKT - Z17193'!I109 -> 0 | H58: ='SO 01 - HLAVNÝ OBJEKT - Z17193'!S109 -> 2.84 | I58: ='SO 01 - HLAVNÝ OBJEKT - Z17193'!V109 -> 0
B59: PRESUNY HMÔT | E59: ='SO 01 - HLAVNÝ OBJEKT - Z17193'!L113 -> 0 | F59: ='SO 01 - HLAVNÝ OBJEKT - Z17193'!M113 -> 0 | G59: ='SO 01 - HLAVNÝ OBJEKT - Z17193'!I113 -> 0 | H59: ='SO 01 - HLAVNÝ OBJEKT - Z17193'!S113 -> 0 | I59: ='SO 01 - HLAVNÝ OBJEKT - Z17193'!V113 -> 0
B60: Práce HSV | E60: ='SO 01 - HLAVNÝ OBJEKT - Z17193'!L115 -> 0 | F60: ='SO 01 - HLAVNÝ OBJEKT - Z17193'!M115 -> 0 | G60: ='SO 01 - HLAVNÝ OBJEKT - Z17193'!I115 -> 0 | H60: ='SO 01 - HLAVNÝ OBJEKT - Z17193'!S115 -> 2.84 | I60: ='SO 01 - HLAVNÝ OBJEKT - Z17193'!V115 -> 0
B62: Práce PSV
B63: IZOLÁCIE TEPELNÉ BEŽNÝCH STAVEBNÝCH KONŠTRUKCIÍ | E63: ='SO 01 - HLAVNÝ OBJEKT - Z17193'!L125 -> 0 | F63: ='SO 01 - HLAVNÝ OBJEKT - Z17193'!M125 -> 0 | G63: ='SO 01 - HLAVNÝ OBJEKT - Z17193'!I125 -> 0 | H63: ='SO 01 - HLAVNÝ OBJEKT - Z17193'!S125 -> 0 | I63: ='SO 01 - HLAVNÝ OBJEKT - Z17193'!V125 -> 0
B64: ZTI - VNÚTORNA KANALIZÁCIA | E64: ='SO 01 - HLAVNÝ OBJEKT - Z17193'!L150 -> 0 | F64: ='SO 01 - HLAVNÝ OBJEKT - Z17193'!M150 -> 0 | G64: ='SO 01 - HLAVNÝ OBJEKT - Z17193'!I150 -> 0 | H64: ='SO 01 - HLAVNÝ OBJEKT - Z17193'!S150 -> 0.04 | I64: ='SO 01 - HLAVNÝ OBJEKT - Z17193'!V150 -> 0
B65: Práce PSV | E65: ='SO 01 - HLAVNÝ OBJEKT - Z17193'!L152 -> 0 | F65: ='SO 01 - HLAVNÝ OBJEKT - Z17193'!M152 -> 0 | G65: ='SO 01 - HLAVNÝ OBJEKT - Z17193'!I152 -> 0 | H65: ='SO 01 - HLAVNÝ OBJEKT - Z17193'!S152 -> 0.04 | I65: ='SO 01 - HLAVNÝ OBJEKT - Z17193'!V152 -> 0
B67: Montážne práce
B68: M-23 MONTÁŽ PRIEMYSELNÉHO POTRUBIA | E68: ='SO 01 - HLAVNÝ OBJEKT - Z17193'!L157 -> 0 | F68: ='SO 01 - HLAVNÝ OBJEKT - Z17193'!M157 -> 0 | G68: ='SO 01 - HLAVNÝ OBJEKT - Z17193'!I157 -> 0 | H68: ='SO 01 - HLAVNÝ OBJEKT - Z17193'!S157 -> 0 | I68: ='SO 01 - HLAVNÝ OBJEKT - Z17193'!V157 -> 0
B69: Montážne práce | E69: ='SO 01 - HLAVNÝ OBJEKT - Z17193'!L159 -> 0 | F69: ='SO 01 - HLAVNÝ OBJEKT - Z17193'!M159 -> 0 | G69: ='SO 01 - HLAVNÝ OBJEKT - Z17193'!I159 -> 0 | H69: ='SO 01 - HLAVNÝ OBJEKT - Z17193'!S159 -> 0 | I69: ='SO 01 - HLAVNÝ OBJEKT - Z17193'!V159 -> 0
B71: Celkom v EUR | E71: ='SO 01 - HLAVNÝ OBJEKT - Z17193'!L160 -> 0 | F71: ='SO 01 - HLAVNÝ OBJEKT - Z17193'!M160 -> 0 | G71: ='SO 01 - HLAVNÝ OBJEKT - Z17193'!I160 -> 0 | H71: ='SO 01 - HLAVNÝ OBJEKT - Z17193'!S160 -> 2.88 | I71: ='SO 01 - HLAVNÝ OBJEKT - Z17193'!V160 -> 0
B75: Rozpočet
B77: Odberateľ: Športový klub Miko fit-box | H77: Spracoval: | I77: Ing. Ján Halgaš
B78: Projektant: D. D. - ARCH s. r. o. | H78: Ks:
B79: Dodávateľ: ... | H79: Dátum: | I79: 21. 1. 2025
B80: Zákazka Centrum služieb pre zlepšenie fyzickej a pohybovej zdatnosti obyvateľov
B81: Objekt SO 01 - HLAVNÝ OBJEKT - ZTI - Rozvody vody, kanál. a techn. potrubia v zákaldoch
B84: Prehľad rozpočtových nákladov
B85: Por.č. | C85: Kód položky | D85: Názov | F85: Mj | G85: Množstvo | H85: Cena/Mj | I85: Cena celkom | P85: Hmotnosť/Mj | S85: Hmotnosť | V85: Sutina
D86: Práce HSV
C87: 1 | D87: ZEMNÉ PRÁCE
B88: 1 | C88: 132201101.S | D88: Výkop ryhy do šírky 600 mm v horn.3 do 100 m3 | F88: m3 | G88: 9.2 | I88: =ROUND(G88*(H88),2) -> 0 | J88: =ROUND(G88*(N88),2) -> 398.36 | K88: =ROUND(G88*(O88),2) -> 0 | L88: =ROUND(G88*(H88),2) -> 0 | N88: 43.3 | P88: 0 | R88: 0 | S88: =ROUND(G88*(P88),3) -> 0 | V88: =ROUND(G88*(X88),3) -> 0 | X88: 0 | Z88: 0
B89: 2 | C89: 132201109.S | D89: Príplatok k cene za lepivosť pri hĺbení rýh šírky do 600 mm zapažených i nezapažených s urovnaním dna v hornine 3 | F89: m3 | G89: 9.2 | I89: =ROUND(G89*(H89),2) -> 0 | J89: =ROUND(G89*(N89),2) -> 112.7 | K89: =ROUND(G89*(O89),2) -> 0 | L89: =ROUND(G89*(H89),2) -> 0 | N89: 12.25 | P89: 0 | R89: 0 | S89: =ROUND(G89*(P89),3) -> 0 | V89: =ROUND(G89*(X89),3) -> 0 | X89: 0 | Z89: 0
B90: 3 | C90: 162301101 | D90: Vodorovné premiestnenie výkopku po spevnenej ceste z horniny tr.1-4, do 100 m3 na vzdialenosť do 500 m | F90: m3 | G90: 9.2 | I90: =ROUND(G90*(H90),2) -> 0 | J90: =ROUND(G90*(N90),2) -> 14.44 | K90: =ROUND(G90*(O90),2) -> 0 | L90: =ROUND(G90*(H90),2) -> 0 | N90: 1.57 | P90: 0 | R90: 0 | S90: =ROUND(G90*(P90),3) -> 0 | V90: =ROUND(G90*(X90),3) -> 0 | X90: 0 | Z90: 0
B91: 4 | C91: 162501102 | D91: Vodorovné premiestnenie výkopku tr.1-4 do 3000 m | F91: m3 | G91: 3.508 | I91: =ROUND(G91*(H91),2) -> 0 | J91: =ROUND(G91*(N91),2) -> 17.68 | K91: =ROUND(G91*(O91),2) -> 0 | L91: =ROUND(G91*(H91),2) -> 0 | N91: 5.04 | P91: 0 | R91: 0 | S91: =ROUND(G91*(P91),3) -> 0 | V91: =ROUND(G91*(X91),3) -> 0 | X91: 0 | Z91: 0
B92: 5 | C92: 167101101 | D92: Nakladanie neuľahnutého výkopku z hornín tr.1-4 do 100 m3 | F92: m3 | G92: 3.508 | I92: =ROUND(G92*(H92),2) -> 0 | J92: =ROUND(G92*(N92),2) -> 35.5 | K92: =ROUND(G92*(O92),2) -> 0 | L92: =ROUND(G92*(H92),2) -> 0 | N92: 10.12 | P92: 0 | R92: 0 | S92: =ROUND(G92*(P92),3) -> 0 | V92: =ROUND(G92*(X92),3) -> 0 | X92: 0 | Z92: 0
B93: 6 | C93: 171201201 | D93: Uloženie sypaniny na skládky do 100 m3 | F93: m3 | G93: 3.508 | I93: =ROUND(G93*(H93),2) -> 0 | J93: =ROUND(G93*(N93),2) -> 3.05 | K93: =ROUND(G93*(O93),2) -> 0 | L93: =ROUND(G93*(H93),2) -> 0 | N93: 0.87 | P93: 0 | R93: 0 | S93: =ROUND(G93*(P93),3) -> 0 | V93: =ROUND(G93*(X93),3) -> 0 | X93: 0 | Z93: 0
B94: 7 | C94: 171209002.S | D94: Poplatok za skladovanie - zemina a kamenivo (17 05) ostatné | F94: t | G94: 3.508 | I94: =ROUND(G94*(H94),2) -> 0 | J94: =ROUND(G94*(N94),2) -> 105.24 | K94: =ROUND(G94*(O94),2) -> 0 | L94: =ROUND(G94*(H94),2) -> 0 | N94: 30 | P94: 0 | R94: 0 | S94: =ROUND(G94*(P94),3) -> 0 | V94: =ROUND(G94*(X94),3) -> 0 | X94: 0 | Z94: 0
B95: 8 | C95: 175101101 | D95: Obsyp potrubia sypaninou z vhodných hornín 1 až 4 bez prehodenia sypaniny | F95: m3 | G95: 1.84 | I95: =ROUND(G95*(H95),2) -> 0 | J95: =ROUND(G95*(N95),2) -> 42.01 | K95: =ROUND(G95*(O95),2) -> 0 | L95: =ROUND(G95*(H95),2) -> 0 | N95: 22.83 | P95: 0 | R95: 0 | S95: =ROUND(G95*(P95),3) -> 0 | V95: =ROUND(G95*(X95),3) -> 0 | X95: 0 | Z95: 0
B96: 9 | C96: 174101001.1 | D96: Zásyp sypaninou so zhutnením jám, šachiet, rýh, zárezov alebo okolo objektov do 100 m3 | F96: m3 | G96: 5.692 | I96: =ROUND(G96*(H96),2) -> 0 | J96: =ROUND(G96*(N96),2) -> 26.92 | K96: =ROUND(G96*(O96),2) -> 0 | L96: =ROUND(G96*(H96),2) -> 0 | N96: 4.73 | P96: 0 | R96: 0 | S96: =ROUND(G96*(P96),3) -> 0 | V96: =ROUND(G96*(X96),3) -> 0 | X96: 0 | Z96: 0
B97: 10 | C97: obsyp | D97: Súčet | G97: 1.84 | I97: =ROUND(G97*(H97),2) -> 0 | J97: =ROUND(G97*(N97),2) -> 0 | K97: =ROUND(G97*(O97),2) -> 0 | N97: 0 | P97: 0 | R97: 0 | S97: =ROUND(G97*(P97),3) -> 0 | V97: =ROUND(G97*(X97),3) -> 0 | X97: 0 | Z97: 0
B98: 11 | C98: odvoz | D98: obsyp+podsypodvoz zeminy na skládku | G98: 3.508 | I98: =ROUND(G98*(H98),2) -> 0 | J98: =ROUND(G98*(N98),2) -> 0 | K98: =ROUND(G98*(O98),2) -> 0 | N98: 0 | P98: 0 | R98: 0 | S98: =ROUND(G98*(P98),3) -> 0 | V98: =ROUND(G98*(X98),3) -> 0 | X98: 0 | Z98: 0
B99: 12 | C99: 583310002900.S | D99: Štrkopiesok frakcia 0-16 mm | F99: t | G99: 3.312 | I99: =ROUND(G99*(H99),2) -> 0 | J99: =ROUND(G99*(N99),2) -> 57.03 | K99: =ROUND(G99*(O99),2) -> 0 | M99: =ROUND(G99*(H99),2) -> 0 | N99: 17.22 | P99: 0 | R99: 0 | S99: =ROUND(G99*(P99),3) -> 0 | V99: =ROUND(G99*(X99),3) -> 0 | X99: 0 | Z99: 0
C100: 1 | D100: ZEMNÉ PRÁCE | I100: =ROUND((SUM(I87:I99))/1,2) -> 0 | L100: =ROUND((SUM(L87:L99))/1,2) -> 0 | M100: =ROUND((SUM(M87:M99))/1,2) -> 0 | S100: =ROUND((SUM(S87:S99))/1,2) -> 0 | V100: =ROUND((SUM(V87:V99))/1,2) -> 0
C102: 2 | D102: ZÁKLADY
B103: 13 | C103: 279100014r | D103: Prestup v základoch pre kanal.potrubia /200x200/ mm (po stenách polyst.10mm, zvyšok openiť pur penou) | F103: ks | G103: 1 | I103: =ROUND(G103*(H103),2) -> 0 | J103: =ROUND(G103*(N103),2) -> 25 | K103: =ROUND(G103*(O103),2) -> 0 | L103: =ROUND(G103*(H103),2) -> 0 | N103: 25 | P103: 0 | R103: 0 | S103: =ROUND(G103*(P103),3) -> 0 | V103: =ROUND(G103*(X103),3) -> 0 | X103: 0 | Z103: 0
B104: 14 | C104: 279100031r | D104: Prestup v základoch pre vodovo.potrubie D63 mm dĺžky 600 mm (Sklolaminát.al PE potrubie D 110, potr.vystrediť cez dištančné objímky) | F104: ks | G104: 1 | I104: =ROUND(G104*(H104),2) -> 0 | J104: =ROUND(G104*(N104),2) -> 30 | K104: =ROUND(G104*(O104),2) -> 0 | L104: =ROUND(G104*(H104),2) -> 0 | N104: 30 | P104: 0 | R104: 0 | S104: =ROUND(G104*(P104),3) -> 0 | V104: =ROUND(G104*(X104),3) -> 0 | X104: 0 | Z104: 0
C105: 2 | D105: ZÁKLADY | I105: =ROUND((SUM(I102:I104))/1,2) -> 0 | L105: =ROUND((SUM(L102:L104))/1,2) -> 0 | M105: =ROUND((SUM(M102:M104))/1,2) -> 0 | S105: =ROUND((SUM(S102:S104))/1,2) -> 0 | V105: =ROUND((SUM(V102:V104))/1,2) -> 0
C107: 4 | D107: VODOROVNÉ KONŠTRUKCIE
B108: 15 | C108: 451541111.S | D108: Lôžko pod potrubie, stoky a drobné objekty, v otvorenom výkope zo štrkodrvy 0-63 mm | F108: m3 | G108: 1.668 | I108: =ROUND(G108*(H108),2) -> 0 | J108: =ROUND(G108*(N108),2) -> 92.22 | K108: =ROUND(G108*(O108),2) -> 0 | L108: =ROUND(G108*(H108),2) -> 0 | N108: 55.29 | P108: 1.7034 | R108: 1.7034 | S108: =ROUND(G108*(P108),3) -> 2.841 | V108: =ROUND(G108*(X108),3) -> 0 | X108: 0 | Z108: 0
C109: 4 | D109: VODOROVNÉ KONŠTRUKCIE | I109: =ROUND((SUM(I107:I108))/1,2) -> 0 | L109: =ROUND((SUM(L107:L108))/1,2) -> 0 | M109: =ROUND((SUM(M107:M108))/1,2) -> 0 | S109: =ROUND((SUM(S107:S108))/1,2) -> 2.84 | V109: =ROUND((SUM(V107:V108))/1,2) -> 0
C111: 99 | D111: PRESUNY HMÔT
B112: 16 | C112: 998276101 | D112: Presun hmôt pre rúrové vedenie hĺbené z rúr z plast., hmôt alebo sklolamin. v otvorenom výkope | F112: t | G112: 0.072 | I112: =ROUND(G112*(H112),2) -> 0 | J112: =ROUND(G112*(N112),2) -> 3 | K112: =ROUND(G112*(O112),2) -> 0 | L112: =ROUND(G112*(H112),2) -> 0 | N112: 41.62 | P112: 0 | R112: 0 | S112: =ROUND(G112*(P112),3) -> 0 | V112: =ROUND(G112*(X112),3) -> 0 | X112: 0 | Z112: 0
C113: 99 | D113: PRESUNY HMÔT | I113: =ROUND((SUM(I111:I112))/1,2) -> 0 | L113: =ROUND((SUM(L111:L112))/1,2) -> 0 | M113: =ROUND((SUM(M111:M112))/1,2) -> 0 | S113: =ROUND((SUM(S111:S112))/1,2) -> 0 | V113: =ROUND((SUM(V111:V112))/1,2) -> 0
D115: Práce HSV | I115: =ROUND((SUM(I86:I114))/2,2) -> 0 | L115: =ROUND((SUM(L86:L114))/2,2) -> 0 | M115: =ROUND((SUM(M86:M114))/2,2) -> 0 | S115: =ROUND((SUM(S86:S114))/2,2) -> 2.84 | V115: =ROUND((SUM(V86:V114))/2,2) -> 0
D117: Práce PSV
C118: 713 | D118: IZOLÁCIE TEPELNÉ BEŽNÝCH STAVEBNÝCH KONŠTRUKCIÍ
B119: 17 | C119: 998713201.S | D119: Presun hmôt pre izolácie tepelné v objektoch výšky do 6 m | F119: % | G119: 1.3 | I119: =ROUND(G119*(H119),2) -> 0 | J119: =ROUND(G119*(N119),2) -> 12.99 | K119: =ROUND(G119*(O119),2) -> 0 | L119: =ROUND(G119*(H119),2) -> 0 | N119: 9.99 | P119: 0 | R119: 0 | S119: =ROUND(G119*(P119),3) -> 0 | V119: =ROUND(G119*(X119),3) -> 0 | X119: 0 | Z119: 0
B120: 18 | C120: 998713294.S | D120: Izolácie tepelné, prípl.za presun nad vymedz. najväčšiu dopravnú vzdial. do 1000 m | F120: % | G120: 0.45 | I120: =ROUND(G120*(H120),2) -> 0 | J120: =ROUND(G120*(N120),2) -> 4.5 | K120: =ROUND(G120*(O120),2) -> 0 | L120: =ROUND(G120*(H120),2) -> 0 | N120: 9.99 | P120: 0 | R120: 0 | S120: =ROUND(G120*(P120),3) -> 0 | V120: =ROUND(G120*(X120),3) -> 0 | X120: 0 | Z120: 0
B121: 19 | C121: 998713299.S | D121: Izolácie tepelné, prípl.za presun za každých ďalších aj začatých 1000 m nad 1000 m | F121: % | G121: 0.05 | I121: =ROUND(G121*(H121),2) -> 0 | J121: =ROUND(G121*(N121),2) -> 0.5 | K121: =ROUND(G121*(O121),2) -> 0 | L121: =ROUND(G121*(H121),2) -> 0 | N121: 9.99 | P121: 0 | R121: 0 | S121: =ROUND(G121*(P121),3) -> 0 | V121: =ROUND(G121*(X121),3) -> 0 | X121: 0 | Z121: 0
B122: 20 | C122: 713530805.S | D122: Montáž manžety na prestup potrubia d 65-91 mm | F122: ks | G122: 10 | I122: =ROUND(G122*(H122),2) -> 0 | J122: =ROUND(G122*(N122),2) -> 264 | K122: =ROUND(G122*(O122),2) -> 0 | L122: =ROUND(G122*(H122),2) -> 0 | N122: 26.4 | P122: 0 | R122: 0 | S122: =ROUND(G122*(P122),3) -> 0 | V122: =ROUND(G122*(X122),3) -> 0 | X122: 0 | Z122: 0
B123: 21 | C123: 2810311850 | D123: Prestup DEK DN 75 pre asfaltované pásy do spodnej stavby alebo ekvivalent | F123: ks | G123: 4 | I123: =ROUND(G123*(H123),2) -> 0 | J123: =ROUND(G123*(N123),2) -> 195.2 | K123: =ROUND(G123*(O123),2) -> 0 | M123: =ROUND(G123*(H123),2) -> 0 | N123: 48.8 | P123: 0 | R123: 0 | S123: =ROUND(G123*(P123),3) -> 0 | V123: =ROUND(G123*(X123),3) -> 0 | X123: 0 | Z123: 0
B124: 22 | C124: 2810311860 | D124: Prestup DEK DN 110 pre asfaltované pásy do spodnej stavby alebo ekvivalent | F124: ks | G124: 6 | I124: =ROUND(G124*(H124),2) -> 0 | J124: =ROUND(G124*(N124),2) -> 540 | K124: =ROUND(G124*(O124),2) -> 0 | M124: =ROUND(G124*(H124),2) -> 0 | N124: 90 | P124: 0 | R124: 0 | S124: =ROUND(G124*(P124),3) -> 0 | V124: =ROUND(G124*(X124),3) -> 0 | X124: 0 | Z124: 0
C125: 713 | D125: IZOLÁCIE TEPELNÉ BEŽNÝCH STAVEBNÝCH KONŠTRUKCIÍ | I125: =ROUND((SUM(I118:I124))/1,2) -> 0 | L125: =ROUND((SUM(L118:L124))/1,2) -> 0 | M125: =ROUND((SUM(M118:M124))/1,2) -> 0 | S125: =ROUND((SUM(S118:S124))/1,2) -> 0 | V125: =ROUND((SUM(V118:V124))/1,2) -> 0
C127: 721 | D127: ZTI - VNÚTORNA KANALIZÁCIA
B128: 23 | C128: 721171308.S | D128: Potrubie z rúr PE-HD 110/4,3 mm ležaté | F128: m | G128: 10 | I128: =ROUND(G128*(H128),2) -> 0 | J128: =ROUND(G128*(N128),2) -> 287.8 | K128: =ROUND(G128*(O128),2) -> 0 | L128: =ROUND(G128*(H128),2) -> 0 | N128: 28.78 | P128: 0.00151 | R128: 0.00151 | S128: =ROUND(G128*(P128),3) -> 0.015 | V128: =ROUND(G128*(X128),3) -> 0 | X128: 0 | Z128: 0
B129: 24 | C129: 721171309.S | D129: Potrubie z rúr PE-HD 125/4,9 mm ležaté | F129: m | G129: 12 | I129: =ROUND(G129*(H129),2) -> 0 | J129: =ROUND(G129*(N129),2) -> 224.52 | K129: =ROUND(G129*(O129),2) -> 0 | L129: =ROUND(G129*(H129),2) -> 0 | N129: 18.71 | P129: 0.00196 | R129: 0.00196 | S129: =ROUND(G129*(P129),3) -> 0.024 | V129: =ROUND(G129*(X129),3) -> 0 | X129: 0 | Z129: 0
B130: 25 | C130: 721171310.S | D130: Potrubie z rúr PE-HD Dxt 160x6,2 mm ležaté | F130: m | G130: 1 | I130: =ROUND(G130*(H130),2) -> 0 | J130: =ROUND(G130*(N130),2) -> 56.8 | K130: =ROUND(G130*(O130),2) -> 0 | L130: =ROUND(G130*(H130),2) -> 0 | N130: 56.8 | P130: 0.00323 | R130: 0.00323 | S130: =ROUND(G130*(P130),3) -> 0.003 | V130: =ROUND(G130*(X130),3) -> 0 | X130: 0 | Z130: 0
B131: 26 | C131: 721290111 | D131: Ostatné - skúška tesnosti kanalizácie v objektoch vodou do DN 125 | F131: m | G131: 22 | I131: =ROUND(G131*(H131),2) -> 0 | J131: =ROUND(G131*(N131),2) -> 16.28 | K131: =ROUND(G131*(O131),2) -> 0 | L131: =ROUND(G131*(H131),2) -> 0 | N131: 0.74 | P131: 0 | R131: 0 | S131: =ROUND(G131*(P131),3) -> 0 | V131: =ROUND(G131*(X131),3) -> 0 | X131: 0 | Z131: 0
...

Sheet SO 02 - SPEVNENÁ A ODSTAV17194
B1: Krycí list rozpočtu | E1: Rekapitulácia rozpočtu | H1: Rozpočet | W1: 30.126
B2: Krycí list rozpočtu
B3: Stavba Centrum služieb pre zlepšenie fyzickej a pohybovej zdatnosti obyvateľov
B4: Objekt SO 02 - SPEVNENÁ A ODSTAVNÁ PLOCHA | F4: Miesto:
F5: Ks:
B6: Zákazka: | D6: Spracoval: Ing. Ján Halgaš | F6: Dňa | G6: 21. 1. 2025
B7: Odberateľ: Športový klub Miko fit-box
B8: IČO: 42383625 | F8: DIČ:
B9: Projektant: D. D. - ARCH s. r. o.
B10: IČO: | F10: DIČ:
B11: Dodávateľ: ...
B12: IČO: | F12: DIČ:
B14: ZRN | C14: Montáž | D14: Materiál | E14: ZRN spolu | F14: Ostatné náklady | P14: 0
B15: HSV | C15: ='SO 02 - SPEVNENÁ A ODSTAV17194'!E61 -> 0 | D15: ='SO 02 - SPEVNENÁ A ODSTAV17194'!F61 -> 0 | E15: ='SO 02 - SPEVNENÁ A ODSTAV17194'!G61 -> 0
B16: PSV | F16: Komplet. činnosť | P16: =(SUM(Z78:Z137)) -> 0
B17: MNT | F17: HZS | P17: 0
B18: OST
B19: VN
B20: Spolu | E20: =SUM(E15:E19) -> 0 | F20: Spolu | P20: =SUM(P14:P19) -> 0
B21: Zariadenie staveniska 0% | E21: =((E15*U22*0)+(E16*V22*0)+(E17*W22*0))/100 -> 0 | F21: Sťažené podmienky dopravy 0% | P21: =((E15*X22*0)+(E16*Y22*0)+(E17*Z22*0))/100 -> 0
B22: Sťažené výrobné podmienky 0% | E22: =((E15*U23*0)+(E16*V23*0)+(E17*W23*0))/100 -> 0 | F22: Horské oblasti 0% | P22: =((E15*X23*0)+(E16*Y23*0)+(E17*Z23*0))/100 -> 0 | U22: 1 | V22: 1 | W22: 1 | X22: 1 | Y22: 1 | Z22: 1
B23: Prevádzkové vplyvy 0% | E23: =((E15*U24*0)+(E16*V24*0)+(E17*W24*0))/100 -> 0 | F23: Mimostavenisková doprava 0% | P23: =((E15*X24*0)+(E16*Y24*0)+(E17*Z24*0))/100 -> 0 | U23: 1 | V23: 1 | W23: 0 | X23: 1 | Y23: 1 | Z23: 1
U24: 1 | V24: 1 | W24: 1 | X24: 1 | Y24: 1 | Z24: 0
F25: Spolu | P25: =SUM(E21:E24)+SUM(P21:P24) -> 0
B26: Projektant,rozpočtár | F26: Celkové náklady
F27: Celkové náklady bez DPH | P27: =E20+P20+E25+P25 -> 0
F28: DPH 23% z | H28: =P27-SUM('SO 02 - SPEVNENÁ A ODSTAV17194'!K78:'SO 02 - SPEVNENÁ A ODSTAV17194'!K137) -> 0 | P28: =ROUND(((ROUND(H28,2)*23)*1/100),2) -> 0
F29: DPH 0% z | H29: =SUM('SO 02 - SPEVNENÁ A ODSTAV17194'!K78:'SO 02 - SPEVNENÁ A ODSTAV17194'!K137) -> 0 | P29: =ROUND(((ROUND(H29,2)*0)/100),2) -> 0
F30: Spolu v EUR | P30: =SUM(P27:P29) -> 0
B32: Odberateľ | E32: Dodávateľ
B44: Rekapitulácia rozpočtu
B46: Odberateľ: Športový klub Miko fit-box | F46: Spracoval: Ing. Ján Halgaš
B47: Projektant: D. D. - ARCH s. r. o. | F47: Ks:
B48: Dodávateľ: ... | F48: Dátum: 21. 1. 2025
B49: Stavba Centrum služieb pre zlepšenie fyzickej a pohybovej zdatnosti obyvateľov
B50: Objekt SO 02 - SPEVNENÁ A ODSTAVNÁ PLOCHA
B53: Prehľad rozpočtových nákladov
E54: Montáž | F54: Materiál | G54: Spolu | H54: Hmotnosť (T) | I54: Sutina (T)
B55: Práce HSV
B56: ZEMNÉ PRÁCE | E56: ='SO 02 - SPEVNENÁ A ODSTAV17194'!L86 -> 0 | F56: ='SO 02 - SPEVNENÁ A ODSTAV17194'!M86 -> 0 | G56: ='SO 02 - SPEVNENÁ A ODSTAV17194'!I86 -> 0 | H56: ='SO 02 - SPEVNENÁ A ODSTAV17194'!S86 -> 0 | I56: ='SO 02 - SPEVNENÁ A ODSTAV17194'!V86 -> 0
B57: SPEVNENÉ PLOCHY | E57: ='SO 02 - SPEVNENÁ A ODSTAV17194'!L101 -> 0 | F57: ='SO 02 - SPEVNENÁ A ODSTAV17194'!M101 -> 0 | G57: ='SO 02 - SPEVNENÁ A ODSTAV17194'!I101 -> 0 | H57: ='SO 02 - SPEVNENÁ A ODSTAV17194'!S101 -> 305.36 | I57: ='SO 02 - SPEVNENÁ A ODSTAV17194'!V101 -> 0
B58: POVRCHOVÉ ÚPRAVY | E58: ='SO 02 - SPEVNENÁ A ODSTAV17194'!L112 -> 0 | F58: ='SO 02 - SPEVNENÁ A ODSTAV17194'!M112 -> 0 | G58: ='SO 02 - SPEVNENÁ A ODSTAV17194'!I112 -> 0 | H58: ='SO 02 - SPEVNENÁ A ODSTAV17194'!S112 -> 12.47 | I58: ='SO 02 - SPEVNENÁ A ODSTAV17194'!V112 -> 0
B59: OSTATNÉ KONŠTRUKCIE A PRÁCE | E59: ='SO 02 - SPEVNENÁ A ODSTAV17194'!L131 -> 0 | F59: ='SO 02 - SPEVNENÁ A ODSTAV17194'!M131 -> 0 | G59: ='SO 02 - SPEVNENÁ A ODSTAV17194'!I131 -> 0 | H59: ='SO 02 - SPEVNENÁ A ODSTAV17194'!S131 -> 22.88 | I59: ='SO 02 - SPEVNENÁ A ODSTAV17194'!V131 -> 0
B60: PRESUNY HMÔT | E60: ='SO 02 - SPEVNENÁ A ODSTAV17194'!L135 -> 0 | F60: ='SO 02 - SPEVNENÁ A ODSTAV17194'!M135 -> 0 | G60: ='SO 02 - SPEVNENÁ A ODSTAV17194'!I135 -> 0 | H60: ='SO 02 - SPEVNENÁ A ODSTAV17194'!S135 -> 0 | I60: ='SO 02 - SPEVNENÁ A ODSTAV17194'!V135 -> 0
B61: Práce HSV | E61: ='SO 02 - SPEVNENÁ A ODSTAV17194'!L137 -> 0 | F61: ='SO 02 - SPEVNENÁ A ODSTAV17194'!M137 -> 0 | G61: ='SO 02 - SPEVNENÁ A ODSTAV17194'!I137 -> 0 | H61: ='SO 02 - SPEVNENÁ A ODSTAV17194'!S137 -> 340.71 | I61: ='SO 02 - SPEVNENÁ A ODSTAV17194'!V137 -> 0
B63: Celkom v EUR | E63: ='SO 02 - SPEVNENÁ A ODSTAV17194'!L138 -> 0 | F63: ='SO 02 - SPEVNENÁ A ODSTAV17194'!M138 -> 0 | G63: ='SO 02 - SPEVNENÁ A ODSTAV17194'!I138 -> 0 | H63: ='SO 02 - SPEVNENÁ A ODSTAV17194'!S138 -> 340.71 | I63: ='SO 02 - SPEVNENÁ A ODSTAV17194'!V138 -> 0
B67: Rozpočet
B69: Odberateľ: Športový klub Miko fit-box | H69: Spracoval: | I69: Ing. Ján Halgaš
B70: Projektant: D. D. - ARCH s. r. o. | H70: Ks:
B71: Dodávateľ: ... | H71: Dátum: | I71: 21. 1. 2025
B72: Zákazka Centrum služieb pre zlepšenie fyzickej a pohybovej zdatnosti obyvateľov
B73: Objekt SO 02 - SPEVNENÁ A ODSTAVNÁ PLOCHA
B76: Prehľad rozpočtových nákladov
B77: Por.č. | C77: Kód položky | D77: Názov | F77: Mj | G77: Množstvo | H77: Cena/Mj | I77: Cena celkom | P77: Hmotnosť/Mj | S77: Hmotnosť | V77: Sutina
D78: Práce HSV
C79: 1 | D79: ZEMNÉ PRÁCE
B80: 1 | C80: 122201101 | D80: Odkopávka a prekopávka nezapažená v hornine 3,do 100 m3 | F80: m3 | G80: 83.745 | I80: =ROUND(G80*(H80),2) -> 0 | J80: =ROUND(G80*(N80),2) -> 654.05 | K80: =ROUND(G80*(O80),2) -> 0 | L80: =ROUND(G80*(H80),2) -> 0 | N80: 7.81 | P80: 0 | R80: 0 | S80: =ROUND(G80*(P80),3) -> 0 | V80: =ROUND(G80*(X80),3) -> 0 | X80: 0 | Z80: 0
B81: 2 | C81: 122201109 | D81: Príplatok k cenám za lepivosť horniny | F81: m3 | G81: 41.873 | I81: =ROUND(G81*(H81),2) -> 0 | J81: =ROUND(G81*(N81),2) -> 53.6 | K81: =ROUND(G81*(O81),2) -> 0 | L81: =ROUND(G81*(H81),2) -> 0 | N81: 1.28 | P81: 0 | R81: 0 | S81: =ROUND(G81*(P81),3) -> 0 | V81: =ROUND(G81*(X81),3) -> 0 | X81: 0 | Z81: 0
B82: 3 | C82: 162301102 | D82: Vodorovné premiestnenie výkopku tr.1-4,do 1000 m | F82: m3 | G82: 55.83 | I82: =ROUND(G82*(H82),2) -> 0 | J82: =ROUND(G82*(N82),2) -> 259.61 | K82: =ROUND(G82*(O82),2) -> 0 | L82: =ROUND(G82*(H82),2) -> 0 | N82: 4.65 | P82: 0 | R82: 0 | S82: =ROUND(G82*(P82),3) -> 0 | V82: =ROUND(G82*(X82),3) -> 0 | X82: 0 | Z82: 0
B83: 4 | C83: 171101105 | D83: Uloženie sypaniny súdržnej horniny s mierou zhutnenia Id=0,75 | F83: m3 | G83: 27.915 | I83: =ROUND(G83*(H83),2) -> 0 | J83: =ROUND(G83*(N83),2) -> 125.34 | K83: =ROUND(G83*(O83),2) -> 0 | L83: =ROUND(G83*(H83),2) -> 0 | N83: 4.49 | P83: 0 | R83: 0 | S83: =ROUND(G83*(P83),3) -> 0 | V83: =ROUND(G83*(X83),3) -> 0 | X83: 0 | Z83: 0
B84: 5 | C84: 171201101 | D84: Uloženie sypaniny do násypov s rozprestretím sypaniny vo vrstvách a s hrubým urovnaním nezhutnených | F84: m3 | G84: 55.83 | I84: =ROUND(G84*(H84),2) -> 0 | J84: =ROUND(G84*(N84),2) -> 73.7 | K84: =ROUND(G84*(O84),2) -> 0 | L84: =ROUND(G84*(H84),2) -> 0 | N84: 1.32 | P84: 0 | R84: 0 | S84: =ROUND(G84*(P84),3) -> 0 | V84: =ROUND(G84*(X84),3) -> 0 | X84: 0 | Z84: 0
B85: 6 | C85: 181101102 | D85: Úprava pláne v zárezoch v hornine 1-4 so zhutnením | F85: m2 | G85: 372.2 | I85: =ROUND(G85*(H85),2) -> 0 | J85: =ROUND(G85*(N85),2) -> 215.88 | K85: =ROUND(G85*(O85),2) -> 0 | L85: =ROUND(G85*(H85),2) -> 0 | N85: 0.58 | P85: 0 | R85: 0 | S85: =ROUND(G85*(P85),3) -> 0 | V85: =ROUND(G85*(X85),3) -> 0 | X85: 0 | Z85: 0
C86: 1 | D86: ZEMNÉ PRÁCE | I86: =ROUND((SUM(I79:I85))/1,2) -> 0 | L86: =ROUND((SUM(L79:L85))/1,2) -> 0 | M86: =ROUND((SUM(M79:M85))/1,2) -> 0 | S86: =ROUND((SUM(S79:S85))/1,2) -> 0 | V86: =ROUND((SUM(V79:V85))/1,2) -> 0
C88: 5 | D88: SPEVNENÉ PLOCHY
B89: 7 | C89: 564831111 | D89: Podklad z ťaženého kameniva 0-63 mm s rozprestrením a zhutnením,hr.po zhutnení 100 mm | F89: m2 | G89: 319.61 | I89: =ROUND(G89*(H89),2) -> 0 | J89: =ROUND(G89*(N89),2) -> 1300.81 | K89: =ROUND(G89*(O89),2) -> 0 | L89: =ROUND(G89*(H89),2) -> 0 | N89: 4.07 | P89: 0.18907 | R89: 0.18907 | S89: =ROUND(G89*(P89),3) -> 60.429 | V89: =ROUND(G89*(X89),3) -> 0 | X89: 0 | Z89: 0
B90: 8 | C90: 564841113 | D90: Podklad zo štrkodrviny s rozprestrením a zhutnením,hr.po zhutnení 140 mm | F90: m2 | G90: 52.59 | I90: =ROUND(G90*(H90),2) -> 0 | J90: =ROUND(G90*(N90),2) -> 283.46 | K90: =ROUND(G90*(O90),2) -> 0 | L90: =ROUND(G90*(H90),2) -> 0 | N90: 5.39 | P90: 0.26177 | R90: 0.26177 | S90: =ROUND(G90*(P90),3) -> 13.766 | V90: =ROUND(G90*(X90),3) -> 0 | X90: 0 | Z90: 0
B91: 9 | C91: 564861111 | D91: Podklad z ťaženého kameniva 0-63 mm s rozprestrením a zhutnením,hr.po zhutnení 200 mm | F91: m2 | G91: 372.2 | I91: =ROUND(G91*(H91),2) -> 0 | J91: =ROUND(G91*(N91),2) -> 2739.39 | K91: =ROUND(G91*(O91),2) -> 0 | L91: =ROUND(G91*(H91),2) -> 0 | N91: 7.36 | P91: 0.3708 | R91: 0.3708 | S91: =ROUND(G91*(P91),3) -> 138.012 | V91: =ROUND(G91*(X91),3) -> 0 | X91: 0 | Z91: 0
B92: 10 | C92: 591111111 | D92: Kladenie dlažby z kociek zatávňovacích do lôžka z kameniva ťaženého fr. 4/8 mm hr. 2 cm a zásypom | F92: m2 | G92: 92.77 | I92: =ROUND(G92*(H92),2) -> 0 | J92: =ROUND(G92*(N92),2) -> 886.88 | K92: =ROUND(G92*(O92),2) -> 0 | L92: =ROUND(G92*(H92),2) -> 0 | N92: 9.56 | P92: 0.1837 | R92: 0.1837 | S92: =ROUND(G92*(P92),3) -> 17.042 | V92: =ROUND(G92*(X92),3) -> 0 | X92: 0 | Z92: 0
B93: 11 | C93: 591111121 | D93: Kladenie dlažby betónovej z kociek 40x40x4 cm do lôžka z kameniva ťaženého fr. 4/8 mm hr. 2 cm | F93: m2 | G93: 52.59 | I93: =ROUND(G93*(H93),2) -> 0 | J93: =ROUND(G93*(N93),2) -> 502.76 | K93: =ROUND(G93*(O93),2) -> 0 | L93: =ROUND(G93*(H93),2) -> 0 | N93: 9.56 | P93: 0.1837 | R93: 0.1837 | S93: =ROUND(G93*(P93),3) -> 9.661 | V93: =ROUND(G93*(X93),3) -> 0 | X93: 0 | Z93: 0
B94: 12 | C94: 596911111 | D94: Kladenie zámkovej dlažby pre peších do 20 m2 do lôžko z ťaženého kameniva fr. 4/8mm 2cm, označenia D3c | F94: m2 | G94: 1.61 | I94: =ROUND(G94*(H94),2) -> 0 | J94: =ROUND(G94*(N94),2) -> 41.89 | K94: =ROUND(G94*(O94),2) -> 0 | L94: =ROUND(G94*(H94),2) -> 0 | N94: 26.02 | P94: 0.112 | R94: 0.112 | S94: =ROUND(G94*(P94),3) -> 0.18 | V94: =ROUND(G94*(X94),3) -> 0 | X94: 0 | Z94: 0
B95: 13 | C95: 596911212 | D95: Kladenie betónovej dlažby hr.8cm s náliskami dištančnými do lôžka z ťaženého kameniva fr. 4/8 mm hr. 2 mm | F95: m2 | G95: 170.87 | I95: =ROUND(G95*(H95),2) -> 0 | J95: =ROUND(G95*(N95),2) -> 3776.23 | K95: =ROUND(G95*(O95),2) -> 0 | L95: =ROUND(G95*(H95),2) -> 0 | N95: 22.1 | P95: 0.112 | R95: 0.112 | S95: =ROUND(G95*(P95),3) -> 19.137 | V95: =ROUND(G95*(X95),3) -> 0 | X95: 0 | Z95: 0
B96: 14 | C96: 599432111 | D96: Vyplnenie škár dlažby kamenivom ťaženým | F96: m2 | G96: 170.87 | I96: =ROUND(G96*(H96),2) -> 0 | J96: =ROUND(G96*(N96),2) -> 664.68 | K96: =ROUND(G96*(O96),2) -> 0 | L96: =ROUND(G96*(H96),2) -> 0 | N96: 3.89 | P96: 0.10354 | R96: 0.10354 | S96: =ROUND(G96*(P96),3) -> 17.692 | V96: =ROUND(G96*(X96),3) -> 0 | X96: 0 | Z96: 0
B97: 15 | C97: 5921951140 | D97: Betónová dlažba s dištančnými náliskami 10x20x8cm, označenie D3a | F97: M2 | G97: 172.579 | I97: =ROUND(G97*(H97),2) -> 0 | J97: =ROUND(G97*(N97),2) -> 3227.23 | K97: =ROUND(G97*(O97),2) -> 0 | M97: =ROUND(G97*(H97),2) -> 0 | N97: 18.7 | P97: 0.138 | R97: 0.138 | S97: =ROUND(G97*(P97),3) -> 23.816 | V97: =ROUND(G97*(X97),3) -> 0 | X97: 0 | Z97: 0
B98: 16 | C98: 5922912900 | D98: Betónová dlažba pre nevidiacich 2 rady 20x20x6cm, označenie D3c, farebne odlíšená od ostatnej dlažby | F98: m2 | G98: 1.626 | I98: =ROUND(G98*(H98),2) -> 0 | J98: =ROUND(G98*(N98),2) -> 35.46 | K98: =ROUND(G98*(O98),2) -> 0 | M98: =ROUND(G98*(H98),2) -> 0 | N98: 21.81 | P98: 0.146 | R98: 0.146 | S98: =ROUND(G98*(P98),3) -> 0.237 | V98: =ROUND(G98*(X98),3) -> 0 | X98: 0 | Z98: 0
B99: 17 | C99: 5922918700 | D99: Betónová dlažba 40 x 40 x 4 cm, exterérová, skosená hrana, označenie D2a | F99: ks | G99: 331.974 | I99: =ROUND(G99*(H99),2) -> 0 | J99: =ROUND(G99*(N99),2) -> 1444.09 | K99: =ROUND(G99*(O99),2) -> 0 | M99: =ROUND(G99*(H99),2) -> 0 | N99: 4.35 | P99: 0.015 | R99: 0.015 | S99: =ROUND(G99*(P99),3) -> 4.98 | V99: =ROUND(G99*(X99),3) -> 0 | X99: 0 | Z99: 0
B100: 18 | C100: 5923010777 | D100: Zatrávňovacia tvárnica 610x405x80 mm, označenie D3b | F100: KUS | G100: 379.266 | I100: =ROUND(G100*(H100),2) -> 0 | J100: =ROUND(G100*(N100),2) -> 1042.98 | K100: =ROUND(G100*(O100),2) -> 0 | M100: =ROUND(G100*(H100),2) -> 0 | N100: 2.75 | P100: 0.00107 | R100: 0.00107 | S100: =ROUND(G100*(P100),3) -> 0.406 | V100: =ROUND(G100*(X100),3) -> 0 | X100: 0 | Z100: 0
C101: 5 | D101: SPEVNENÉ PLOCHY | I101: =ROUND((SUM(I88:I100))/1,2) -> 0 | L101: =ROUND((SUM(L88:L100))/1,2) -> 0 | M101: =ROUND((SUM(M88:M100))/1,2) -> 0 | S101: =ROUND((SUM(S88:S100))/1,2) -> 305.36 | V101: =ROUND((SUM(V88:V100))/1,2) -> 0
C103: 6 | D103: POVRCHOVÉ ÚPRAVY
B104: 19 | C104: 631313711 | D104: Mazanina z betónu prostého tr.C 25/30 hr.nad 80 do 120 mm | F104: m3 | G104: 5.436 | I104: =ROUND(G104*(H104),2) -> 0 | J104: =ROUND(G104*(N104),2) -> 833.72 | K104: =ROUND(G104*(O104),2) -> 0 | L104: =ROUND(G104*(H104),2) -> 0 | N104: 153.37 | P104: 2.23957 | R104: 2.23957 | S104: =ROUND(G104*(P104),3) -> 12.174 | V104: =ROUND(G104*(X104),3) -> 0 | X104: 0 | Z104: 0
B105: 20 | C105: 631319153 | D105: Príplatok za prehlad. povrchu betónovej mazaniny min. tr.C 8/10 oceľ. hlad. hr. 80-120 mm | F105: m3 | G105: 5.436 | I105: =ROUND(G105*(H105),2) -> 0 | J105: =ROUND(G105*(N105),2) -> 151.39 | K105: =ROUND(G105*(O105),2) -> 0 | L105: =ROUND(G105*(H105),2) -> 0 | N105: 27.85 | P105: 0 | R105: 0 | S105: =ROUND(G105*(P105),3) -> 0 | V105: =ROUND(G105*(X105),3) -> 0 | X105: 0 | Z105: 0
B106: 21 | C106: 631319173 | D106: Prípl. za strhnutie povrchu mazaniny latou pre hr. obidvoch vrstiev mazaniny nad 80 do 120 mm | F106: m3 | G106: 5.436 | I106: =ROUND(G106*(H106),2) -> 0 | J106: =ROUND(G106*(N106),2) -> 45.93 | K106: =ROUND(G106*(O106),2) -> 0 | L106: =ROUND(G106*(H106),2) -> 0 | N106: 8.45 | P106: 0 | R106: 0 | S106: =ROUND(G106*(P106),3) -> 0 | V106: =ROUND(G106*(X106),3) -> 0 | X106: 0 | Z106: 0
B107: 22 | C107: 631351101 | D107: Debnenie stien, rýh a otvorov v podlahách zhotovenie | F107: m2 | G107: 3.2 | I107: =ROUND(G107*(H107),2) -> 0 | J107: =ROUND(G107*(N107),2) -> 56.74 | K107: =ROUND(G107*(O107),2) -> 0 | L107: =ROUND(G107*(H107),2) -> 0 | N107: 17.73 | P107: 0.00861 | R107: 0.00861 | S107: =ROUND(G107*(P107),3) -> 0.028 | V107: =ROUND(G107*(X107),3) -> 0 | X107: 0 | Z107: 0
B108: 23 | C108: 631351102 | D108: Debnenie stien, rýh a otvorov v podlahách odstránenie | F108: m2 | G108: 3.2 | I108: =ROUND(G108*(H108),2) -> 0 | J108: =ROUND(G108*(N108),2) -> 15.87 | K108: =ROUND(G108*(O108),2) -> 0 | L108: =ROUND(G108*(H108),2) -> 0 | N108: 4.96 | P108: 0 | R108: 0 | S108: =ROUND(G108*(P108),3) -> 0 | V108: =ROUND(G108*(X108),3) -> 0 | X108: 0 | Z108: 0
B109: 24 | C109: 631362421 | D109: Výstuž mazanín z betónov (z kameniva) a z ľahkých betónov, zo zváraných sietí KARI, priemer drôtu 6/6 mm, veľkosť oka 100x100 mm | F109: m2 | G109: 54.36 | I109: =ROUND(G109*(H109),2) -> 0 | J109: =ROUND(G109*(N109),2) -> 365.84 | K109: =ROUND(G109*(O109),2) -> 0 | L109: =ROUND(G109*(H109),2) -> 0 | N109: 6.73 | P109: 0.00494 | R109: 0.00494 | S109: =ROUND(G109*(P109),3) -> 0.269 | V109: =ROUND(G109*(X109),3) -> 0 | X109: 0 | Z109: 0
B110: 25 | C110: 634601501 | D110: Zaplnenie dilatačnej škáry šírky 5 mm v mazaninách tmelom | F110: m | G110: 9 | I110: =ROUND(G110*(H110),2) -> 0 | J110: =ROUND(G110*(N110),2) -> 41.76 | K110: =ROUND(G110*(O110),2) -> 0 | L110: =ROUND(G110*(H110),2) -> 0 | N110: 4.64 | P110: 0.00026 | R110: 0.00026 | S110: =ROUND(G110*(P110),3) -> 0.002 | V110: =ROUND(G110*(X110),3) -> 0 | X110: 0 | Z110: 0
B111: 26 | C111: 634920021 | D111: Rezanie dilatačných škár v čiastočne stvrdnutej betónovej mazanine alebo v potere, hĺbka do 50 mm, šírka do 5 mm | F111: m | G111: 9 | I111: =ROUND(G111*(H111),2) -> 0 | J111: =ROUND(G111*(N111),2) -> 40.59 | K111: =ROUND(G111*(O111),2) -> 0 | L111: =ROUND(G111*(H111),2) -> 0 | N111: 4.51 | P111: 1e-05 | R111: 1e-05 | S111: =ROUND(G111*(P111),3) -> 0 | V111: =ROUND(G111*(X111),3) -> 0 | X111: 0 | Z111: 0
C112: 6 | D112: POVRCHOVÉ ÚPRAVY | I112: =ROUND((SUM(I103:I111))/1,2) -> 0 | L112: =ROUND((SUM(L103:L111))/1,2) -> 0 | M112: =ROUND((SUM(M103:M111))/1,2) -> 0 | S112: =ROUND((SUM(S103:S111))/1,2) -> 12.47 | V112: =ROUND((SUM(V103:V111))/1,2) -> 0
C114: 9 | D114: OSTATNÉ KONŠTRUKCIE A PRÁCE
B115: 27 | C115: 338121127 | D115: Montáž stĺpika zvislej dopravnej značky dĺžky do 3,5 m do betónového základu | F115: kus | G115: 2 | I115: =ROUND(G115*(H115),2) -> 0 | J115: =ROUND(G115*(N115),2) -> 120.52 | K115: =ROUND(G115*(O115),2) -> 0 | L115: =ROUND(G115*(H115),2) -> 0 | N115: 60.26 | P115: 0.66549 | R115: 0.66549 | S115: =ROUND(G115*(P115),3) -> 1.331 | V115: =ROUND(G115*(X115),3) -> 0 | X115: 0 | Z115: 0
B116: 28 | C116: 914001111.S | D116: Osadenie a montáž cestnej zvislej dopravnej značky na stĺpik, stĺp, konzolu alebo objekt | F116: ks | G116: 3 | I116: =ROUND(G116*(H116),2) -> 0 | J116: =ROUND(G116*(N116),2) -> 67.71 | K116: =ROUND(G116*(O116),2) -> 0 | L116: =ROUND(G116*(H116),2) -> 0 | N116: 22.57 | P116: 0.22684 | R116: 0.22684 | S116: =ROUND(G116*(P116),3) -> 0.681 | V116: =ROUND(G116*(X116),3) -> 0 | X116: 0 | Z116: 0
B117: 29 | C117: 915711111 | D117: Vodorovné značenie krytu striekané farbou deliacich čiar šírky 120 mm | F117: m | G117: 40 | I117: =ROUND(G117*(H117),2) -> 0 | J117: =ROUND(G117*(N117),2) -> 52.8 | K117: =ROUND(G117*(O117),2) -> 0 | L117: =ROUND(G117*(H117),2) -> 0 | N117: 1.32 | P117: 9e-05 | R117: 9e-05 | S117: =ROUND(G117*(P117),3) -> 0.004 | V117: =ROUND(G117*(X117),3) -> 0 | X117: 0 | Z117: 0
B118: 30 | C118: 915719111 | D118: Príplatok k cene za reflexnú úpravu balotinovú deliacich čiar šírky 120 mm | F118: m | G118: 40 | I118: =ROUND(G118*(H118),2) -> 0 | J118: =ROUND(G118*(N118),2) -> 9.2 | K118: =ROUND(G118*(O118),2) -> 0 | L118: =ROUND(G118*(H118),2) -> 0 | N118: 0.23 | P118: 4e-05 | R118: 4e-05 | S118: =ROUND(G118*(P118),3) -> 0.002 | V118: =ROUND(G118*(X118),3) -> 0 | X118: 0 | Z118: 0
B119: 31 | C119: 915721111 | D119: Vodorovné značenie krytu striekané farbou stopčiar, zebier, tieňov, šípok nápisov, prechodov a pod. | F119: m2 | G119: 2 | I119: =ROUND(G119*(H119),2) -> 0 | J119: =ROUND(G119*(N119),2) -> 43.72 | K119: =ROUND(G119*(O119),2) -> 0 | L119: =ROUND(G119*(H119),2) -> 0 | N119: 21.86 | P119: 0.00066 | R119: 0.00066 | S119: =ROUND(G119*(P119),3) -> 0.001 | V119: =ROUND(G119*(X119),3) -> 0 | X119: 0 | Z119: 0
B120: 32 | C120: 915729111 | D120: Príplatok za reflexnú úpravu balotinovú stopčiar, zebier, tieňov, šípok nápisov, prechodov a pod. | F120: m2 | G120: 2 | I120: =ROUND(G120*(H120),2) -> 0 | J120: =ROUND(G120*(N120),2) -> 1.44 | K120: =ROUND(G120*(O120),2) -> 0 | L120: =ROUND(G120*(H120),2) -> 0 | N120: 0.72 | P120: 0.00032 | R120: 0.00032 | S120: =ROUND(G120*(P120),3) -> 0.001 | V120: =ROUND(G120*(X120),3) -> 0 | X120: 0 | Z120: 0
B121: 33 | C121: 915791111.S | D121: Predznačenie pre značenie striekané farbou z náterových hmôt deliace čiary, vodiace prúžky | F121: m | G121: 40 | I121: =ROUND(G121*(H121),2) -> 0 | J121: =ROUND(G121*(N121),2) -> 10.4 | K121: =ROUND(G121*(O121),2) -> 0 | L121: =ROUND(G121*(H121),2) -> 0 | N121: 0.26 | P121: 0 | R121: 0 | S121: =ROUND(G121*(P121),3) -> 0 | V121: =ROUND(G121*(X121),3) -> 0 | X121: 0 | Z121: 0
B122: 34 | C122: 915791112.S | D122: Predznačenie pre vodorovné značenie striekané farbou alebo vykonávané z náterových hmôt | F122: m2 | G122: 2 | I122: =ROUND(G122*(H122),2) -> 0 | J122: =ROUND(G122*(N122),2) -> 4.8 | K122: =ROUND(G122*(O122),2) -> 0 | L122: =ROUND(G122*(H122),2) -> 0 | N122: 2.4 | P122: 0 | R122: 0 | S122: =ROUND(G122*(P122),3) -> 0 | V122: =ROUND(G122*(X122),3) -> 0 | X122: 0 | Z122: 0
B123: 35 | C123: 916161111 | D123: Osadenie cestnej obruby z veľkých kociek s bočnou oporou z bet. tr. C 12/15 do lôžka z betónu | F123: m | G123: 76.47 | I123: =ROUND(G123*(H123),2) -> 0 | J123: =ROUND(G123*(N123),2) -> 546 | K123: =ROUND(G123*(O123),2) -> 0 | L123: =ROUND(G123*(H123),2) -> 0 | N123: 7.14 | P123: 0.1084 | R123: 0.1084 | S123: =ROUND(G123*(P123),3) -> 8.289 | V123: =ROUND(G123*(X123),3) -> 0 | X123: 0 | Z123: 0
B124: 36 | C124: 916561111 | D124: Osadenie záhon. obrubníka betón., do lôžka z bet. pros. tr. C 10/12,5 s bočnou oporou | F124: m | G124: 62.6 | I124: =ROUND(G124*(H124),2) -> 0 | J124: =ROUND(G124*(N124),2) -> 403.14 | K124: =ROUND(G124*(O124),2) -> 0 | L124: =ROUND(G124*(H124),2) -> 0 | N124: 6.44 | P124: 0.09796 | R124: 0.09796 | S124: =ROUND(G124*(P124),3) -> 6.132 | V124: =ROUND(G124*(X124),3) -> 0 | X124: 0 | Z124: 0
B125: 37 | C125: 592029170010 | D125: Parkový obrubník 100/20/5 cm farba sivá, označenie OP | F125: KUS | G125: 63.226 | I125: =ROUND(G125*(H125),2) -> 0 | J125: =ROUND(G125*(N125),2) -> 219.39 | K125: =ROUND(G125*(O125),2) -> 0 | M125: =ROUND(G125*(H125),2) -> 0 | N125: 3.47 | P125: 0 | R125: 0 | S125: =ROUND(G125*(P125),3) -> 0 | V125: =ROUND(G125*(X125),3) -> 0 | X125: 0 | Z125: 0
B126: 38 | C126: 404410037210 | D126: Regulačná značka ZDZ 272 Parkovanie, Zn lisovaná, V1 - 420 x x420 mm, RA1, P3, E2, SP1 | F126: ks | G126: 1 | I126: =ROUND(G126*(H126),2) -> 0 | J126: =ROUND(G126*(N126),2) -> 52.81 | K126: =ROUND(G126*(O126),2) -> 0 | M126: =ROUND(G126*(H126),2) -> 0 | N126: 52.81 | P126: 0 | R126: 0 | S126: =ROUND(G126*(P126),3) -> 0 | V126: =ROUND(G126*(X126),3) -> 0 | X126: 0 | Z126: 0
...

Sheet SO 03 - VODOVODNÁ PRÍPOJK17195
B1: Krycí list rozpočtu | E1: Rekapitulácia rozpočtu | H1: Rozpočet | W1: 30.126
B2: Krycí list rozpočtu
B3: Stavba Centrum služieb pre zlepšenie fyzickej a pohybovej zdatnosti obyvateľov
B4: Objekt SO 03 - VODOVODNÁ PRÍPOJKA A PROTIPOŽIARNÉ ZABEZPEČENIE | F4: Miesto:
F5: Ks:
B6: Zákazka: | D6: Spracoval: Ing. Ján Halgaš | F6: Dňa | G6: 21. 1. 2025
B7: Odberateľ: Športový klub Miko fit-box
B8: IČO: 42383625 | F8: DIČ:
B9: Projektant: D. D. - ARCH s. r. o.
B10: IČO: | F10: DIČ:
B11: Dodávateľ: ...
B12: IČO: | F12: DIČ:
B14: ZRN | C14: Montáž | D14: Materiál | E14: ZRN spolu | F14: Ostatné náklady | P14: 0
B15: HSV | C15: ='SO 03 - VODOVODNÁ PRÍPOJK17195'!E60 -> 0 | D15: ='SO 03 - VODOVODNÁ PRÍPOJK17195'!F60 -> 0 | E15: ='SO 03 - VODOVODNÁ PRÍPOJK17195'!G60 -> 0
B16: PSV | F16: Komplet. činnosť | P16: =(SUM(Z77:Z137)) -> 0
B17: MNT | F17: HZS | P17: 0
B18: OST
B19: VN
B20: Spolu | E20: =SUM(E15:E19) -> 0 | F20: Spolu | P20: =SUM(P14:P19) -> 0
B21: Zariadenie staveniska 0% | E21: =((E15*U22*0)+(E16*V22*0)+(E17*W22*0))/100 -> 0 | F21: Sťažené podmienky dopravy 0% | P21: =((E15*X22*0)+(E16*Y22*0)+(E17*Z22*0))/100 -> 0
B22: Sťažené výrobné podmienky 0% | E22: =((E15*U23*0)+(E16*V23*0)+(E17*W23*0))/100 -> 0 | F22: Horské oblasti 0% | P22: =((E15*X23*0)+(E16*Y23*0)+(E17*Z23*0))/100 -> 0 | U22: 1 | V22: 1 | W22: 1 | X22: 1 | Y22: 1 | Z22: 1
B23: Prevádzkové vplyvy 0% | E23: =((E15*U24*0)+(E16*V24*0)+(E17*W24*0))/100 -> 0 | F23: Mimostavenisková doprava 0% | P23: =((E15*X24*0)+(E16*Y24*0)+(E17*Z24*0))/100 -> 0 | U23: 1 | V23: 1 | W23: 0 | X23: 1 | Y23: 1 | Z23: 1
U24: 1 | V24: 1 | W24: 1 | X24: 1 | Y24: 1 | Z24: 0
F25: Spolu | P25: =SUM(E21:E24)+SUM(P21:P24) -> 0
B26: Projektant,rozpočtár | F26: Celkové náklady
F27: Celkové náklady bez DPH | P27: =E20+P20+E25+P25 -> 0
F28: DPH 23% z | H28: =P27-SUM('SO 03 - VODOVODNÁ PRÍPOJK17195'!K77:'SO 03 - VODOVODNÁ PRÍPOJK17195'!K137) -> 0 | P28: =ROUND(((ROUND(H28,2)*23)*1/100),2) -> 0
F29: DPH 0% z | H29: =SUM('SO 03 - VODOVODNÁ PRÍPOJK17195'!K77:'SO 03 - VODOVODNÁ PRÍPOJK17195'!K137) -> 0 | P29: =ROUND(((ROUND(H29,2)*0)/100),2) -> 0
F30: Spolu v EUR | P30: =SUM(P27:P29) -> 0
B32: Odberateľ | E32: Dodávateľ
B44: Rekapitulácia rozpočtu
B46: Odberateľ: Športový klub Miko fit-box | F46: Spracoval: Ing. Ján Halgaš
B47: Projektant: D. D. - ARCH s. r. o. | F47: Ks:
B48: Dodávateľ: ... | F48: Dátum: 21. 1. 2025
B49: Stavba Centrum služieb pre zlepšenie fyzickej a pohybovej zdatnosti obyvateľov
B50: Objekt SO 03 - VODOVODNÁ PRÍPOJKA A PROTIPOŽIARNÉ ZABEZPEČENIE
B53: Prehľad rozpočtových nákladov
E54: Montáž | F54: Materiál | G54: Spolu | H54: Hmotnosť (T) | I54: Sutina (T)
B55: Práce HSV
B56: ZEMNÉ PRÁCE | E56: ='SO 03 - VODOVODNÁ PRÍPOJK17195'!L92 -> 0 | F56: ='SO 03 - VODOVODNÁ PRÍPOJK17195'!M92 -> 0 | G56: ='SO 03 - VODOVODNÁ PRÍPOJK17195'!I92 -> 0 | H56: ='SO 03 - VODOVODNÁ PRÍPOJK17195'!S92 -> 0 | I56: ='SO 03 - VODOVODNÁ PRÍPOJK17195'!V92 -> 1.22
B57: VODOROVNÉ KONŠTRUKCIE | E57: ='SO 03 - VODOVODNÁ PRÍPOJK17195'!L98 -> 0 | F57: ='SO 03 - VODOVODNÁ PRÍPOJK17195'!M98 -> 0 | G57: ='SO 03 - VODOVODNÁ PRÍPOJK17195'!I98 -> 0 | H57: ='SO 03 - VODOVODNÁ PRÍPOJK17195'!S98 -> 7.2 | I57: ='SO 03 - VODOVODNÁ PRÍPOJK17195'!V98 -> 0
B58: SPEVNENÉ PLOCHY | E58: ='SO 03 - VODOVODNÁ PRÍPOJK17195'!L102 -> 0 | F58: ='SO 03 - VODOVODNÁ PRÍPOJK17195'!M102 -> 0 | G58: ='SO 03 - VODOVODNÁ PRÍPOJK17195'!I102 -> 0 | H58: ='SO 03 - VODOVODNÁ PRÍPOJK17195'!S102 -> 1.52 | I58: ='SO 03 - VODOVODNÁ PRÍPOJK17195'!V102 -> 0
B59: POTRUBNÉ ROZVODY | E59: ='SO 03 - VODOVODNÁ PRÍPOJK17195'!L135 -> 0 | F59: ='SO 03 - VODOVODNÁ PRÍPOJK17195'!M135 -> 0 | G59: ='SO 03 - VODOVODNÁ PRÍPOJK17195'!I135 -> 0 | H59: ='SO 03 - VODOVODNÁ PRÍPOJK17195'!S135 -> 0.85 | I59: ='SO 03 - VODOVODNÁ PRÍPOJK17195'!V135 -> 0
B60: Práce HSV | E60: ='SO 03 - VODOVODNÁ PRÍPOJK17195'!L137 -> 0 | F60: ='SO 03 - VODOVODNÁ PRÍPOJK17195'!M137 -> 0 | G60: ='SO 03 - VODOVODNÁ PRÍPOJK17195'!I137 -> 0 | H60: ='SO 03 - VODOVODNÁ PRÍPOJK17195'!S137 -> 9.57 | I60: ='SO 03 - VODOVODNÁ PRÍPOJK17195'!V137 -> 1.22
B62: Celkom v EUR | E62: ='SO 03 - VODOVODNÁ PRÍPOJK17195'!L138 -> 0 | F62: ='SO 03 - VODOVODNÁ PRÍPOJK17195'!M138 -> 0 | G62: ='SO 03 - VODOVODNÁ PRÍPOJK17195'!I138 -> 0 | H62: ='SO 03 - VODOVODNÁ PRÍPOJK17195'!S138 -> 9.57 | I62: ='SO 03 - VODOVODNÁ PRÍPOJK17195'!V138 -> 1.22
B66: Rozpočet
B68: Odberateľ: Športový klub Miko fit-box | H68: Spracoval: | I68: Ing. Ján Halgaš
B69: Projektant: D. D. - ARCH s. r. o. | H69: Ks:
B70: Dodávateľ: ... | H70: Dátum: | I70: 21. 1. 2025
B71: Zákazka Centrum služieb pre zlepšenie fyzickej a pohybovej zdatnosti obyvateľov
B72: Objekt SO 03 - VODOVODNÁ PRÍPOJKA A PROTIPOŽIARNÉ ZABEZPEČENIE
B75: Prehľad rozpočtových nákladov
B76: Por.č. | C76: Kód položky | D76: Názov | F76: Mj | G76: Množstvo | H76: Cena/Mj | I76: Cena celkom | P76: Hmotnosť/Mj | S76: Hmotnosť | V76: Sutina
D77: Práce HSV
C78: 1 | D78: ZEMNÉ PRÁCE
B79: 1 | C79: 121101111.S | D79: Odstránenie ornice s vodor. premiestn. na hromady, so zložením na vzdialenosť do 100 m a do 100m3 | F79: m3 | G79: 3.96 | I79: =ROUND(G79*(H79),2) -> 0 | J79: =ROUND(G79*(N79),2) -> 5.03 | K79: =ROUND(G79*(O79),2) -> 0 | L79: =ROUND(G79*(H79),2) -> 0 | N79: 1.27 | P79: 0 | R79: 0 | S79: =ROUND(G79*(P79),3) -> 0 | V79: =ROUND(G79*(X79),3) -> 0 | X79: 0 | Z79: 0
B80: 2 | C80: 130001101.S | D80: Príplatok k cenám za sťaženie výkopu v blízkosti podzemného vedenia alebo výbušbnín - pre všetky triedy | F80: m3 | G80: 1.5 | I80: =ROUND(G80*(H80),2) -> 0 | J80: =ROUND(G80*(N80),2) -> 38.04 | K80: =ROUND(G80*(O80),2) -> 0 | L80: =ROUND(G80*(H80),2) -> 0 | N80: 25.36 | P80: 0 | R80: 0 | S80: =ROUND(G80*(P80),3) -> 0 | V80: =ROUND(G80*(X80),3) -> 0 | X80: 0 | Z80: 0
B81: 3 | C81: 131211101.S | D81: Hĺbenie jám v hornine tr.3 súdržných - ručným náradím | F81: m3 | G81: 13.2 | I81: =ROUND(G81*(H81),2) -> 0 | J81: =ROUND(G81*(N81),2) -> 958.98 | K81: =ROUND(G81*(O81),2) -> 0 | L81: =ROUND(G81*(H81),2) -> 0 | N81: 72.65 | P81: 0 | R81: 0 | S81: =ROUND(G81*(P81),3) -> 0 | V81: =ROUND(G81*(X81),3) -> 0 | X81: 0 | Z81: 0
B82: 4 | C82: 131211119.S | D82: Príplatok za lepivosť pri hĺbení jám ručným náradím v hornine tr. 3 | F82: m3 | G82: 13.2 | I82: =ROUND(G82*(H82),2) -> 0 | J82: =ROUND(G82*(N82),2) -> 191.93 | K82: =ROUND(G82*(O82),2) -> 0 | L82: =ROUND(G82*(H82),2) -> 0 | N82: 14.54 | P82: 0 | R82: 0 | S82: =ROUND(G82*(P82),3) -> 0 | V82: =ROUND(G82*(X82),3) -> 0 | X82: 0 | Z82: 0
B83: 5 | C83: 132201109.S | D83: Príplatok k cene za lepivosť pri hĺbení rýh šírky do 600 mm zapažených i nezapažených s urovnaním dna v hornine 3 | F83: m3 | G83: 25.8 | I83: =ROUND(G83*(H83),2) -> 0 | J83: =ROUND(G83*(N83),2) -> 298.51 | K83: =ROUND(G83*(O83),2) -> 0 | L83: =ROUND(G83*(H83),2) -> 0 | N83: 11.57 | P83: 0 | R83: 0 | S83: =ROUND(G83*(P83),3) -> 0 | V83: =ROUND(G83*(X83),3) -> 0 | X83: 0 | Z83: 0
B84: 6 | C84: 132211101.S | D84: Hĺbenie rýh šírky do 600 mm v hornine tr.3 súdržných - ručným náradím | F84: m3 | G84: 1.5 | I84: =ROUND(G84*(H84),2) -> 0 | J84: =ROUND(G84*(N84),2) -> 148.35 | K84: =ROUND(G84*(O84),2) -> 0 | L84: =ROUND(G84*(H84),2) -> 0 | N84: 98.9 | P84: 0 | R84: 0 | S84: =ROUND(G84*(P84),3) -> 0 | V84: =ROUND(G84*(X84),3) -> 0 | X84: 0 | Z84: 0
B85: 7 | C85: 174101001.S | D85: Zásyp sypaninou so zhutnením jám, šachiet, rýh, zárezov alebo okolo objektov do 100 m3 | F85: m3 | G85: 27.853 | I85: =ROUND(G85*(H85),2) -> 0 | J85: =ROUND(G85*(N85),2) -> 117.82 | K85: =ROUND(G85*(O85),2) -> 0 | L85: =ROUND(G85*(H85),2) -> 0 | N85: 4.23 | P85: 0 | R85: 0 | S85: =ROUND(G85*(P85),3) -> 0 | V85: =ROUND(G85*(X85),3) -> 0 | X85: 0 | Z85: 0
B86: 8 | C86: 175101102.S | D86: Obsyp potrubia sypaninou z vhodných hornín 1 až 4 s prehodením sypaniny | F86: m3 | G86: 7.72 | I86: =ROUND(G86*(H86),2) -> 0 | J86: =ROUND(G86*(N86),2) -> 231.21 | K86: =ROUND(G86*(O86),2) -> 0 | L86: =ROUND(G86*(H86),2) -> 0 | N86: 29.95 | P86: 0 | R86: 0 | S86: =ROUND(G86*(P86),3) -> 0 | V86: =ROUND(G86*(X86),3) -> 0 | X86: 0 | Z86: 0
B87: 9 | C87: 181301103.S | D87: Rozprestretie ornice v rovine , plocha do 500 m2, hr.do 200 mm | F87: m2 | G87: 19.8 | I87: =ROUND(G87*(H87),2) -> 0 | J87: =ROUND(G87*(N87),2) -> 92.07 | K87: =ROUND(G87*(O87),2) -> 0 | L87: =ROUND(G87*(H87),2) -> 0 | N87: 4.65 | P87: 0 | R87: 0 | S87: =ROUND(G87*(P87),3) -> 0 | V87: =ROUND(G87*(X87),3) -> 0 | X87: 0 | Z87: 0
B88: 10 | C88: 113107122.S | D88: Odstránenie krytu v ploche do 200 m2 z kameniva hrubého drveného, hr.100 do 200 mm, -0,23500t | F88: m2 | G88: 5.2 | I88: =ROUND(G88*(H88),2) -> 0 | J88: =ROUND(G88*(N88),2) -> 69 | K88: =ROUND(G88*(O88),2) -> 0 | L88: =ROUND(G88*(H88),2) -> 0 | N88: 13.27 | P88: 0 | R88: 0 | S88: =ROUND(G88*(P88),3) -> 0 | V88: =ROUND(G88*(X88),3) -> 1.222 | X88: 0.235 | Z88: 0
B89: 11 | C89: 132201101.S.1 | D89: Výkop ryhy do šírky 600 mm v horn.3 do 100 m3 | F89: m3 | G89: 25.8 | I89: =ROUND(G89*(H89),2) -> 0 | J89: =ROUND(G89*(N89),2) -> 1056.77 | K89: =ROUND(G89*(O89),2) -> 0 | L89: =ROUND(G89*(H89),2) -> 0 | N89: 40.96 | P89: 0 | R89: 0 | S89: =ROUND(G89*(P89),3) -> 0 | V89: =ROUND(G89*(X89),3) -> 0 | X89: 0 | Z89: 0
B90: 12 | C90: 151101101.S.1 | D90: Paženie a rozopretie stien rýh pre podzemné vedenie, príložné do 2 m | F90: m2 | G90: 105 | I90: =ROUND(G90*(H90),2) -> 0 | J90: =ROUND(G90*(N90),2) -> 556.5 | K90: =ROUND(G90*(O90),2) -> 0 | L90: =ROUND(G90*(H90),2) -> 0 | N90: 5.3 | P90: 0 | R90: 0 | S90: =ROUND(G90*(P90),3) -> 0 | V90: =ROUND(G90*(X90),3) -> 0 | X90: 0 | Z90: 0
B91: 13 | C91: 151101111.S.1 | D91: Odstránenie paženia rýh pre podzemné vedenie, príložné hĺbky do 2 m | F91: m2 | G91: 105 | I91: =ROUND(G91*(H91),2) -> 0 | J91: =ROUND(G91*(N91),2) -> 357 | K91: =ROUND(G91*(O91),2) -> 0 | L91: =ROUND(G91*(H91),2) -> 0 | N91: 3.4 | P91: 0 | R91: 0 | S91: =ROUND(G91*(P91),3) -> 0 | V91: =ROUND(G91*(X91),3) -> 0 | X91: 0 | Z91: 0
C92: 1 | D92: ZEMNÉ PRÁCE | I92: =ROUND((SUM(I78:I91))/1,2) -> 0 | L92: =ROUND((SUM(L78:L91))/1,2) -> 0 | M92: =ROUND((SUM(M78:M91))/1,2) -> 0 | S92: =ROUND((SUM(S78:S91))/1,2) -> 0 | V92: =ROUND((SUM(V78:V91))/1,2) -> 1.22
C94: 4 | D94: VODOROVNÉ KONŠTRUKCIE
B95: 14 | C95: 451572111.S | D95: Lôžko pod potrubie, stoky a drobné objekty, v otvorenom výkope z kameniva drobného ťaženého 0-4 mm | F95: m3 | G95: 3.75 | I95: =ROUND(G95*(H95),2) -> 0 | J95: =ROUND(G95*(N95),2) -> 231.08 | K95: =ROUND(G95*(O95),2) -> 0 | L95: =ROUND(G95*(H95),2) -> 0 | N95: 61.62 | P95: 1.89077 | R95: 1.89077 | S95: =ROUND(G95*(P95),3) -> 7.09 | V95: =ROUND(G95*(X95),3) -> 0 | X95: 0 | Z95: 0
B96: 15 | C96: 452311131 | D96: Dosky, bloky, sedlá z betónu v otvorenom výkope tr.C 12/15 | F96: m3 | G96: 0.05 | I96: =ROUND(G96*(H96),2) -> 0 | J96: =ROUND(G96*(N96),2) -> 4.32 | K96: =ROUND(G96*(O96),2) -> 0 | L96: =ROUND(G96*(H96),2) -> 0 | N96: 86.31 | P96: 2.21647 | R96: 2.21647 | S96: =ROUND(G96*(P96),3) -> 0.111 | V96: =ROUND(G96*(X96),3) -> 0 | X96: 0 | Z96: 0
B97: 16 | C97: 452351101 | D97: Debnenie v otvorenom výkope dosiek, sedlových lôžok a blokov pod potrubie,stoky a drobné objekty | F97: m2 | G97: 0.4 | I97: =ROUND(G97*(H97),2) -> 0 | J97: =ROUND(G97*(N97),2) -> 4.28 | K97: =ROUND(G97*(O97),2) -> 0 | L97: =ROUND(G97*(H97),2) -> 0 | N97: 10.7 | P97: 0.00461 | R97: 0.00461 | S97: =ROUND(G97*(P97),3) -> 0.002 | V97: =ROUND(G97*(X97),3) -> 0 | X97: 0 | Z97: 0
C98: 4 | D98: VODOROVNÉ KONŠTRUKCIE | I98: =ROUND((SUM(I94:I97))/1,2) -> 0 | L98: =ROUND((SUM(L94:L97))/1,2) -> 0 | M98: =ROUND((SUM(M94:M97))/1,2) -> 0 | S98: =ROUND((SUM(S94:S97))/1,2) -> 7.2 | V98: =ROUND((SUM(V94:V97))/1,2) -> 0
C100: 5 | D100: SPEVNENÉ PLOCHY
B101: 17 | C101: 569751111.S | D101: Spevnenie krajníc alebo komun. pre peších s rozpr. a zhutnením, kamenivom drveným hr. 150 mm | F101: m2 | G101: 5.2 | I101: =ROUND(G101*(H101),2) -> 0 | J101: =ROUND(G101*(N101),2) -> 58.97 | K101: =ROUND(G101*(O101),2) -> 0 | L101: =ROUND(G101*(H101),2) -> 0 | N101: 11.34 | P101: 0.2916 | R101: 0.2916 | S101: =ROUND(G101*(P101),3) -> 1.516 | V101: =ROUND(G101*(X101),3) -> 0 | X101: 0 | Z101: 0
C102: 5 | D102: SPEVNENÉ PLOCHY | I102: =ROUND((SUM(I100:I101))/1,2) -> 0 | L102: =ROUND((SUM(L100:L101))/1,2) -> 0 | M102: =ROUND((SUM(M100:M101))/1,2) -> 0 | S102: =ROUND((SUM(S100:S101))/1,2) -> 1.52 | V102: =ROUND((SUM(V100:V101))/1,2) -> 0
C104: 8 | D104: POTRUBNÉ ROZVODY
B105: 18 | C105: 857242121.S | D105: Montáž liatinovej tvarovky jednoosovej na potrubí z rúr prírubových DN 80 | F105: ks | G105: 4 | I105: =ROUND(G105*(H105),2) -> 0 | J105: =ROUND(G105*(N105),2) -> 85.44 | K105: =ROUND(G105*(O105),2) -> 0 | L105: =ROUND(G105*(H105),2) -> 0 | N105: 21.36 | P105: 0.00082 | R105: 0.00082 | S105: =ROUND(G105*(P105),3) -> 0.003 | V105: =ROUND(G105*(X105),3) -> 0 | X105: 0 | Z105: 0
B106: 19 | C106: 857243121.S | D106: Montáž liatinovej tvarovky odbočnej na potrubí z rúr hrdlových DN 80 | F106: ks | G106: 1 | I106: =ROUND(G106*(H106),2) -> 0 | J106: =ROUND(G106*(N106),2) -> 35.26 | K106: =ROUND(G106*(O106),2) -> 0 | L106: =ROUND(G106*(H106),2) -> 0 | N106: 35.26 | P106: 0.00051 | R106: 0.00051 | S106: =ROUND(G106*(P106),3) -> 0.001 | V106: =ROUND(G106*(X106),3) -> 0 | X106: 0 | Z106: 0
B107: 20 | C107: 891241111.S | D107: Montáž vodovodného posúvača s osadením zemnej súpravy (bez poklopov) DN 80 | F107: ks | G107: 1 | I107: =ROUND(G107*(H107),2) -> 0 | J107: =ROUND(G107*(N107),2) -> 23.18 | K107: =ROUND(G107*(O107),2) -> 0 | L107: =ROUND(G107*(H107),2) -> 0 | N107: 23.18 | P107: 0.00082 | R107: 0.00082 | S107: =ROUND(G107*(P107),3) -> 0.001 | V107: =ROUND(G107*(X107),3) -> 0 | X107: 0 | Z107: 0
B108: 21 | C108: 891247111.S | D108: Montáž vodovodnej armatúry na potrubí, hydrant podzemný (bez osadenia poklopov) DN 80 | F108: ks | G108: 1 | I108: =ROUND(G108*(H108),2) -> 0 | J108: =ROUND(G108*(N108),2) -> 10.57 | K108: =ROUND(G108*(O108),2) -> 0 | L108: =ROUND(G108*(H108),2) -> 0 | N108: 10.57 | P108: 0.00036 | R108: 0.00036 | S108: =ROUND(G108*(P108),3) -> 0 | V108: =ROUND(G108*(X108),3) -> 0 | X108: 0 | Z108: 0
B109: 22 | C109: 891249111.S | D109: Montáž navrtávacieho pásu s ventilom menovitého tlaku 1 MPa na potrubí z rúr liat., oceľ.,plast. DN 80 | F109: ks | G109: 1 | I109: =ROUND(G109*(H109),2) -> 0 | J109: =ROUND(G109*(N109),2) -> 69.72 | K109: =ROUND(G109*(O109),2) -> 0 | L109: =ROUND(G109*(H109),2) -> 0 | N109: 69.72 | P109: 0 | R109: 0 | S109: =ROUND(G109*(P109),3) -> 0 | V109: =ROUND(G109*(X109),3) -> 0 | X109: 0 | Z109: 0
B110: 23 | C110: 892241111.S | D110: Ostatné práce na rúrovom vedení, tlakové skúšky vodovodného potrubia DN do 80 | F110: m | G110: 35 | I110: =ROUND(G110*(H110),2) -> 0 | J110: =ROUND(G110*(N110),2) -> 29.4 | K110: =ROUND(G110*(O110),2) -> 0 | L110: =ROUND(G110*(H110),2) -> 0 | N110: 0.84 | P110: 0 | R110: 0 | S110: =ROUND(G110*(P110),3) -> 0 | V110: =ROUND(G110*(X110),3) -> 0 | X110: 0 | Z110: 0
B111: 24 | C111: 893810122.S | D111: Osadenie vodomernej šachty kruhovej z PP samonosnej D do 1,0 m, svetlej hĺbky do 1,5 m | F111: ks | G111: 1 | I111: =ROUND(G111*(H111),2) -> 0 | J111: =ROUND(G111*(N111),2) -> 35.55 | K111: =ROUND(G111*(O111),2) -> 0 | L111: =ROUND(G111*(H111),2) -> 0 | N111: 35.55 | P111: 0.31727 | R111: 0.31727 | S111: =ROUND(G111*(P111),3) -> 0.317 | V111: =ROUND(G111*(X111),3) -> 0 | X111: 0 | Z111: 0
B112: 25 | C112: 899401111.S | D112: Osadenie poklopu liatinového ventilového | F112: ks | G112: 1 | I112: =ROUND(G112*(H112),2) -> 0 | J112: =ROUND(G112*(N112),2) -> 23.55 | K112: =ROUND(G112*(O112),2) -> 0 | L112: =ROUND(G112*(H112),2) -> 0 | N112: 23.55 | P112: 0.05912 | R112: 0.05912 | S112: =ROUND(G112*(P112),3) -> 0.059 | V112: =ROUND(G112*(X112),3) -> 0 | X112: 0 | Z112: 0
B113: 26 | C113: 899401112 | D113: Osadenie poklopu liatinového posúvačového | F113: ks | G113: 1 | I113: =ROUND(G113*(H113),2) -> 0 | J113: =ROUND(G113*(N113),2) -> 17.59 | K113: =ROUND(G113*(O113),2) -> 0 | L113: =ROUND(G113*(H113),2) -> 0 | N113: 17.59 | P113: 0.11406 | R113: 0.11406 | S113: =ROUND(G113*(P113),3) -> 0.114 | V113: =ROUND(G113*(X113),3) -> 0 | X113: 0 | Z113: 0
B114: 27 | C114: 899401113 | D114: Osadenie poklopu liatinového hydrantového, vzdušníkového | F114: ks | G114: 1 | I114: =ROUND(G114*(H114),2) -> 0 | J114: =ROUND(G114*(N114),2) -> 35.52 | K114: =ROUND(G114*(O114),2) -> 0 | L114: =ROUND(G114*(H114),2) -> 0 | N114: 35.52 | P114: 0.30527 | R114: 0.30527 | S114: =ROUND(G114*(P114),3) -> 0.305 | V114: =ROUND(G114*(X114),3) -> 0 | X114: 0 | Z114: 0
B115: 28 | C115: 899713111 | D115: Orientačná tabuľka na vodovodných a kanalizačných radoch na stĺpiku oceľovom alebo betónovom | F115: ks | G115: 1 | I115: =ROUND(G115*(H115),2) -> 0 | J115: =ROUND(G115*(N115),2) -> 6.47 | K115: =ROUND(G115*(O115),2) -> 0 | L115: =ROUND(G115*(H115),2) -> 0 | N115: 6.47 | P115: 0.00023 | R115: 0.00023 | S115: =ROUND(G115*(P115),3) -> 0 | V115: =ROUND(G115*(X115),3) -> 0 | X115: 0 | Z115: 0
B116: 29 | C116: 899721121.S | D116: Signalizačný vodič na potrubí PVC DN do 150 | F116: m | G116: 40 | I116: =ROUND(G116*(H116),2) -> 0 | J116: =ROUND(G116*(N116),2) -> 80 | K116: =ROUND(G116*(O116),2) -> 0 | L116: =ROUND(G116*(H116),2) -> 0 | N116: 2 | P116: 0 | R116: 0 | S116: =ROUND(G116*(P116),3) -> 0 | V116: =ROUND(G116*(X116),3) -> 0 | X116: 0 | Z116: 0
... B118: 31 | C118: 871171456.S | D118: Potrubie vodovodné z PE 100 SDR17/PN10 zvárané natupo D 32x2,0 mm | F118: m | G118: 35 | I118: =ROUND(G118*(H118),2) -> 0 | J118: =ROUND(G118*(N118),2) -> 90.65 | K118: =ROUND(G118*(O118),2) -> 0 | L118: =ROUND(G118*(H118),2) -> 0 | N118: 2.59 | P118: 0 | R118: 0 | S118: =ROUND(G118*(P118),3) -> 0 | V118: =ROUND(G118*(X118),3) -> 0 | X118: 0 | Z118: 0
B119: 32 | C119: 101123506401 | D119: Vodomerná zostava s ISO pripojením 32/32 | F119: ks | G119: 1 | I119: =ROUND(G119*(H119),2) -> 0 | J119: =ROUND(G119*(N119),2) -> 245 | K119: =ROUND(G119*(O119),2) -> 0 | M119: =ROUND(G119*(H119),2) -> 0 | N119: 245 | P119: 0 | R119: 0 | S119: =ROUND(G119*(P119),3) -> 0 | V119: =ROUND(G119*(X119),3) -> 0 | X119: 0 | Z119: 0
B120: 33 | C120: 1550 | D120: Poklop uličný tuhý - ľahký pre domové prípojky, voda a kanál | F120: ks | G120: 1 | I120: =ROUND(G120*(H120),2) -> 0 | J120: =ROUND(G120*(N120),2) -> 13.55 | K120: =ROUND(G120*(O120),2) -> 0 | M120: =ROUND(G120*(H120),2) -> 0 | N120: 13.55 | P120: 0 | R120: 0 | S120: =ROUND(G120*(P120),3) -> 0 | V120: =ROUND(G120*(X120),3) -> 0 | X120: 0 | Z120: 0
B121: 34 | C121: 319440007600.S | D121: Príruba dvojkomorová špeciálna DN 80, PN16, D 90 mm, neistené proti posunu pre PVC potrubia, z liatiny, na vodu | F121: ks | G121: 2 | I121: =ROUND(G121*(H121),2) -> 0 | J121: =ROUND(G121*(N121),2) -> 72.6 | K121: =ROUND(G121*(O121),2) -> 0 | M121: =ROUND(G121*(H121),2) -> 0 | N121: 36.3 | P121: 0 | R121: 0 | S121: =ROUND(G121*(P121),3) -> 0 | V121: =ROUND(G121*(X121),3) -> 0 | X121: 0 | Z121: 0
B122: 35 | C122: 422210001900.S | D122: Zemná súprava posúvačová Y 1020 D 150 mm | F122: ks | G122: 1 | I122: =ROUND(G122*(H122),2) -> 0 | J122: =ROUND(G122*(N122),2) -> 35.06 | K122: =ROUND(G122*(O122),2) -> 0 | M122: =ROUND(G122*(H122),2) -> 0 | N122: 35.06 | P122: 0 | R122: 0 | S122: =ROUND(G122*(P122),3) -> 0 | V122: =ROUND(G122*(X122),3) -> 0 | X122: 0 | Z122: 0
B123: 36 | C123: 422210023200.S | D123: Posúvač prírubový s tesnením krátky, DN 80, dĺ. 180 mm, liatina, PN 16 | F123: ks | G123: 1 | I123: =ROUND(G123*(H123),2) -> 0 | J123: =ROUND(G123*(N123),2) -> 259.25 | K123: =ROUND(G123*(O123),2) -> 0 | M123: =ROUND(G123*(H123),2) -> 0 | N123: 259.25 | P123: 0 | R123: 0 | S123: =ROUND(G123*(P123),3) -> 0 | V123: =ROUND(G123*(X123),3) -> 0 | X123: 0 | Z123: 0
B124: 37 | C124: 426810064400 | D124: Potrubie HD-PE 100 PN10 32x2,0 mm (balenie 100 m rolka), PRORAIN | F124: m | G124: 35 | I124: =ROUND(G124*(H124),2) -> 0 | J124: =ROUND(G124*(N124),2) -> 40.25 | K124: =ROUND(G124*(O124),2) -> 0 | M124: =ROUND(G124*(H124),2) -> 0 | N124: 1.15 | P124: 0 | R124: 0 | S124: =ROUND(G124*(P124),3) -> 0 | V124: =ROUND(G124*(X124),3) -> 0 | X124: 0 | Z124: 0
B125: 38 | C125: 449160000700.S | D125: Podzemný hydrant DN 80 s dvojitým uzatváraním, krytie potrubia 1 m, PN 16, materíál: liatina, na vodu | F125: ks | G125: 1 | I125: =ROUND(G125*(H125),2) -> 0 | J125: =ROUND(G125*(N125),2) -> 501.24 | K125: =ROUND(G125*(O125),2) -> 0 | M125: =ROUND(G125*(H125),2) -> 0 | N125: 501.24 | P125: 0 | R125: 0 | S125: =ROUND(G125*(P125),3) -> 0 | V125: =ROUND(G125*(X125),3) -> 0 | X125: 0 | Z125: 0
B126: 39 | C126: 4500134 | D126: Vodomerná plastová šachta SVK 1400/1000 - X výška 1450mm k obetónovaniu, MIVA | F126: ks | G126: 1 | I126: =ROUND(G126*(H126),2) -> 0 | J126: =ROUND(G126*(N126),2) -> 304 | K126: =ROUND(G126*(O126),2) -> 0 | M126: =ROUND(G126*(H126),2) -> 0 | N126: 304 | P126: 0 | R126: 0 | S126: =ROUND(G126*(P126),3) -> 0 | V126: =ROUND(G126*(X126),3) -> 0 | X126: 0 | Z126: 0
B127: 40 | C127: 551180003600.S | D127: Navrtávaci pás D 90 mm - 1 až 2 na vodu, z tvárnej liatiny pre potrubie z PE a PVC | F127: ks | G127: 1 | I127: =ROUND(G127*(H127),2) -> 0 | J127: =ROUND(G127*(N127),2) -> 35.7 | K127: =ROUND(G127*(O127),2) -> 0 | M127: =ROUND(G127*(H127),2) -> 0 | N127: 35.7 | P127: 0 | R127: 0 | S127: =ROUND(G127*(P127),3) -> 0 | V127: =ROUND(G127*(X127),3) -> 0 | X127: 0 | Z127: 0
...

Sheet SO 04 - KANALIZAČNÁ PRÍPO17196
B1: Krycí list rozpočtu | E1: Rekapitulácia rozpočtu | H1: Rozpočet | W1: 30.126
B2: Krycí list rozpočtu
B3: Stavba Centrum služieb pre zlepšenie fyzickej a pohybovej zdatnosti obyvateľov
B4: Objekt SO 04 - KANALIZAČNÁ PRÍPOJKA | F4: Miesto:
F5: Ks:
B6: Zákazka: | D6: Spracoval: Ing. Ján Halgaš | F6: Dňa | G6: 21. 1. 2025
B7: Odberateľ: Športový klub Miko fit-box
B8: IČO: 42383625 | F8: DIČ:
B9: Projektant: D. D. - ARCH s. r. o.
B10: IČO: | F10: DIČ:
B11: Dodávateľ: ...
B12: IČO: | F12: DIČ:
B14: ZRN | C14: Montáž | D14: Materiál | E14: ZRN spolu | F14: Ostatné náklady | P14: 0
B15: HSV | C15: ='SO 04 - KANALIZAČNÁ PRÍPO17196'!E61 -> 0 | D15: ='SO 04 - KANALIZAČNÁ PRÍPO17196'!F61 -> 0 | E15: ='SO 04 - KANALIZAČNÁ PRÍPO17196'!G61 -> 0
B16: PSV | F16: Komplet. činnosť | P16: =(SUM(Z78:Z131)) -> 0
B17: MNT | F17: HZS | P17: 0
B18: OST
B19: VN
B20: Spolu | E20: =SUM(E15:E19) -> 0 | F20: Spolu | P20: =SUM(P14:P19) -> 0
B21: Zariadenie staveniska 0% | E21: =((E15*U22*0)+(E16*V22*0)+(E17*W22*0))/100 -> 0 | F21: Sťažené podmienky dopravy 0% | P21: =((E15*X22*0)+(E16*Y22*0)+(E17*Z22*0))/100 -> 0
B22: Sťažené výrobné podmienky 0% | E22: =((E15*U23*0)+(E16*V23*0)+(E17*W23*0))/100 -> 0 | F22: Horské oblasti 0% | P22: =((E15*X23*0)+(E16*Y23*0)+(E17*Z23*0))/100 -> 0 | U22: 1 | V22: 1 | W22: 1 | X22: 1 | Y22: 1 | Z22: 1
B23: Prevádzkové vplyvy 0% | E23: =((E15*U24*0)+(E16*V24*0)+(E17*W24*0))/100 -> 0 | F23: Mimostavenisková doprava 0% | P23: =((E15*X24*0)+(E16*Y24*0)+(E17*Z24*0))/100 -> 0 | U23: 1 | V23: 1 | W23: 0 | X23: 1 | Y23: 1 | Z23: 1
U24: 1 | V24: 1 | W24: 1 | X24: 1 | Y24: 1 | Z24: 0
F25: Spolu | P25: =SUM(E21:E24)+SUM(P21:P24) -> 0
B26: Projektant,rozpočtár | F26: Celkové náklady
F27: Celkové náklady bez DPH | P27: =E20+P20+E25+P25 -> 0
F28: DPH 23% z | H28: =P27-SUM('SO 04 - KANALIZAČNÁ PRÍPO17196'!K78:'SO 04 - KANALIZAČNÁ PRÍPO17196'!K131) -> 0 | P28: =ROUND(((ROUND(H28,2)*23)*1/100),2) -> 0
F29: DPH 0% z | H29: =SUM('SO 04 - KANALIZAČNÁ PRÍPO17196'!K78:'SO 04 - KANALIZAČNÁ PRÍPO17196'!K131) -> 0 | P29: =ROUND(((ROUND(H29,2)*0)/100),2) -> 0
F30: Spolu v EUR | P30: =SUM(P27:P29) -> 0
B32: Odberateľ | E32: Dodávateľ
B44: Rekapitulácia rozpočtu
B46: Odberateľ: Športový klub Miko fit-box | F46: Spracoval: Ing. Ján Halgaš
B47: Projektant: D. D. - ARCH s. r. o. | F47: Ks:
B48: Dodávateľ: ... | F48: Dátum: 21. 1. 2025
B49: Stavba Centrum služieb pre zlepšenie fyzickej a pohybovej zdatnosti obyvateľov
B50: Objekt SO 04 - KANALIZAČNÁ PRÍPOJKA
B53: Prehľad rozpočtových nákladov
E54: Montáž | F54: Materiál | G54: Spolu | H54: Hmotnosť (T) | I54: Sutina (T)
B55: Práce HSV
B56: ZEMNÉ PRÁCE | E56: ='SO 04 - KANALIZAČNÁ PRÍPO17196'!L94 -> 0 | F56: ='SO 04 - KANALIZAČNÁ PRÍPO17196'!M94 -> 0 | G56: ='SO 04 - KANALIZAČNÁ PRÍPO17196'!I94 -> 0 | H56: ='SO 04 - KANALIZAČNÁ PRÍPO17196'!S94 -> 0.08 | I56: ='SO 04 - KANALIZAČNÁ PRÍPO17196'!V94 -> 1.11
B57: VODOROVNÉ KONŠTRUKCIE | E57: ='SO 04 - KANALIZAČNÁ PRÍPO17196'!L98 -> 0 | F57: ='SO 04 - KANALIZAČNÁ PRÍPO17196'!M98 -> 0 | G57: ='SO 04 - KANALIZAČNÁ PRÍPO17196'!I98 -> 0 | H57: ='SO 04 - KANALIZAČNÁ PRÍPO17196'!S98 -> 6.55 | I57: ='SO 04 - KANALIZAČNÁ PRÍPO17196'!V98 -> 0
B58: SPEVNENÉ PLOCHY | E58: ='SO 04 - KANALIZAČNÁ PRÍPO17196'!L105 -> 0 | F58: ='SO 04 - KANALIZAČNÁ PRÍPO17196'!M105 -> 0 | G58: ='SO 04 - KANALIZAČNÁ PRÍPO17196'!I105 -> 0 | H58: ='SO 04 - KANALIZAČNÁ PRÍPO17196'!S105 -> 0.35 | I58: ='SO 04 - KANALIZAČNÁ PRÍPO17196'!V105 -> 0
B59: POTRUBNÉ ROZVODY | E59: ='SO 04 - KANALIZAČNÁ PRÍPO17196'!L125 -> 0 | F59: ='SO 04 - KANALIZAČNÁ PRÍPO17196'!M125 -> 0 | G59: ='SO 04 - KANALIZAČNÁ PRÍPO17196'!I125 -> 0 | H59: ='SO 04 - KANALIZAČNÁ PRÍPO17196'!S125 -> 0 | I59: ='SO 04 - KANALIZAČNÁ PRÍPO17196'!V125 -> 0
B60: OSTATNÉ KONŠTRUKCIE A PRÁCE | E60: ='SO 04 - KANALIZAČNÁ PRÍPO17196'!L129 -> 0 | F60: ='SO 04 - KANALIZAČNÁ PRÍPO17196'!M129 -> 0 | G60: ='SO 04 - KANALIZAČNÁ PRÍPO17196'!I129 -> 0 | H60: ='SO 04 - KANALIZAČNÁ PRÍPO17196'!S129 -> 0 | I60: ='SO 04 - KANALIZAČNÁ PRÍPO17196'!V129 -> 0
B61: Práce HSV | E61: ='SO 04 - KANALIZAČNÁ PRÍPO17196'!L131 -> 0 | F61: ='SO 04 - KANALIZAČNÁ PRÍPO17196'!M131 -> 0 | G61: ='SO 04 - KANALIZAČNÁ PRÍPO17196'!I131 -> 0 | H61: ='SO 04 - KANALIZAČNÁ PRÍPO17196'!S131 -> 6.98 | I61: ='SO 04 - KANALIZAČNÁ PRÍPO17196'!V131 -> 1.11
B63: Celkom v EUR | E63: ='SO 04 - KANALIZAČNÁ PRÍPO17196'!L132 -> 0 | F63: ='SO 04 - KANALIZAČNÁ PRÍPO17196'!M132 -> 0 | G63: ='SO 04 - KANALIZAČNÁ PRÍPO17196'!I132 -> 0 | H63: ='SO 04 - KANALIZAČNÁ PRÍPO17196'!S132 -> 6.98 | I63: ='SO 04 - KANALIZAČNÁ PRÍPO17196'!V132 -> 1.11
B67: Rozpočet
B69: Odberateľ: Športový klub Miko fit-box | H69: Spracoval: | I69: Ing. Ján Halgaš
B70: Projektant: D. D. - ARCH s. r. o. | H70: Ks:
B71: Dodávateľ: ... | H71: Dátum: | I71: 21. 1. 2025
B72: Zákazka Centrum služieb pre zlepšenie fyzickej a pohybovej zdatnosti obyvateľov
B73: Objekt SO 04 - KANALIZAČNÁ PRÍPOJKA
B76: Prehľad rozpočtových nákladov
B77: Por.č. | C77: Kód položky | D77: Názov | F77: Mj | G77: Množstvo | H77: Cena/Mj | I77: Cena celkom | P77: Hmotnosť/Mj | S77: Hmotnosť | V77: Sutina
D78: Práce HSV
C79: 1 | D79: ZEMNÉ PRÁCE
B80: 1 | C80: 121101111.S | D80: Odstránenie ornice s vodor. premiestn. na hromady, so zložením na vzdialenosť do 100 m a do 100m3 | F80: m3 | G80: 7.3 | I80: =ROUND(G80*(H80),2) -> 0 | J80: =ROUND(G80*(N80),2) -> 9.27 | K80: =ROUND(G80*(O80),2) -> 0 | L80: =ROUND(G80*(H80),2) -> 0 | N80: 1.27 | P80: 0 | R80: 0 | S80: =ROUND(G80*(P80),3) -> 0 | V80: =ROUND(G80*(X80),3) -> 0 | X80: 0 | Z80: 0
B81: 2 | C81: 130001101.S | D81: Príplatok k cenám za sťaženie výkopu v blízkosti podzemného vedenia alebo výbušbnín - pre všetky triedy | F81: m3 | G81: 2.1 | I81: =ROUND(G81*(H81),2) -> 0 | J81: =ROUND(G81*(N81),2) -> 53.26 | K81: =ROUND(G81*(O81),2) -> 0 | L81: =ROUND(G81*(H81),2) -> 0 | N81: 25.36 | P81: 0 | R81: 0 | S81: =ROUND(G81*(P81),3) -> 0 | V81: =ROUND(G81*(X81),3) -> 0 | X81: 0 | Z81: 0
B82: 3 | C82: 132201101.S | D82: Výkop ryhy do šírky 600 mm v horn.3 do 100 m3 | F82: m3 | G82: 25.96 | I82: =ROUND(G82*(H82),2) -> 0 | J82: =ROUND(G82*(N82),2) -> 1063.32 | K82: =ROUND(G82*(O82),2) -> 0 | L82: =ROUND(G82*(H82),2) -> 0 | N82: 40.96 | P82: 0 | R82: 0 | S82: =ROUND(G82*(P82),3) -> 0 | V82: =ROUND(G82*(X82),3) -> 0 | X82: 0 | Z82: 0
B83: 4 | C83: 132201109.S | D83: Príplatok k cene za lepivosť pri hĺbení rýh šírky do 600 mm zapažených i nezapažených s urovnaním dna v hornine 3 | F83: m3 | G83: 25.96 | I83: =ROUND(G83*(H83),2) -> 0 | J83: =ROUND(G83*(N83),2) -> 300.36 | K83: =ROUND(G83*(O83),2) -> 0 | L83: =ROUND(G83*(H83),2) -> 0 | N83: 11.57 | P83: 0 | R83: 0 | S83: =ROUND(G83*(P83),3) -> 0 | V83: =ROUND(G83*(X83),3) -> 0 | X83: 0 | Z83: 0
B84: 5 | C84: 132211101.S | D84: Hĺbenie rýh šírky do 600 mm v hornine tr.3 súdržných - ručným náradím | F84: m3 | G84: 3.15 | I84: =ROUND(G84*(H84),2) -> 0 | J84: =ROUND(G84*(N84),2) -> 311.54 | K84: =ROUND(G84*(O84),2) -> 0 | L84: =ROUND(G84*(H84),2) -> 0 | N84: 98.9 | P84: 0 | R84: 0 | S84: =ROUND(G84*(P84),3) -> 0 | V84: =ROUND(G84*(X84),3) -> 0 | X84: 0 | Z84: 0
B85: 6 | C85: 151101101.S | D85: Paženie a rozopretie stien rýh pre podzemné vedenie, príložné do 2 m | F85: m2 | G85: 55.685 | I85: =ROUND(G85*(H85),2) -> 0 | J85: =ROUND(G85*(N85),2) -> 295.13 | K85: =ROUND(G85*(O85),2) -> 0 | L85: =ROUND(G85*(H85),2) -> 0 | N85: 5.3 | P85: 0.00097 | R85: 0.00097 | S85: =ROUND(G85*(P85),3) -> 0.054 | V85: =ROUND(G85*(X85),3) -> 0 | X85: 0 | Z85: 0
B86: 7 | C86: 151101102.S | D86: Paženie a rozopretie stien rýh pre podzemné vedenie, príložné do 4 m | F86: m2 | G86: 28.44 | I86: =ROUND(G86*(H86),2) -> 0 | J86: =ROUND(G86*(N86),2) -> 270.75 | K86: =ROUND(G86*(O86),2) -> 0 | L86: =ROUND(G86*(H86),2) -> 0 | N86: 9.52 | P86: 0.00085 | R86: 0.00085 | S86: =ROUND(G86*(P86),3) -> 0.024 | V86: =ROUND(G86*(X86),3) -> 0 | X86: 0 | Z86: 0
B87: 8 | C87: 151101111.S | D87: Odstránenie paženia rýh pre podzemné vedenie, príložné hĺbky do 2 m | F87: m2 | G87: 55.685 | I87: =ROUND(G87*(H87),2) -> 0 | J87: =ROUND(G87*(N87),2) -> 189.33 | K87: =ROUND(G87*(O87),2) -> 0 | L87: =ROUND(G87*(H87),2) -> 0 | N87: 3.4 | P87: 0 | R87: 0 | S87: =ROUND(G87*(P87),3) -> 0 | V87: =ROUND(G87*(X87),3) -> 0 | X87: 0 | Z87: 0
B88: 9 | C88: 151101112.S | D88: Odstránenie paženia rýh pre podzemné vedenie, príložné hĺbky do 4 m | F88: m2 | G88: 28.44 | I88: =ROUND(G88*(H88),2) -> 0 | J88: =ROUND(G88*(N88),2) -> 159.26 | K88: =ROUND(G88*(O88),2) -> 0 | L88: =ROUND(G88*(H88),2) -> 0 | N88: 5.6 | P88: 0 | R88: 0 | S88: =ROUND(G88*(P88),3) -> 0 | V88: =ROUND(G88*(X88),3) -> 0 | X88: 0 | Z88: 0
B89: 10 | C89: 174101001.S | D89: Zásyp sypaninou so zhutnením jám, šachiet, rýh, zárezov alebo okolo objektov do 100 m3 | F89: m3 | G89: 15.019 | I89: =ROUND(G89*(H89),2) -> 0 | J89: =ROUND(G89*(N89),2) -> 63.53 | K89: =ROUND(G89*(O89),2) -> 0 | L89: =ROUND(G89*(H89),2) -> 0 | N89: 4.23 | P89: 0 | R89: 0 | S89: =ROUND(G89*(P89),3) -> 0 | V89: =ROUND(G89*(X89),3) -> 0 | X89: 0 | Z89: 0
B90: 11 | C90: 175101102.S | D90: Obsyp potrubia sypaninou z vhodných hornín 1 až 4 s prehodením sypaniny | F90: m3 | G90: 10.626 | I90: =ROUND(G90*(H90),2) -> 0 | J90: =ROUND(G90*(N90),2) -> 318.25 | K90: =ROUND(G90*(O90),2) -> 0 | L90: =ROUND(G90*(H90),2) -> 0 | N90: 29.95 | P90: 0 | R90: 0 | S90: =ROUND(G90*(P90),3) -> 0 | V90: =ROUND(G90*(X90),3) -> 0 | X90: 0 | Z90: 0
B91: 12 | C91: 181301103.S | D91: Rozprestretie ornice v rovine , plocha do 500 m2, hr.do 200 mm | F91: m2 | G91: 36.5 | I91: =ROUND(G91*(H91),2) -> 0 | J91: =ROUND(G91*(N91),2) -> 169.73 | K91: =ROUND(G91*(O91),2) -> 0 | L91: =ROUND(G91*(H91),2) -> 0 | N91: 4.65 | P91: 0 | R91: 0 | S91: =ROUND(G91*(P91),3) -> 0 | V91: =ROUND(G91*(X91),3) -> 0 | X91: 0 | Z91: 0
... B93: 14 | C93: 113107142.S | D93: Odstránenie krytu asfaltového v ploche do 200 m2, hr. nad 50 do 100 mm, -0,25000t | F93: m2 | G93: 2 | I93: =ROUND(G93*(H93),2) -> 0 | J93: =ROUND(G93*(N93),2) -> 15.6 | K93: =ROUND(G93*(O93),2) -> 0 | L93: =ROUND(G93*(H93),2) -> 0 | N93: 7.8 | P93: 0 | R93: 0 | S93: =ROUND(G93*(P93),3) -> 0 | V93: =ROUND(G93*(X93),3) -> 0.362 | X93: 0.181 | Z93: 0
C94: 1 | D94: ZEMNÉ PRÁCE | I94: =ROUND((SUM(I79:I93))/1,2) -> 0 | L94: =ROUND((SUM(L79:L93))/1,2) -> 0 | M94: =ROUND((SUM(M79:M93))/1,2) -> 0 | S94: =ROUND((SUM(S79:S93))/1,2) -> 0.08 | V94: =ROUND((SUM(V79:V93))/1,2) -> 1.11
C96: 4 | D96: VODOROVNÉ KONŠTRUKCIE
B97: 15 | C97: 451572111.S | D97: Lôžko pod potrubie, stoky a drobné objekty, v otvorenom výkope z kameniva drobného ťaženého 0-4 mm | F97: m3 | G97: 3.465 | I97: =ROUND(G97*(H97),2) -> 0 | J97: =ROUND(G97*(N97),2) -> 213.51 | K97: =ROUND(G97*(O97),2) -> 0 | L97: =ROUND(G97*(H97),2) -> 0 | N97: 61.62 | P97: 1.89077 | R97: 1.89077 | S97: =ROUND(G97*(P97),3) -> 6.552 | V97: =ROUND(G97*(X97),3) -> 0 | X97: 0 | Z97: 0
C98: 4 | D98: VODOROVNÉ KONŠTRUKCIE | I98: =ROUND((SUM(I96:I97))/1,2) -> 0 | L98: =ROUND((SUM(L96:L97))/1,2) -> 0 | M98: =ROUND((SUM(M96:M97))/1,2) -> 0 | S98: =ROUND((SUM(S96:S97))/1,2) -> 6.55 | V98: =ROUND((SUM(V96:V97))/1,2) -> 0
C100: 5 | D100: SPEVNENÉ PLOCHY
B101: 16 | C101: 569751111.S | D101: Spevnenie krajníc alebo komun. pre peších s rozpr. a zhutnením, kamenivom drveným hr. 150 mm | F101: m2 | G101: 1.2 | I101: =ROUND(G101*(H101),2) -> 0 | J101: =ROUND(G101*(N101),2) -> 13.61 | K101: =ROUND(G101*(O101),2) -> 0 | L101: =ROUND(G101*(H101),2) -> 0 | N101: 11.34 | P101: 0.2916 | R101: 0.2916 | S101: =ROUND(G101*(P101),3) -> 0.35 | V101: =ROUND(G101*(X101),3) -> 0 | X101: 0 | Z101: 0
B102: 17 | C102: 566902132.S | D102: Vyspravenie podkladu po prekopoch inžinierskych sietí plochy do 15 m2 kamenivom hrubým drveným, po zhutnení hr. 150 mm | F102: m2 | G102: 2 | I102: =ROUND(G102*(H102),2) -> 0 | J102: =ROUND(G102*(N102),2) -> 29.06 | K102: =ROUND(G102*(O102),2) -> 0 | L102: =ROUND(G102*(H102),2) -> 0 | N102: 14.53 | P102: 0 | R102: 0 | S102: =ROUND(G102*(P102),3) -> 0 | V102: =ROUND(G102*(X102),3) -> 0 | X102: 0 | Z102: 0
B103: 18 | C103: 566902151.S | D103: Vyspravenie podkladu po prekopoch inžinierskych sietí plochy do 15 m2 asfaltovým betónom ACP, po zhutnení hr. 100 mm | F103: m2 | G103: 2 | I103: =ROUND(G103*(H103),2) -> 0 | J103: =ROUND(G103*(N103),2) -> 96.3 | K103: =ROUND(G103*(O103),2) -> 0 | L103: =ROUND(G103*(H103),2) -> 0 | N103: 48.15 | P103: 0 | R103: 0 | S103: =ROUND(G103*(P103),3) -> 0 | V103: =ROUND(G103*(X103),3) -> 0 | X103: 0 | Z103: 0
B104: 19 | C104: 566902161.S | D104: Vyspravenie podkladu po prekopoch inžinierskych sietí plochy do 15 m2 podkladovým betónom PB I tr. C 20/25 hr. 100 mm | F104: m2 | G104: 2 | I104: =ROUND(G104*(H104),2) -> 0 | J104: =ROUND(G104*(N104),2) -> 46.7 | K104: =ROUND(G104*(O104),2) -> 0 | L104: =ROUND(G104*(H104),2) -> 0 | N104: 23.35 | P104: 0 | R104: 0 | S104: =ROUND(G104*(P104),3) -> 0 | V104: =ROUND(G104*(X104),3) -> 0 | X104: 0 | Z104: 0
C105: 5 | D105: SPEVNENÉ PLOCHY | I105: =ROUND((SUM(I100:I104))/1,2) -> 0 | L105: =ROUND((SUM(L100:L104))/1,2) -> 0 | M105: =ROUND((SUM(M100:M104))/1,2) -> 0 | S105: =ROUND((SUM(S100:S104))/1,2) -> 0.35 | V105: =ROUND((SUM(V100:V104))/1,2) -> 0
C107: 8 | D107: POTRUBNÉ ROZVODY
B108: 20 | C108: 892311000.S | D108: Skúška tesnosti kanalizácie D 150 mm | F108: m | G108: 38.5 | I108: =ROUND(G108*(H108),2) -> 0 | J108: =ROUND(G108*(N108),2) -> 71.61 | K108: =ROUND(G108*(O108),2) -> 0 | L108: =ROUND(G108*(H108),2) -> 0 | N108: 1.86 | P108: 0 | R108: 0 | S108: =ROUND(G108*(P108),3) -> 0 | V108: =ROUND(G108*(X108),3) -> 0 | X108: 0 | Z108: 0
B109: 21 | C109: 894431141.S | D109: Montáž revíznej šachty z PVC, DN 400/160 (DN šachty/DN potr. ved.), tlak 40 t, hĺ. 850 do 1200mm | F109: ks | G109: 1 | I109: =ROUND(G109*(H109),2) -> 0 | J109: =ROUND(G109*(N109),2) -> 49.78 | K109: =ROUND(G109*(O109),2) -> 0 | L109: =ROUND(G109*(H109),2) -> 0 | N109: 49.78 | P109: 3e-05 | R109: 3e-05 | S109: =ROUND(G109*(P109),3) -> 0 | V109: =ROUND(G109*(X109),3) -> 0 | X109: 0 | Z109: 0
B110: 22 | C110: 894431142.S | D110: Montáž revíznej šachty z PVC, DN 400/160 (DN šachty/DN potr. ved.), tlak 40 t, hĺ. 1100 do 1500mm | F110: ks | G110: 1 | I110: =ROUND(G110*(H110),2) -> 0 | J110: =ROUND(G110*(N110),2) -> 54.77 | K110: =ROUND(G110*(O110),2) -> 0 | L110: =ROUND(G110*(H110),2) -> 0 | N110: 54.77 | P110: 3e-05 | R110: 3e-05 | S110: =ROUND(G110*(P110),3) -> 0 | V110: =ROUND(G110*(X110),3) -> 0 | X110: 0 | Z110: 0
B111: 23 | C111: 894431144.S | D111: Montáž revíznej šachty z PVC, DN 400/160 (DN šachty/DN potr. ved.), tlak 40 t, hĺ. 1600 do 2000mm | F111: ks | G111: 1 | I111: =ROUND(G111*(H111),2) -> 0 | J111: =ROUND(G111*(N111),2) -> 64.77 | K111: =ROUND(G111*(O111),2) -> 0 | L111: =ROUND(G111*(H111),2) -> 0 | N111: 64.77 | P111: 3e-05 | R111: 3e-05 | S111: =ROUND(G111*(P111),3) -> 0 | V111: =ROUND(G111*(X111),3) -> 0 | X111: 0 | Z111: 0
B112: 24 | C112: 871326026.S | D112: Montáž kanalizačného PVC-U potrubia hladkého plnostenného DN 150 | F112: m | G112: 38.5 | I112: =ROUND(G112*(H112),2) -> 0 | J112: =ROUND(G112*(N112),2) -> 28.88 | K112: =ROUND(G112*(O112),2) -> 0 | L112: =ROUND(G112*(H112),2) -> 0 | N112: 0.75 | P112: 0 | R112: 0 | S112: =ROUND(G112*(P112),3) -> 0 | V112: =ROUND(G112*(X112),3) -> 0 | X112: 0 | Z112: 0
B113: 25 | C113: 877315121.S | D113: Výrez a montáž odbočnej tvarovky na potrubí z kanalizačných rúr z tvrdého PVC DN 150 | F113: ks | G113: 1 | I113: =ROUND(G113*(H113),2) -> 0 | J113: =ROUND(G113*(N113),2) -> 15.66 | K113: =ROUND(G113*(O113),2) -> 0 | L113: =ROUND(G113*(H113),2) -> 0 | N113: 15.66 | P113: 0 | R113: 0 | S113: =ROUND(G113*(P113),3) -> 0 | V113: =ROUND(G113*(X113),3) -> 0 | X113: 0 | Z113: 0
B114: 26 | C114: 877315122.S | D114: Montáž nalepovacej odbočnej tvarovky na potrubí z kanalizačných rúr z PVC DN 150 | F114: ks | G114: 1 | I114: =ROUND(G114*(H114),2) -> 0 | J114: =ROUND(G114*(N114),2) -> 15.71 | K114: =ROUND(G114*(O114),2) -> 0 | L114: =ROUND(G114*(H114),2) -> 0 | N114: 15.71 | P114: 0 | R114: 0 | S114: =ROUND(G114*(P114),3) -> 0 | V114: =ROUND(G114*(X114),3) -> 0 | X114: 0 | Z114: 0
B115: 27 | C115: 877326004.S | D115: Montáž kanalizačného PVC-U kolena DN 150 | F115: ks | G115: 1 | I115: =ROUND(G115*(H115),2) -> 0 | J115: =ROUND(G115*(N115),2) -> 5.09 | K115: =ROUND(G115*(O115),2) -> 0 | L115: =ROUND(G115*(H115),2) -> 0 | N115: 5.09 | P115: 0 | R115: 0 | S115: =ROUND(G115*(P115),3) -> 0 | V115: =ROUND(G115*(X115),3) -> 0 | X115: 0 | Z115: 0
B116: 28 | C116: 11008941001 | D116: AWADUKT koleno s EPDM tesniacim krúžkom, DN/OD 160 45°, REHAU | F116: ks | G116: 1 | I116: =ROUND(G116*(H116),2) -> 0 | J116: =ROUND(G116*(N116),2) -> 9.4 | K116: =ROUND(G116*(O116),2) -> 0 | M116: =ROUND(G116*(H116),2) -> 0 | N116: 9.4 | P116: 0 | R116: 0 | S116: =ROUND(G116*(P116),3) -> 0 | V116: =ROUND(G116*(X116),3) -> 0 | X116: 0 | Z116: 0
B117: 29 | C117: 11715711315 | D117: Pripojenie kanalizačných potrubí - 315, DN/OD 160, REHAU | F117: ks | G117: 1 | I117: =ROUND(G117*(H117),2) -> 0 | J117: =ROUND(G117*(N117),2) -> 118 | K117: =ROUND(G117*(O117),2) -> 0 | M117: =ROUND(G117*(H117),2) -> 0 | N117: 118 | P117: 0 | R117: 0 | S117: =ROUND(G117*(P117),3) -> 0 | V117: =ROUND(G117*(X117),3) -> 0 | X117: 0 | Z117: 0
B118: 30 | C118: 286110002700 | D118: Rúra kanalizačná PVC-U gravitačná, hladká SN8 - KG, SW - plnostenná, DN 160, dĺ. 6 m, WAVIN | F118: ks | G118: 6.43 | I118: =ROUND(G118*(H118),2) -> 0 | J118: =ROUND(G118*(N118),2) -> 724.21 | K118: =ROUND(G118*(O118),2) -> 0 | M118: =ROUND(G118*(H118),2) -> 0 | N118: 112.63 | P118: 0 | R118: 0 | S118: =ROUND(G118*(P118),3) -> 0 | V118: =ROUND(G118*(X118),3) -> 0 | X118: 0 | Z118: 0
B119: 31 | C119: RF000340 | D119: Liat. poklop D400 na tel. rúru DN 425 | F119: ks | G119: 3 | I119: =ROUND(G119*(H119),2) -> 0 | J119: =ROUND(G119*(N119),2) -> 507.6 | K119: =ROUND(G119*(O119),2) -> 0 | M119: =ROUND(G119*(H119),2) -> 0 | N119: 169.2 | P119: 0 | R119: 0 | S119: =ROUND(G119*(P119),3) -> 0 | V119: =ROUND(G119*(X119),3) -> 0 | X119: 0 | Z119: 0
B120: 32 | C120: RF000910 | D120: Gum. tesnenie šachtovej rúry 425 | F120: ks | G120: 3 | I120: =ROUND(G120*(H120),2) -> 0 | J120: =ROUND(G120*(N120),2) -> 42.3 | K120: =ROUND(G120*(O120),2) -> 0 | M120: =ROUND(G120*(H120),2) -> 0 | N120: 14.1 | P120: 0 | R120: 0 | S120: =ROUND(G120*(P120),3) -> 0 | V120: =ROUND(G120*(X120),3) -> 0 | X120: 0 | Z120: 0
B121: 33 | C121: RF001100 | D121: Teleskopická rúra s tesnením 425x375 | F121: ks | G121: 3 | I121: =ROUND(G121*(H121),2) -> 0 | J121: =ROUND(G121*(N121),2) -> 138.9 | K121: =ROUND(G121*(O121),2) -> 0 | M121: =ROUND(G121*(H121),2) -> 0 | N121: 46.3 | P121: 0 | R121: 0 | S121: =ROUND(G121*(P121),3) -> 0 | V121: =ROUND(G121*(X121),3) -> 0 | X121: 0 | Z121: 0
B122: 34 | C122: RF010310 | D122: TEGRA 425 - Šachtové dno prietočné 160 x 0° | F122: ks | G122: 2 | I122: =ROUND(G122*(H122),2) -> 0 | J122: =ROUND(G122*(N122),2) -> 381.6 | K122: =ROUND(G122*(O122),2) -> 0 | M122: =ROUND(G122*(H122),2) -> 0 | N122: 190.8 | P122: 0 | R122: 0 | S122: =ROUND(G122*(P122),3) -> 0 | V122: =ROUND(G122*(X122),3) -> 0 | X122: 0 | Z122: 0
B123: 35 | C123: RF010340 | D123: TEGRA 425 - Šachtové dno prietočné 160 x 90° | F123: ks | G123: 1 | I123: =ROUND(G123*(H123),2) -> 0 | J123: =ROUND(G123*(N123),2) -> 199.9 | K123: =ROUND(G123*(O123),2) -> 0 | M123: =ROUND(G123*(H123),2) -> 0 | N123: 199.9 | P123: 0 | R123: 0 | S123: =ROUND(G123*(P123),3) -> 0 | V123: =ROUND(G123*(X123),3) -> 0 | X123: 0 | Z123: 0
B124: 36 | C124: RP000470 | D124: TEGRA 425 - Vlnovcová šachtová rúra ID425 x 6000 | F124: m | G124: 1 | I124: =ROUND(G124*(H124),2) -> 0 | J124: =ROUND(G124*(N124),2) -> 65.1 | K124: =ROUND(G124*(O124),2) -> 0 | M124: =ROUND(G124*(H124),2) -> 0 | N124: 65.1 | P124: 0 | R124: 0 | S124: =ROUND(G124*(P124),3) -> 0 | V124: =ROUND(G124*(X124),3) -> 0 | X124: 0 | Z124: 0
C125: 8 | D125: POTRUBNÉ ROZVODY | I125: =ROUND((SUM(I107:I124))/1,2) -> 0 | L125: =ROUND((SUM(L107:L124))/1,2) -> 0 | M125: =ROUND((SUM(M107:M124))/1,2) -> 0 | S125: =ROUND((SUM(S107:S124))/1,2) -> 0 | V125: =ROUND((SUM(V107:V124))/1,2) -> 0
C127: 9 | D127: OSTATNÉ KONŠTRUKCIE A PRÁCE
B128: 37 | C128: 919735114.S | D128: Rezanie existujúceho asfaltového krytu alebo podkladu hĺbky nad 150 do 200 mm | F128: m | G128: 4 | I128: =ROUND(G128*(H128),2) -> 0 | J128: =ROUND(G128*(N128),2) -> 42.6 | K128: =ROUND(G128*(O128),2) -> 0 | L128: =ROUND(G128*(H128),2) -> 0 | N128: 10.65 | P128: 7e-05 | R128: 7e-05 | S128: =ROUND(G128*(P128),3) -> 0 | V128: =ROUND(G128*(X128),3) -> 0 | X128: 0 | Z128: 0
...

Sheet SO 05 - OEZ (ODBERNÉ ELEK17197
B1: Krycí list rozpočtu | E1: Rekapitulácia rozpočtu | H1: Rozpočet | W1: 30.126
B2: Krycí list rozpočtu
B3: Stavba Centrum služieb pre zlepšenie fyzickej a pohybovej zdatnosti obyvateľov
B4: Objekt SO 05 - OEZ (ODBERNÉ ELEKTRICKÉ ZARIADENIE) | F4: Miesto:
F5: Ks:
B6: Zákazka: | D6: Spracoval: Ing. Ján Halgaš | F6: Dňa | G6: 21. 1. 2025
B7: Odberateľ: Športový klub Miko fit-box
B8: IČO: 42383625 | F8: DIČ:
B9: Projektant: D. D. - ARCH s. r. o.
B10: IČO: | F10: DIČ:
B11: Dodávateľ: ...
B12: IČO: | F12: DIČ:
B14: ZRN | C14: Montáž | D14: Materiál | E14: ZRN spolu | F14: Ostatné náklady | P14: 0
B15: HSV
B16: PSV | F16: Komplet. činnosť | P16: =(SUM(Z75:Z99)) -> 0
B17: MNT | C17: ='SO 05 - OEZ (ODBERNÉ ELEK17197'!E58 -> 0 | D17: ='SO 05 - OEZ (ODBERNÉ ELEK17197'!F58 -> 0 | E17: ='SO 05 - OEZ (ODBERNÉ ELEK17197'!G58 -> 0 | F17: HZS | P17: 0
B18: OST
B19: VN
B20: Spolu | E20: =SUM(E15:E19) -> 0 | F20: Spolu | P20: =SUM(P14:P19) -> 0
B21: Zariadenie staveniska 0% | E21: =((E15*U22*0)+(E16*V22*0)+(E17*W22*0))/100 -> 0 | F21: Sťažené podmienky dopravy 0% | P21: =((E15*X22*0)+(E16*Y22*0)+(E17*Z22*0))/100 -> 0
B22: Sťažené výrobné podmienky 0% | E22: =((E15*U23*0)+(E16*V23*0)+(E17*W23*0))/100 -> 0 | F22: Horské oblasti 0% | P22: =((E15*X23*0)+(E16*Y23*0)+(E17*Z23*0))/100 -> 0 | U22: 1 | V22: 1 | W22: 1 | X22: 1 | Y22: 1 | Z22: 1
B23: Prevádzkové vplyvy 0% | E23: =((E15*U24*0)+(E16*V24*0)+(E17*W24*0))/100 -> 0 | F23: Mimostavenisková doprava 0% | P23: =((E15*X24*0)+(E16*Y24*0)+(E17*Z24*0))/100 -> 0 | U23: 1 | V23: 1 | W23: 0 | X23: 1 | Y23: 1 | Z23: 1
U24: 1 | V24: 1 | W24: 1 | X24: 1 | Y24: 1 | Z24: 0
F25: Spolu | P25: =SUM(E21:E24)+SUM(P21:P24) -> 0
B26: Projektant,rozpočtár | F26: Celkové náklady
F27: Celkové náklady bez DPH | P27: =E20+P20+E25+P25 -> 0
F28: DPH 23% z | H28: =P27-SUM('SO 05 - OEZ (ODBERNÉ ELEK17197'!K75:'SO 05 - OEZ (ODBERNÉ ELEK17197'!K99) -> 0 | P28: =ROUND(((ROUND(H28,2)*23)*1/100),2) -> 0
F29: DPH 0% z | H29: =SUM('SO 05 - OEZ (ODBERNÉ ELEK17197'!K75:'SO 05 - OEZ (ODBERNÉ ELEK17197'!K99) -> 0 | P29: =ROUND(((ROUND(H29,2)*0)/100),2) -> 0
F30: Spolu v EUR | P30: =SUM(P27:P29) -> 0
B32: Odberateľ | E32: Dodávateľ
B44: Rekapitulácia rozpočtu
B46: Odberateľ: Športový klub Miko fit-box | F46: Spracoval: Ing. Ján Halgaš
B47: Projektant: D. D. - ARCH s. r. o. | F47: Ks:
B48: Dodávateľ: ... | F48: Dátum: 21. 1. 2025
B49: Stavba Centrum služieb pre zlepšenie fyzickej a pohybovej zdatnosti obyvateľov
B50: Objekt SO 05 - OEZ (ODBERNÉ ELEKTRICKÉ ZARIADENIE)
B53: Prehľad rozpočtových nákladov
E54: Montáž | F54: Materiál | G54: Spolu | H54: Hmotnosť (T) | I54: Sutina (T)
B55: Montážne práce
B56: M-21 ELEKTROMONTÁŽE | E56: ='SO 05 - OEZ (ODBERNÉ ELEK17197'!L88 -> 0 | F56: ='SO 05 - OEZ (ODBERNÉ ELEK17197'!M88 -> 0 | G56: ='SO 05 - OEZ (ODBERNÉ ELEK17197'!I88 -> 0 | H56: ='SO 05 - OEZ (ODBERNÉ ELEK17197'!S88 -> 0.02 | I56: ='SO 05 - OEZ (ODBERNÉ ELEK17197'!V88 -> 0
B57: M-46 ZEMNÉ PRÁCE PRI EXTERNÝCH MONTÁŽACH | E57: ='SO 05 - OEZ (ODBERNÉ ELEK17197'!L97 -> 0 | F57: ='SO 05 - OEZ (ODBERNÉ ELEK17197'!M97 -> 0 | G57: ='SO 05 - OEZ (ODBERNÉ ELEK17197'!I97 -> 0 | H57: ='SO 05 - OEZ (ODBERNÉ ELEK17197'!S97 -> 3.34 | I57: ='SO 05 - OEZ (ODBERNÉ ELEK17197'!V97 -> 0
B58: Montážne práce | E58: ='SO 05 - OEZ (ODBERNÉ ELEK17197'!L99 -> 0 | F58: ='SO 05 - OEZ (ODBERNÉ ELEK17197'!M99 -> 0 | G58: ='SO 05 - OEZ (ODBERNÉ ELEK17197'!I99 -> 0 | H58: ='SO 05 - OEZ (ODBERNÉ ELEK17197'!S99 -> 3.36 | I58: ='SO 05 - OEZ (ODBERNÉ ELEK17197'!V99 -> 0
B60: Celkom v EUR | E60: ='SO 05 - OEZ (ODBERNÉ ELEK17197'!L100 -> 0 | F60: ='SO 05 - OEZ (ODBERNÉ ELEK17197'!M100 -> 0 | G60: ='SO 05 - OEZ (ODBERNÉ ELEK17197'!I100 -> 0 | H60: ='SO 05 - OEZ (ODBERNÉ ELEK17197'!S100 -> 3.36 | I60: ='SO 05 - OEZ (ODBERNÉ ELEK17197'!V100 -> 0
B64: Rozpočet
B66: Odberateľ: Športový klub Miko fit-box | H66: Spracoval: | I66: Ing. Ján Halgaš
B67: Projektant: D. D. - ARCH s. r. o. | H67: Ks:
B68: Dodávateľ: ... | H68: Dátum: | I68: 21. 1. 2025
B69: Zákazka Centrum služieb pre zlepšenie fyzickej a pohybovej zdatnosti obyvateľov
B70: Objekt SO 05 - OEZ (ODBERNÉ ELEKTRICKÉ ZARIADENIE)
B73: Prehľad rozpočtových nákladov
B74: Por.č. | C74: Kód položky | D74: Názov | F74: Mj | G74: Množstvo | H74: Cena/Mj | I74: Cena celkom | P74: Hmotnosť/Mj | S74: Hmotnosť | V74: Sutina
D75: Montážne práce
C76: 921 | D76: M-21 ELEKTROMONTÁŽE
B77: 1 | C77: 21001016011 | D77: Rúrka elektroinštalačná tuhá HDPE D 50 mm uložená voľne | F77: m | G77: 7 | I77: =ROUND(G77*(H77),2) -> 0 | J77: =ROUND(G77*(N77),2) -> 11.76 | K77: =ROUND(G77*(O77),2) -> 0 | L77: =ROUND(G77*(H77),2) -> 0 | N77: 1.68 | P77: 0 | R77: 0 | S77: =ROUND(G77*(P77),3) -> 0 | V77: =ROUND(G77*(X77),3) -> 0 | X77: 0 | Z77: 0
B78: 2 | C78: 210100252 | D78: Ukončenie celoplastových káblov zmrašť. záklopkou alebo páskou do 4 x 25 mm2 | F78: kus | G78: 1 | I78: =ROUND(G78*(H78),2) -> 0 | J78: =ROUND(G78*(N78),2) -> 9.35 | K78: =ROUND(G78*(O78),2) -> 0 | L78: =ROUND(G78*(H78),2) -> 0 | N78: 9.35 | P78: 0 | R78: 0 | S78: =ROUND(G78*(P78),3) -> 0 | V78: =ROUND(G78*(X78),3) -> 0 | X78: 0 | Z78: 0
B79: 3 | C79: 210193053 | D79: Skriňa ER plastová TROJFÁZOVÝ, JEDNOTARIF, JEDEN ODBERATEĽ, prevedenie pre oblasť ZSE, SSE, VSE | F79: kus | G79: 1 | I79: =ROUND(G79*(H79),2) -> 0 | J79: =ROUND(G79*(N79),2) -> 20.01 | K79: =ROUND(G79*(O79),2) -> 0 | L79: =ROUND(G79*(H79),2) -> 0 | N79: 20.01 | P79: 0 | R79: 0 | S79: =ROUND(G79*(P79),3) -> 0 | V79: =ROUND(G79*(X79),3) -> 0 | X79: 0 | Z79: 0
B80: 4 | C80: 21080010111 | D80: Kábel medený CYKY 2x1,5 mm2 450/750 V uložený voľne | F80: m | G80: 62 | I80: =ROUND(G80*(H80),2) -> 0 | J80: =ROUND(G80*(N80),2) -> 17.98 | K80: =ROUND(G80*(O80),2) -> 0 | L80: =ROUND(G80*(H80),2) -> 0 | N80: 0.29 | P80: 0 | R80: 0 | S80: =ROUND(G80*(P80),3) -> 0 | V80: =ROUND(G80*(X80),3) -> 0 | X80: 0 | Z80: 0
B81: 5 | C81: 210901015 | D81: Silový kábel hliníkový 750-1000 V (v mm2) voľne uložený AYKY 750 V 4x16 | F81: m | G81: 74 | I81: =ROUND(G81*(H81),2) -> 0 | J81: =ROUND(G81*(N81),2) -> 74 | K81: =ROUND(G81*(O81),2) -> 0 | L81: =ROUND(G81*(H81),2) -> 0 | N81: 1 | P81: 0 | R81: 0 | S81: =ROUND(G81*(P81),3) -> 0 | V81: =ROUND(G81*(X81),3) -> 0 | X81: 0 | Z81: 0
B82: 6 | C82: HZS000214 | D82: Stavebno montážne práce najnáročnejšie na odbornosť - prehliadky pracoviska a revízie (Tr. 4) v rozsahu viac ako 4 a menej ako 8 hodín | F82: hod | G82: 8 | I82: =ROUND(G82*(H82),2) -> 0 | J82: =ROUND(G82*(N82),2) -> 234.56 | K82: =ROUND(G82*(O82),2) -> 0 | L82: =ROUND(G82*(H82),2) -> 0 | N82: 29.32 | P82: 0 | R82: 0 | S82: =ROUND(G82*(P82),3) -> 0 | V82: =ROUND(G82*(X82),3) -> 0 | X82: 0 | Z82: 0
B83: 7 | C83: 3410105000 | D83: Kábel/vodič pre pevné uloženie - medený CYKY-J 3x 1,5 | F83: M | G83: 62 | I83: =ROUND(G83*(H83),2) -> 0 | J83: =ROUND(G83*(N83),2) -> 48.36 | K83: =ROUND(G83*(O83),2) -> 0 | M83: =ROUND(G83*(H83),2) -> 0 | N83: 0.78 | P83: 0.0001 | R83: 0.0001 | S83: =ROUND(G83*(P83),3) -> 0.006 | V83: =ROUND(G83*(X83),3) -> 0 | X83: 0 | Z83: 0
B84: 8 | C84: 3410205600 | D84: Káble silové s hliníkovým jadrom AYKY-J 4x16 | F84: M | G84: 74 | I84: =ROUND(G84*(H84),2) -> 0 | J84: =ROUND(G84*(N84),2) -> 179.08 | K84: =ROUND(G84*(O84),2) -> 0 | M84: =ROUND(G84*(H84),2) -> 0 | N84: 2.42 | P84: 0 | R84: 0 | S84: =ROUND(G84*(P84),3) -> 0 | V84: =ROUND(G84*(X84),3) -> 0 | X84: 0 | Z84: 0
B85: 9 | C85: 3450721600 | D85: Trubka UPRM 50 | F85: M | G85: 7 | I85: =ROUND(G85*(H85),2) -> 0 | J85: =ROUND(G85*(N85),2) -> 22.82 | K85: =ROUND(G85*(O85),2) -> 0 | M85: =ROUND(G85*(H85),2) -> 0 | N85: 3.26 | P85: 0 | R85: 0 | S85: =ROUND(G85*(P85),3) -> 0 | V85: =ROUND(G85*(X85),3) -> 0 | X85: 0 | Z85: 0
B86: 10 | C86: 3451810410 | D86: Koncovka vnútorná a vonkajšia do 1kV štvorhranný kábel s plastovou izoláciou 502 K033-53/239 | F86: KUS | G86: 4 | I86: =ROUND(G86*(H86),2) -> 0 | J86: =ROUND(G86*(N86),2) -> 27.2 | K86: =ROUND(G86*(O86),2) -> 0 | M86: =ROUND(G86*(H86),2) -> 0 | N86: 6.8 | P86: 0 | R86: 0 | S86: =ROUND(G86*(P86),3) -> 0 | V86: =ROUND(G86*(X86),3) -> 0 | X86: 0 | Z86: 0
B87: 11 | C87: 3570192380 | D87: Elektromerová skriňa Z26 trojfázový, jednotarif, 1 odberateľ : 1 x hlavný trojpólový istič B16, 20, resp.25, nulový mostík | F87: KUS | G87: 1 | I87: =ROUND(G87*(H87),2) -> 0 | J87: =ROUND(G87*(N87),2) -> 106.16 | K87: =ROUND(G87*(O87),2) -> 0 | M87: =ROUND(G87*(H87),2) -> 0 | N87: 106.16 | P87: 0.016 | R87: 0.016 | S87: =ROUND(G87*(P87),3) -> 0.016 | V87: =ROUND(G87*(X87),3) -> 0 | X87: 0 | Z87: 0
C88: 921 | D88: M-21 ELEKTROMONTÁŽE | I88: =ROUND((SUM(I76:I87))/1,2) -> 0 | L88: =ROUND((SUM(L76:L87))/1,2) -> 0 | M88: =ROUND((SUM(M76:M87))/1,2) -> 0 | S88: =ROUND((SUM(S76:S87))/1,2) -> 0.02 | V88: =ROUND((SUM(V76:V87))/1,2) -> 0
C90: 946 | D90: M-46 ZEMNÉ PRÁCE PRI EXTERNÝCH MONTÁŽACH
B91: 12 | C91: 460200163 | D91: Hĺbenie káblovej ryhy 35 cm širokej a 80 cm hlbokej, v zemine triedy 3 | F91: m | G91: 35 | I91: =ROUND(G91*(H91),2) -> 0 | J91: =ROUND(G91*(N91),2) -> 253.4 | K91: =ROUND(G91*(O91),2) -> 0 | L91: =ROUND(G91*(H91),2) -> 0 | N91: 7.24 | P91: 0 | R91: 0 | S91: =ROUND(G91*(P91),3) -> 0 | V91: =ROUND(G91*(X91),3) -> 0 | X91: 0 | Z91: 0
B92: 13 | C92: 460420021 | D92: Zriadenie, rekonšt. káblového lôžka z piesku bez zakrytia, v ryhe šír. do 65 cm, hrúbky vrstvy 5 cm | F92: m | G92: 35 | I92: =ROUND(G92*(H92),2) -> 0 | J92: =ROUND(G92*(N92),2) -> 42.7 | K92: =ROUND(G92*(O92),2) -> 0 | L92: =ROUND(G92*(H92),2) -> 0 | N92: 1.22 | P92: 0 | R92: 0 | S92: =ROUND(G92*(P92),3) -> 0 | V92: =ROUND(G92*(X92),3) -> 0 | X92: 0 | Z92: 0
B93: 14 | C93: 460490012 | D93: Rozvinutie a uloženie výstražnej fólie z PVC do ryhy,šírka 33 cm | F93: m | G93: 35 | I93: =ROUND(G93*(H93),2) -> 0 | J93: =ROUND(G93*(N93),2) -> 22.75 | K93: =ROUND(G93*(O93),2) -> 0 | L93: =ROUND(G93*(H93),2) -> 0 | N93: 0.65 | P93: 0 | R93: 0 | S93: =ROUND(G93*(P93),3) -> 0 | V93: =ROUND(G93*(X93),3) -> 0 | X93: 0 | Z93: 0
B94: 15 | C94: 460560163 | D94: Ručný zásyp nezap. káblovej ryhy bez zhutn. zeminy, 35 cm širokej, 80 cm hlbokej v zemine tr. 3 | F94: m | G94: 35 | I94: =ROUND(G94*(H94),2) -> 0 | J94: =ROUND(G94*(N94),2) -> 95.55 | K94: =ROUND(G94*(O94),2) -> 0 | L94: =ROUND(G94*(H94),2) -> 0 | N94: 2.73 | P94: 0 | R94: 0 | S94: =ROUND(G94*(P94),3) -> 0 | V94: =ROUND(G94*(X94),3) -> 0 | X94: 0 | Z94: 0
B95: 16 | C95: 2830002000 | D95: Fólia červená v m | F95: M | G95: 35 | I95: =ROUND(G95*(H95),2) -> 0 | J95: =ROUND(G95*(N95),2) -> 22.4 | K95: =ROUND(G95*(O95),2) -> 0 | M95: =ROUND(G95*(H95),2) -> 0 | N95: 0.64 | P95: 0.00021 | R95: 0.00021 | S95: =ROUND(G95*(P95),3) -> 0.007 | V95: =ROUND(G95*(X95),3) -> 0 | X95: 0 | Z95: 0
B96: 17 | C96: 5831214500 | D96: Piesok | F96: T | G96: 3.332 | I96: =ROUND(G96*(H96),2) -> 0 | J96: =ROUND(G96*(N96),2) -> 150.54 | K96: =ROUND(G96*(O96),2) -> 0 | M96: =ROUND(G96*(H96),2) -> 0 | N96: 45.18 | P96: 1 | R96: 1 | S96: =ROUND(G96*(P96),3) -> 3.332 | V96: =ROUND(G96*(X96),3) -> 0 | X96: 0 | Z96: 0
C97: 946 | D97: M-46 ZEMNÉ PRÁCE PRI EXTERNÝCH MONTÁŽACH | I97: =ROUND((SUM(I90:I96))/1,2) -> 0 | L97: =ROUND((SUM(L90:L96))/1,2) -> 0 | M97: =ROUND((SUM(M90:M96))/1,2) -> 0 | S97: =ROUND((SUM(S90:S96))/1,2) -> 3.34 | V97: =ROUND((SUM(V90:V96))/1,2) -> 0
D99: Montážne práce | I99: =ROUND((SUM(I75:I98))/2,2) -> 0 | L99: =ROUND((SUM(L75:L98))/2,2) -> 0 | M99: =ROUND((SUM(M75:M98))/2,2) -> 0 | S99: =ROUND((SUM(S75:S98))/2,2) -> 3.36 | V99: =ROUND((SUM(V75:V98))/2,2) -> 0
D100: Celkom v EUR | I100: =ROUND((SUM(I75:I99))/3,2) -> 0 | K100: =ROUND((SUM(K75:K99))/3,2) -> 0 | L100: =ROUND((SUM(L75:L99))/3,2) -> 0 | M100: =ROUND((SUM(M75:M99))/3,2) -> 0 | S100: =ROUND((SUM(S75:S99))/3,2) -> 3.36 | V100: =ROUND((SUM(V75:V99))/3,2) -> 0 | Y100: =(SUM(Y75:Y99)) -> 0 | Z100: =(SUM(Z75:Z99)) -> 0
